Workbook

Sheet FEKVO_OSSZEHASONLITO
D1: ALAPADATOK_2010 | G1: TVK_ALAP | L1: TELJ_ALAP
A2: megye | B2: intkod | C2: nev | D2: Pályázat EGYNAPOS TVK2010 | E2: 4.pont TVK2010 AKTUALIZALVA | F2: Telj_10 200911-201010 | G2: 5.a)pont STRUKTVÁLT TÖBBLET | H2: 5.b) egyetem megyei országos egyházi szakkórház | I2: 5.c) egynapos | J2: Korrigált TVK 2011 | K2: TELJESÍTMÉNY LEFEDETTSÉG (TVK/TELJ) | L2: 5.a)pont STRUKTVÁLT TÖBBLET | M2: 5.b) egyetem megyei országos egyházi szakkórház | N2: 5.c) egynapos | O2: Korrigált TVK 2011 | P2: TELJESÍTMÉNY LEFEDETTSÉG (TVK/TELJ) | Q2: DIFF TVK | R2: DIFF TVK%
A3: 01 | B3: 1049 | C3: Pécs, Baranya megyei Kórház | D3: 0 | E3: 0 | F3: 0 | G3: =+FEKVO_TVK!N4 -> 0 | H3: =+FEKVO_TVK!T4 -> 0 | I3: =+FEKVO_TVK!Y4 -> 0 | J3: =+FEKVO_TVK!AH4 -> 0 | K3: =+IF(F3<>0,J3/F3,0) -> 0 | L3: =+FEKVO_TELJ_ALAP!W5 -> 0 | M3: =+FEKVO_TELJ_ALAP!AC5 -> 0 | N3: =+FEKVO_TELJ_ALAP!AJ5 -> 0 | O3: =+FEKVO_TELJ_ALAP!AR5 -> 0 | P3: =+IF(F3<>0,O3/F3,0) -> 0 | Q3: =+O3-J3 -> 0 | R3: =+IF(J3<>0,Q3/J3,0) -> 0
A4: 01 | B4: 1052 | C4: Mohács, VKh.Ri | D4: 481.69039 | E4: 6410.9591 | F4: 6811.5847 | G4: =+FEKVO_TVK!N5 -> 256.43837 | H4: =+FEKVO_TVK!T5 -> 0 | I4: =+FEKVO_TVK!Y5 -> 39.70886 | J4: =+FEKVO_TVK!AH5 -> 7188.7967 | K4: =+IF(F4<>0,J4/F4,0) -> 1.055378 | L4: =+FEKVO_TELJ_ALAP!W6 -> 272.46339 | M4: =+FEKVO_TELJ_ALAP!AC6 -> 0 | N4: =+FEKVO_TELJ_ALAP!AJ6 -> 39.70886 | O4: =+FEKVO_TELJ_ALAP!AR6 -> 7204.8218 | P4: =+IF(F4<>0,O4/F4,0) -> 1.0577306 | Q4: =+O4-J4 -> 16.025022 | R4: =+IF(J4<>0,Q4/J4,0) -> 0.0022291661
A5: 01 | B5: 2912 | C5: Pécsi Tudományegyetem OEKK | D5: 0 | E5: 96250.176 | F5: 110500.78 | G5: =+FEKVO_TVK!N6 -> 2887.5053 | H5: =+FEKVO_TVK!T6 -> 2919.2478 | I5: =+FEKVO_TVK!Y6 -> 1218.6363 | J5: =+FEKVO_TVK!AH6 -> 103275.57 | K5: =+IF(F5<>0,J5/F5,0) -> 0.93461391 | L5: =+FEKVO_TELJ_ALAP!W7 -> 3315.0234 | M5: =+FEKVO_TELJ_ALAP!AC7 -> 2938.2284 | N5: =+FEKVO_TELJ_ALAP!AJ7 -> 1218.6363 | O5: =+FEKVO_TELJ_ALAP!AR7 -> 103722.06 | P5: =+IF(F5<>0,O5/F5,0) -> 0.93865459 | Q5: =+O5-J5 -> 446.49869 | R5: =+IF(J5<>0,Q5/J5,0) -> 0.004323372
A6: 01 | B6: A316 | C6: Siklósi Kh. Hum.Eü.Nonprof.Kft | D6: 345.33598 | E6: 530.8309 | F6: 587.96632 | G6: =+FEKVO_TVK!N7 -> 26.541545 | H6: =+FEKVO_TVK!T7 -> 0 | I6: =+FEKVO_TVK!Y7 -> 0 | J6: =+FEKVO_TVK!AH7 -> 902.70842 | K6: =+IF(F6<>0,J6/F6,0) -> 1.5353063 | L6: =+FEKVO_TELJ_ALAP!W8 -> 29.398316 | M6: =+FEKVO_TELJ_ALAP!AC8 -> 0 | N6: =+FEKVO_TELJ_ALAP!AJ8 -> 0 | O6: =+FEKVO_TELJ_ALAP!AR8 -> 905.56519 | P6: =+IF(F6<>0,O6/F6,0) -> 1.5401651 | Q6: =+O6-J6 -> 2.8567712 | R6: =+IF(J6<>0,Q6/J6,0) -> 0.0031646666
A7: 01 | B7: C353 | C7: Uro Clin KFT, Pécs | D7: 840 | E7: 0 | F7: 0 | G7: =+FEKVO_TVK!N8 -> 0 | H7: =+FEKVO_TVK!T8 -> 0 | I7: =+FEKVO_TVK!Y8 -> 0 | J7: =+FEKVO_TVK!AH8 -> 840 | K7: =+IF(F7<>0,J7/F7,0) -> 0 | L7: =+FEKVO_TELJ_ALAP!W9 -> 0 | M7: =+FEKVO_TELJ_ALAP!AC9 -> 0 | N7: =+FEKVO_TELJ_ALAP!AJ9 -> 0 | O7: =+FEKVO_TELJ_ALAP!AR9 -> 840 | P7: =+IF(F7<>0,O7/F7,0) -> 0 | Q7: =+O7-J7 -> 0 | R7: =+IF(J7<>0,Q7/J7,0) -> 0
A8: 01 | B8: K327 | C8: Szigetvári Eü. Kft. | D8: 0 | E8: 4526.2428 | F8: 5031.077 | G8: =+FEKVO_TVK!N9 -> 181.04971 | H8: =+FEKVO_TVK!T9 -> 0 | I8: =+FEKVO_TVK!Y9 -> 42.963396 | J8: =+FEKVO_TVK!AH9 -> 4750.2559 | K8: =+IF(F8<>0,J8/F8,0) -> 0.94418272 | L8: =+FEKVO_TELJ_ALAP!W10 -> 201.24308 | M8: =+FEKVO_TELJ_ALAP!AC10 -> 0 | N8: =+FEKVO_TELJ_ALAP!AJ10 -> 42.963396 | O8: =+FEKVO_TELJ_ALAP!AR10 -> 4770.4493 | P8: =+IF(F8<>0,O8/F8,0) -> 0.94819645 | Q8: =+O8-J8 -> 20.193365 | R8: =+IF(J8<>0,Q8/J8,0) -> 0.0042510056
A9: 01 | B9: K526 | C9: Komlói Egészségcentrum Kft. | D9: 481.68302 | E9: 1708.3099 | F9: 2155.7683 | G9: =+FEKVO_TVK!N10 -> 85.415495 | H9: =+FEKVO_TVK!T10 -> 0 | I9: =+FEKVO_TVK!Y10 -> 0 | J9: =+FEKVO_TVK!AH10 -> 2275.4084 | K9: =+IF(F9<>0,J9/F9,0) -> 1.0554977 | L9: =+FEKVO_TELJ_ALAP!W11 -> 107.78842 | M9: =+FEKVO_TELJ_ALAP!AC11 -> 0 | N9: =+FEKVO_TELJ_ALAP!AJ11 -> 0 | O9: =+FEKVO_TELJ_ALAP!AR11 -> 2297.7813 | P9: =+IF(F9<>0,O9/F9,0) -> 1.0658758 | Q9: =+O9-J9 -> 22.37292 | R9: =+IF(J9<>0,Q9/J9,0) -> 0.0098324852
A10: 02 | B10: 1084 | C10: Baja, VKh.Ri. | D10: 0 | E10: 13353.012 | F10: 14303.076 | G10: =+FEKVO_TVK!N11 -> 667.65062 | H10: =+FEKVO_TVK!T11 -> 0 | I10: =+FEKVO_TVK!Y11 -> 267.95542 | J10: =+FEKVO_TVK!AH11 -> 14288.618 | K10: =+IF(F10<>0,J10/F10,0) -> 0.99898919 | L10: =+FEKVO_TELJ_ALAP!W12 -> 715.15381 | M10: =+FEKVO_TELJ_ALAP!AC12 -> 0 | N10: =+FEKVO_TELJ_ALAP!AJ12 -> 267.95542 | O10: =+FEKVO_TELJ_ALAP!AR12 -> 14336.122 | P10: =+IF(F10<>0,O10/F10,0) -> 1.0023104 | Q10: =+O10-J10 -> 47.503189 | R10: =+IF(J10<>0,Q10/J10,0) -> 0.0033245474
A11: 02 | B11: 1122 | C11: Kecskemét, BKM Önkorm. Kórháza | D11: 0 | E11: 45824.842 | F11: 54308.323 | G11: =+FEKVO_TVK!N12 -> 916.49683 | H11: =+FEKVO_TVK!T12 -> 1389.8579 | I11: =+FEKVO_TVK!Y12 -> 555.77616 | J11: =+FEKVO_TVK!AH12 -> 48693.842 | K11: =+IF(F11<>0,J11/F11,0) -> 0.89661839 | L11: =+FEKVO_TELJ_ALAP!W13 -> 1086.1665 | M11: =+FEKVO_TELJ_ALAP!AC13 -> 1444.0645 | N11: =+FEKVO_TELJ_ALAP!AJ13 -> 555.77616 | O11: =+FEKVO_TELJ_ALAP!AR13 -> 48910.849 | P11: =+IF(F11<>0,O11/F11,0) -> 0.90061423 | Q11: =+O11-J11 -> 217.00717 | R11: =+IF(J11<>0,Q11/J11,0) -> 0.0044565629
A12: 02 | B12: 1129 | C12: Kalocsa, VKh. Ri. | D12: 0 | E12: 6569.9331 | F12: 6969.1251 | G12: =+FEKVO_TVK!N13 -> 262.79732 | H12: =+FEKVO_TVK!T13 -> 0 | I12: =+FEKVO_TVK!Y13 -> 41.623708 | J12: =+FEKVO_TVK!AH13 -> 6874.3541 | K12: =+IF(F12<>0,J12/F12,0) -> 0.98640132 | L12: =+FEKVO_TELJ_ALAP!W14 -> 278.765 | M12: =+FEKVO_TELJ_ALAP!AC14 -> 0 | N12: =+FEKVO_TELJ_ALAP!AJ14 -> 41.623708 | O12: =+FEKVO_TELJ_ALAP!AR14 -> 6890.3218 | P12: =+IF(F12<>0,O12/F12,0) -> 0.98869252 | Q12: =+O12-J12 -> 15.967677 | R12: =+IF(J12<>0,Q12/J12,0) -> 0.0023227895
A13: 02 | B13: 1135 | C13: Kiskunfélegyh.Vkh.Ri.Gyf.Re.Kp | D13: 0 | E13: 2910.3089 | F13: 3054.7799 | G13: =+FEKVO_TVK!N14 -> 145.51545 | H13: =+FEKVO_TVK!T14 -> 0 | I13: =+FEKVO_TVK!Y14 -> 21.500018 | J13: =+FEKVO_TVK!AH14 -> 3077.3244 | K13: =+IF(F13<>0,J13/F13,0) -> 1.0073801 | L13: =+FEKVO_TELJ_ALAP!W15 -> 152.739 | M13: =+FEKVO_TELJ_ALAP!AC15 -> 0 | N13: =+FEKVO_TELJ_ALAP!AJ15 -> 21.500018 | O13: =+FEKVO_TELJ_ALAP!AR15 -> 3084.5479 | P13: =+IF(F13<>0,O13/F13,0) -> 1.0097447 | Q13: =+O13-J13 -> 7.2235509 | R13: =+IF(J13<>0,Q13/J13,0) -> 0.0023473479
A14: 02 | B14: M280 | C14: Semmelweis Halasi Kh. Np. Kft. | D14: 342.24 | E14: 14084.446 | F14: 15043.188 | G14: =+FEKVO_TVK!N15 -> 281.68891 | H14: =+FEKVO_TVK!T15 -> 0 | I14: =+FEKVO_TVK!Y15 -> 190.3949 | J14: =+FEKVO_TVK!AH15 -> 14898.769 | K14: =+IF(F14<>0,J14/F14,0) -> 0.99039972 | L14: =+FEKVO_TELJ_ALAP!W16 -> 300.86377 | M14: =+FEKVO_TELJ_ALAP!AC16 -> 0 | N14: =+FEKVO_TELJ_ALAP!AJ16 -> 190.3949 | O14: =+FEKVO_TELJ_ALAP!AR16 -> 14917.944 | P14: =+IF(F14<>0,O14/F14,0) -> 0.99167437 | Q14: =+O14-J14 -> 19.174853 | R14: =+IF(J14<>0,Q14/J14,0) -> 0.0012870092
... A143: 20 | B143: K620 | C143: Bp. IX.ker. Szakrendelő Kft. | D143: 342.55594 | E143: 0 | F143: 0 | G143: =+FEKVO_TVK!N144 -> 0 | H143: =+FEKVO_TVK!T144 -> 0 | I143: =+FEKVO_TVK!Y144 -> 0 | J143: =+FEKVO_TVK!AH144 -> 342.55594 | K143: =+IF(F143<>0,J143/F143,0) -> 0 | L143: =+FEKVO_TELJ_ALAP!W145 -> 0 | M143: =+FEKVO_TELJ_ALAP!AC145 -> 0 | N143: =+FEKVO_TELJ_ALAP!AJ145 -> 0 | O143: =+FEKVO_TELJ_ALAP!AR145 -> 342.55594 | P143: =+IF(F143<>0,O143/F143,0) -> 0 | Q143: =+O143-J143 -> 0 | R143: =+IF(J143<>0,Q143/J143,0) -> 0
C144: Összesen | D144: =+SUM(D3:D143) -> 24493.216 | E144: =+SUM(E3:E143) -> 1880669 | F144: =+SUM(F3:F143) -> 2114236.5 | G144: =+SUM(G3:G143) -> 42023.501 | H144: =+SUM(H3:H143) -> 37000 | I144: =+SUM(I3:I143) -> 26172.575 | J144: =+SUM(J3:J143) -> 2022890.9 | K144: =+IF(F144<>0,J144/F144,0) -> 0.956795 | L144: =+SUM(L3:L143) -> 47553.738 | M144: =+SUM(M3:M143) -> 37000 | N144: =+SUM(N3:N143) -> 26172.575 | O144: =+SUM(O3:O143) -> 2027464.6 | P144: =+IF(F144<>0,O144/F144,0) -> 0.95895828 | Q144: =+O144-J144 -> 4573.6785 | R144: =+IF(J144<>0,Q144/J144,0) -> 0.0022609615

Sheet FEKVO_TELJ_ALAP
A1: FEKVŐ | W1: =+W2-W3 -> 10446.262 | AC1: =+AC2-AC3 -> 0 | AD1: A RENDELKEZÉSRE ÁLLÓ SÚLYSZÁŰM KERET 6400 SÚLYSZÁMMAL MEGEMELVE | AJ1: =+AJ2-AJ3 -> -7172.5747 | AK1: =+AJ1+AC1+W1+6400 -> 9673.6868 | AL1: ki nem osztott | AM1: =+AQ146 -> -11576.075
O2: felső | P2: 0 | Q2: -0.05 | R2: -0.1 | S2: -0.15 | T2: -0.28 | U2: -1 | W2: 58000 | AC2: 37000 | AJ2: 19000 | AM2: =+AK1+AM1 -> -1902.3883
O3: többlet | P3: 0.01 | Q3: 0.02 | R3: 0.03 | S3: 0.04 | T3: 0.05 | W3: =+MIN(W2,U146) -> 47553.738 | AC3: =+MIN(AC2,Y146) -> 37000 | AG3: 0.2 | AI3: 0 | AJ3: =+AJ146 -> 26172.575
A4: megye | B4: intkod | C4: Kulcs | D4: egynapos | E4: Speeciális | F4: nev | G4: Pályázat EGYNAPOS TVK2010 | H4: 4.pont TVK2010 AKTUALIZALVA | I4: Telj_10 200911-201010 | J4: TVK2007 I.FELEV | K4: TVK2007 II.FELEV | L4: STRUKT VALT HATASA % | M4: TVK2006 12hó | N4: TVK2008 12hó | O4: STRUKT VALT HATASA % | P4: [0-5%[ | Q4: [5-10%[ | R4: [10-15%[ | S4: [15-28%[ | T4: [28- %[ | U4: Többlet | V4: Arány | W4: 5.a)pont STRUKTVÁLT TÖBBLET | X4: egyetem megyei országos egyházi szakkórház | Y4: TELJ2010 | Z4: TVK kihasználtság | AA4: Figyelembevehető (TVK kihasz>102%) | AB4: Arány | AC4: 5.b) egyetem megyei országos egyházi szakkórház | AD4: egynapos lehetséges | AE4: egynaposként elszámolt | AF4: Egynapos arány | AG4: lehetséges telj 20%-a | AH4: figyelembevehető többlet (>100 súlyszám a lehetséges 20%-a) | AI4: figyelembevehető többlet ii.-II. (egynapos arány >5%) | AJ4: 5.c) egynapos | AK4: TVK2011 ÉVES | AL4: EGYNAPOS TVK2011 | AM4: Össz TVK_2011 | AN4: TVK2010 miniszteri keret | AO4: TVK2010 miniszteri kerettel | AP4: TVK2010 miniszeri kerettel és egynapossal | AQ4: TVK hiány 2011-2010 | AR4: Korrigált TVK 2011
A5: 01 | B5: 1049 | C5: =CONCATENATE("xx",B5) -> xx1049 | D5: 0 | E5: 0 | F5: Pécs, Baranya megyei Kórház | G5: 0 | H5: 0 | I5: 0 | J5: 0 | K5: 0 | L5: =+IF(J5<>0,K5/J5-1,0) -> 0 | M5: 0 | N5: 0 | O5: =+IF(M5<>0,N5/M5-1,0) -> 0 | P5: =+IF(AND($O5<=P$2,$O5>Q$2),P$3,0)*$I5 -> 0 | Q5: =+IF(AND($O5<=Q$2,$O5>R$2),Q$3,0)*$I5 -> 0 | R5: =+IF(AND($O5<=R$2,$O5>S$2),R$3,0)*$I5 -> 0 | S5: =+IF(AND($O5<=S$2,$O5>T$2),S$3,0)*$I5 -> 0 | T5: =+IF(AND($O5<=T$2,$O5>U$2),T$3,0)*$I5 -> 0 | U5: =+SUM(P5:T5) -> 0 | V5: =+U5/$U$146 -> 0 | W5: =+V5*W$3 -> 0 | Y5: =+IF(X5<>"",I5,"") | AA5: =+IF($Z5>1.02,$Y5,0) -> 0 | AB5: =+IF(X5<>"",AA5/$AA$146,"") | AC5: =+IF(X5<>"",AB5*$AC$3,0) -> 0 | AD5: 0 | AE5: 0 | AF5: =+IF(AD5<>0,AE5/AD5,0) -> 0 | AG5: =$AG$3*AD5 -> 0 | AH5: =IF(AD5<100,1,0) -> 1 | AI5: =IF(AF5<$AI$3,"1",0) -> 0 | AJ5: =IF((AH5+AI5)>0,0,AG5) -> 0 | AK5: =+H5+W5+AC5 -> 0 | AL5: =+G5+AJ5 -> 0 | AM5: =AK5+AL5 -> 0 | AN5: 0 | AO5: =+AN5+H5 -> 0 | AP5: =+AO5+G5 -> 0 | AQ5: =IF((AM5-AP5)<0,AM5-AP5,0) -> 0 | AR5: =+AM5+(AQ5*-1) -> 0
A6: 01 | B6: 1052 | C6: =CONCATENATE("xx",B6) -> xx1052 | D6: 1 | E6: 0 | F6: Mohács, VKh.Ri | G6: 481.69039 | H6: 6410.9591 | I6: 6811.5847 | J6: 4759.24 | K6: 3659.38 | L6: =+IF(J6<>0,K6/J6-1,0) -> -0.23109992 | M6: 10328.44 | N6: 8270.8805 | O6: =+IF(M6<>0,N6/M6-1,0) -> -0.199213 | P6: =+IF(AND($O6<=P$2,$O6>Q$2),P$3,0)*$I6 -> 0 | Q6: =+IF(AND($O6<=Q$2,$O6>R$2),Q$3,0)*$I6 -> 0 | R6: =+IF(AND($O6<=R$2,$O6>S$2),R$3,0)*$I6 -> 0 | S6: =+IF(AND($O6<=S$2,$O6>T$2),S$3,0)*$I6 -> 272.46339 | T6: =+IF(AND($O6<=T$2,$O6>U$2),T$3,0)*$I6 -> 0 | U6: =+SUM(P6:T6) -> 272.46339 | V6: =+U6/$U$146 -> 0.0057295892 | W6: =+V6*W$3 -> 272.46339 | Y6: =+IF(X6<>"",I6,"") | AA6: =+IF($Z6>1.02,$Y6,0) -> 0 | AB6: =+IF(X6<>"",AA6/$AA$146,"") | AC6: =+IF(X6<>"",AB6*$AC$3,0) -> 0 | AD6: 198.5443 | AE6: 19.67586 | AF6: =+IF(AD6<>0,AE6/AD6,0) -> 0.099100604 | AG6: =$AG$3*AD6 -> 39.70886 | AH6: =IF(AD6<100,1,0) -> 0 | AI6: =IF(AF6<$AI$3,"1",0) -> 0 | AJ6: =IF((AH6+AI6)>0,0,AG6) -> 39.70886 | AK6: =+H6+W6+AC6 -> 6683.4225 | AL6: =+G6+AJ6 -> 521.39925 | AM6: =AK6+AL6 -> 7204.8218 | AN6: 0 | AO6: =+AN6+H6 -> 6410.9591 | AP6: =+AO6+G6 -> 6892.6495 | AQ6: =IF((AM6-AP6)<0,AM6-AP6,0) -> 0 | AR6: =+AM6+(AQ6*-1) -> 7204.8218
A7: 01 | B7: 2912 | C7: =CONCATENATE("xx",B7) -> xx2912 | D7: 0 | E7: 0 | F7: Pécsi Tudományegyetem OEKK | G7: 0 | H7: 96250.176 | I7: 110500.78 | J7: 60768.7 | K7: 52966.75 | L7: =+IF(J7<>0,K7/J7-1,0) -> -0.12838764 | M7: 127893.28 | N7: 113385.33 | O7: =+IF(M7<>0,N7/M7-1,0) -> -0.11343794 | P7: =+IF(AND($O7<=P$2,$O7>Q$2),P$3,0)*$I7 -> 0 | Q7: =+IF(AND($O7<=Q$2,$O7>R$2),Q$3,0)*$I7 -> 0 | R7: =+IF(AND($O7<=R$2,$O7>S$2),R$3,0)*$I7 -> 3315.0234 | S7: =+IF(AND($O7<=S$2,$O7>T$2),S$3,0)*$I7 -> 0 | T7: =+IF(AND($O7<=T$2,$O7>U$2),T$3,0)*$I7 -> 0 | U7: =+SUM(P7:T7) -> 3315.0234 | V7: =+U7/$U$146 -> 0.069711099 | W7: =+V7*W$3 -> 3315.0234 | X7: egyetem | Y7: =+IF(X7<>"",I7,"") -> 110500.78 | Z7: =I7/H7 -> 1.1480579 | AA7: =+IF($Z7>1.02,$Y7,0) -> 110500.78 | AB7: =+IF(X7<>"",AA7/$AA$146,"") -> 0.079411578 | AC7: =+IF(X7<>"",AB7*$AC$3,0) -> 2938.2284 | AD7: 6093.1813 | AE7: 1197.5706 | AF7: =+IF(AD7<>0,AE7/AD7,0) -> 0.19654275 | AG7: =$AG$3*AD7 -> 1218.6363 | AH7: =IF(AD7<100,1,0) -> 0 | AI7: =IF(AF7<$AI$3,"1",0) -> 0 | AJ7: =IF((AH7+AI7)>0,0,AG7) -> 1218.6363 | AK7: =+H7+W7+AC7 -> 102503.43 | AL7: =+G7+AJ7 -> 1218.6363 | AM7: =AK7+AL7 -> 103722.06 | AN7: 5301 | AO7: =+AN7+H7 -> 101551.18 | AP7: =+AO7+G7 -> 101551.18 | AQ7: =IF((AM7-AP7)<0,AM7-AP7,0) -> 0 | AR7: =+AM7+(AQ7*-1) -> 103722.06
A8: 01 | B8: A316 | C8: =CONCATENATE("xx",B8) -> xxA316 | D8: 1 | E8: 0 | F8: Siklósi Kh. Hum.Eü.Nonprof.Kft | G8: 345.33598 | H8: 530.8309 | I8: 587.96632 | J8: 1220.24 | K8: 415.25 | L8: =+IF(J8<>0,K8/J8-1,0) -> -0.65969809 | M8: 2705.97 | N8: 1089.8968 | O8: =+IF(M8<>0,N8/M8-1,0) -> -0.59722511 | P8: =+IF(AND($O8<=P$2,$O8>Q$2),P$3,0)*$I8 -> 0 | Q8: =+IF(AND($O8<=Q$2,$O8>R$2),Q$3,0)*$I8 -> 0 | R8: =+IF(AND($O8<=R$2,$O8>S$2),R$3,0)*$I8 -> 0 | S8: =+IF(AND($O8<=S$2,$O8>T$2),S$3,0)*$I8 -> 0 | T8: =+IF(AND($O8<=T$2,$O8>U$2),T$3,0)*$I8 -> 29.398316 | U8: =+SUM(P8:T8) -> 29.398316 | V8: =+U8/$U$146 -> 0.00061821251 | W8: =+V8*W$3 -> 29.398316 | Y8: =+IF(X8<>"",I8,"") | AA8: =+IF($Z8>1.02,$Y8,0) -> 0 | AB8: =+IF(X8<>"",AA8/$AA$146,"") | AC8: =+IF(X8<>"",AB8*$AC$3,0) -> 0 | AD8: 0 | AE8: 0 | AF8: =+IF(AD8<>0,AE8/AD8,0) -> 0 | AG8: =$AG$3*AD8 -> 0 | AH8: =IF(AD8<100,1,0) -> 1 | AI8: =IF(AF8<$AI$3,"1",0) -> 0 | AJ8: =IF((AH8+AI8)>0,0,AG8) -> 0 | AK8: =+H8+W8+AC8 -> 560.22921 | AL8: =+G8+AJ8 -> 345.33598 | AM8: =AK8+AL8 -> 905.56519 | AN8: 0 | AO8: =+AN8+H8 -> 530.8309 | AP8: =+AO8+G8 -> 876.16687 | AQ8: =IF((AM8-AP8)<0,AM8-AP8,0) -> 0 | AR8: =+AM8+(AQ8*-1) -> 905.56519
A9: 01 | B9: C353 | C9: =CONCATENATE("xx",B9) -> xxC353 | D9: 1 | E9: 0 | F9: Uro Clin KFT, Pécs | G9: 840 | H9: 0 | I9: 0 | J9: 0 | K9: 0 | L9: =+IF(J9<>0,K9/J9-1,0) -> 0 | M9: 0 | N9: 0 | O9: =+IF(M9<>0,N9/M9-1,0) -> 0 | P9: =+IF(AND($O9<=P$2,$O9>Q$2),P$3,0)*$I9 -> 0 | Q9: =+IF(AND($O9<=Q$2,$O9>R$2),Q$3,0)*$I9 -> 0 | R9: =+IF(AND($O9<=R$2,$O9>S$2),R$3,0)*$I9 -> 0 | S9: =+IF(AND($O9<=S$2,$O9>T$2),S$3,0)*$I9 -> 0 | T9: =+IF(AND($O9<=T$2,$O9>U$2),T$3,0)*$I9 -> 0 | U9: =+SUM(P9:T9) -> 0 | V9: =+U9/$U$146 -> 0 | W9: =+V9*W$3 -> 0 | Y9: =+IF(X9<>"",I9,"") | AA9: =+IF($Z9>1.02,$Y9,0) -> 0 | AB9: =+IF(X9<>"",AA9/$AA$146,"") | AC9: =+IF(X9<>"",AB9*$AC$3,0) -> 0 | AD9: 1.82472 | AE9: 0 | AF9: =+IF(AD9<>0,AE9/AD9,0) -> 0 | AG9: =$AG$3*AD9 -> 0.364944 | AH9: =IF(AD9<100,1,0) -> 1 | AI9: =IF(AF9<$AI$3,"1",0) -> 0 | AJ9: =IF((AH9+AI9)>0,0,AG9) -> 0 | AK9: =+H9+W9+AC9 -> 0 | AL9: =+G9+AJ9 -> 840 | AM9: =AK9+AL9 -> 840 | AN9: 0 | AO9: =+AN9+H9 -> 0 | AP9: =+AO9+G9 -> 840 | AQ9: =IF((AM9-AP9)<0,AM9-AP9,0) -> 0 | AR9: =+AM9+(AQ9*-1) -> 840
A10: 01 | B10: K327 | C10: =CONCATENATE("xx",B10) -> xxK327 | D10: 0 | E10: 0 | F10: Szigetvári Eü. Kft. | G10: 0 | H10: 4526.2428 | I10: 5031.077 | J10: 3216.52 | K10: 2492.52 | L10: =+IF(J10<>0,K10/J10-1,0) -> -0.22508798 | M10: 6983.7 | N10: 5501.2287 | O10: =+IF(M10<>0,N10/M10-1,0) -> -0.21227592 | P10: =+IF(AND($O10<=P$2,$O10>Q$2),P$3,0)*$I10 -> 0 | Q10: =+IF(AND($O10<=Q$2,$O10>R$2),Q$3,0)*$I10 -> 0 | R10: =+IF(AND($O10<=R$2,$O10>S$2),R$3,0)*$I10 -> 0 | S10: =+IF(AND($O10<=S$2,$O10>T$2),S$3,0)*$I10 -> 201.24308 | T10: =+IF(AND($O10<=T$2,$O10>U$2),T$3,0)*$I10 -> 0 | U10: =+SUM(P10:T10) -> 201.24308 | V10: =+U10/$U$146 -> 0.0042319087 | W10: =+V10*W$3 -> 201.24308 | Y10: =+IF(X10<>"",I10,"") | AA10: =+IF($Z10>1.02,$Y10,0) -> 0 | AB10: =+IF(X10<>"",AA10/$AA$146,"") | AC10: =+IF(X10<>"",AB10*$AC$3,0) -> 0 | AD10: 214.81698 | AE10: 1.92194 | AF10: =+IF(AD10<>0,AE10/AD10,0) -> 0.0089468719 | AG10: =$AG$3*AD10 -> 42.963396 | AH10: =IF(AD10<100,1,0) -> 0 | AI10: =IF(AF10<$AI$3,"1",0) -> 0 | AJ10: =IF((AH10+AI10)>0,0,AG10) -> 42.963396 | AK10: =+H10+W10+AC10 -> 4727.4859 | AL10: =+G10+AJ10 -> 42.963396 | AM10: =AK10+AL10 -> 4770.4493 | AN10: 0 | AO10: =+AN10+H10 -> 4526.2428 | AP10: =+AO10+G10 -> 4526.2428 | AQ10: =IF((AM10-AP10)<0,AM10-AP10,0) -> 0 | AR10: =+AM10+(AQ10*-1) -> 4770.4493
A11: 01 | B11: K526 | C11: =CONCATENATE("xx",B11) -> xxK526 | D11: 1 | E11: 0 | F11: Komlói Egészségcentrum Kft. | G11: 481.68302 | H11: 1708.3099 | I11: 2155.7683 | J11: 2139.93 | K11: 880.71 | L11: =+IF(J11<>0,K11/J11-1,0) -> -0.58843981 | M11: 4886.57 | N11: 2315.8413 | O11: =+IF(M11<>0,N11/M11-1,0) -> -0.5260804 | P11: =+IF(AND($O11<=P$2,$O11>Q$2),P$3,0)*$I11 -> 0 | Q11: =+IF(AND($O11<=Q$2,$O11>R$2),Q$3,0)*$I11 -> 0 | R11: =+IF(AND($O11<=R$2,$O11>S$2),R$3,0)*$I11 -> 0 | S11: =+IF(AND($O11<=S$2,$O11>T$2),S$3,0)*$I11 -> 0 | T11: =+IF(AND($O11<=T$2,$O11>U$2),T$3,0)*$I11 -> 107.78842 | U11: =+SUM(P11:T11) -> 107.78842 | V11: =+U11/$U$146 -> 0.0022666654 | W11: =+V11*W$3 -> 107.78842 | Y11: =+IF(X11<>"",I11,"") | AA11: =+IF($Z11>1.02,$Y11,0) -> 0 | AB11: =+IF(X11<>"",AA11/$AA$146,"") | AC11: =+IF(X11<>"",AB11*$AC$3,0) -> 0 | AD11: 72.24561 | AE11: 0.37552 | AF11: =+IF(AD11<>0,AE11/AD11,0) -> 0.0051978245 | AG11: =$AG$3*AD11 -> 14.449122 | AH11: =IF(AD11<100,1,0) -> 1 | AI11: =IF(AF11<$AI$3,"1",0) -> 0 | AJ11: =IF((AH11+AI11)>0,0,AG11) -> 0 | AK11: =+H11+W11+AC11 -> 1816.0983 | AL11: =+G11+AJ11 -> 481.68302 | AM11: =AK11+AL11 -> 2297.7813 | AN11: 47 | AO11: =+AN11+H11 -> 1755.3099 | AP11: =+AO11+G11 -> 2236.9929 | AQ11: =IF((AM11-AP11)<0,AM11-AP11,0) -> 0 | AR11: =+AM11+(AQ11*-1) -> 2297.7813
A12: 02 | B12: 1084 | C12: =CONCATENATE("xx",B12) -> xx1084 | D12: 0 | E12: 0 | F12: Baja, VKh.Ri. | G12: 0 | H12: 13353.012 | I12: 14303.076 | J12: 9230.39 | K12: 6630.9 | L12: =+IF(J12<>0,K12/J12-1,0) -> -0.28162299 | M12: 21669.6 | N12: 14221.689 | O12: =+IF(M12<>0,N12/M12-1,0) -> -0.34370322 | P12: =+IF(AND($O12<=P$2,$O12>Q$2),P$3,0)*$I12 -> 0 | Q12: =+IF(AND($O12<=Q$2,$O12>R$2),Q$3,0)*$I12 -> 0 | R12: =+IF(AND($O12<=R$2,$O12>S$2),R$3,0)*$I12 -> 0 | S12: =+IF(AND($O12<=S$2,$O12>T$2),S$3,0)*$I12 -> 0 | T12: =+IF(AND($O12<=T$2,$O12>U$2),T$3,0)*$I12 -> 715.15381 | U12: =+SUM(P12:T12) -> 715.15381 | V12: =+U12/$U$146 -> 0.015038856 | W12: =+V12*W$3 -> 715.15381 | Y12: =+IF(X12<>"",I12,"") | AA12: =+IF($Z12>1.02,$Y12,0) -> 0 | AB12: =+IF(X12<>"",AA12/$AA$146,"") | AC12: =+IF(X12<>"",AB12*$AC$3,0) -> 0 | AD12: 1339.7771 | AE12: 29.70904 | AF12: =+IF(AD12<>0,AE12/AD12,0) -> 0.022174614 | AG12: =$AG$3*AD12 -> 267.95542 | AH12: =IF(AD12<100,1,0) -> 0 | AI12: =IF(AF12<$AI$3,"1",0) -> 0 | AJ12: =IF((AH12+AI12)>0,0,AG12) -> 267.95542 | AK12: =+H12+W12+AC12 -> 14068.166 | AL12: =+G12+AJ12 -> 267.95542 | AM12: =AK12+AL12 -> 14336.122 | AN12: 0 | AO12: =+AN12+H12 -> 13353.012 | AP12: =+AO12+G12 -> 13353.012 | AQ12: =IF((AM12-AP12)<0,AM12-AP12,0) -> 0 | AR12: =+AM12+(AQ12*-1) -> 14336.122
A13: 02 | B13: 1122 | C13: =CONCATENATE("xx",B13) -> xx1122 | D13: 0 | E13: 0 | F13: Kecskemét, BKM Önkorm. Kórháza | G13: 0 | H13: 45824.842 | I13: 54308.323 | J13: 26456.24 | K13: 25457.99 | L13: =+IF(J13<>0,K13/J13-1,0) -> -0.037732119 | M13: 57498.61 | N13: 53955.397 | O13: =+IF(M13<>0,N13/M13-1,0) -> -0.061622593 | P13: =+IF(AND($O13<=P$2,$O13>Q$2),P$3,0)*$I13 -> 0 | Q13: =+IF(AND($O13<=Q$2,$O13>R$2),Q$3,0)*$I13 -> 1086.1665 | R13: =+IF(AND($O13<=R$2,$O13>S$2),R$3,0)*$I13 -> 0 | S13: =+IF(AND($O13<=S$2,$O13>T$2),S$3,0)*$I13 -> 0 | T13: =+IF(AND($O13<=T$2,$O13>U$2),T$3,0)*$I13 -> 0 | U13: =+SUM(P13:T13) -> 1086.1665 | V13: =+U13/$U$146 -> 0.022840822 | W13: =+V13*W$3 -> 1086.1665 | X13: megyei | Y13: =+IF(X13<>"",I13,"") -> 54308.323 | Z13: =I13/H13 -> 1.1851285 | AA13: =+IF($Z13>1.02,$Y13,0) -> 54308.323 | AB13: =+IF(X13<>"",AA13/$AA$146,"") -> 0.039028771 | AC13: =+IF(X13<>"",AB13*$AC$3,0) -> 1444.0645 | AD13: 2778.8808 | AE13: 779.94903 | AF13: =+IF(AD13<>0,AE13/AD13,0) -> 0.2806702 | AG13: =$AG$3*AD13 -> 555.77616 | AH13: =IF(AD13<100,1,0) -> 0 | AI13: =IF(AF13<$AI$3,"1",0) -> 0 | AJ13: =IF((AH13+AI13)>0,0,AG13) -> 555.77616 | AK13: =+H13+W13+AC13 -> 48355.073 | AL13: =+G13+AJ13 -> 555.77616 | AM13: =AK13+AL13 -> 48910.849 | AN13: 2869 | AO13: =+AN13+H13 -> 48693.842 | AP13: =+AO13+G13 -> 48693.842 | AQ13: =IF((AM13-AP13)<0,AM13-AP13,0) -> 0 | AR13: =+AM13+(AQ13*-1) -> 48910.849
A14: 02 | B14: 1129 | C14: =CONCATENATE("xx",B14) -> xx1129 | D14: 0 | E14: 0 | F14: Kalocsa, VKh. Ri. | G14: 0 | H14: 6569.9331 | I14: 6969.1251 | J14: 4666.78 | K14: 3641.15 | L14: =+IF(J14<>0,K14/J14-1,0) -> -0.21977252 | M14: 9914.71 | N14: 7708.9852 | O14: =+IF(M14<>0,N14/M14-1,0) -> -0.22246993 | P14: =+IF(AND($O14<=P$2,$O14>Q$2),P$3,0)*$I14 -> 0 | Q14: =+IF(AND($O14<=Q$2,$O14>R$2),Q$3,0)*$I14 -> 0 | R14: =+IF(AND($O14<=R$2,$O14>S$2),R$3,0)*$I14 -> 0 | S14: =+IF(AND($O14<=S$2,$O14>T$2),S$3,0)*$I14 -> 278.765 | T14: =+IF(AND($O14<=T$2,$O14>U$2),T$3,0)*$I14 -> 0 | U14: =+SUM(P14:T14) -> 278.765 | V14: =+U14/$U$146 -> 0.0058621049 | W14: =+V14*W$3 -> 278.765 | Y14: =+IF(X14<>"",I14,"") | AA14: =+IF($Z14>1.02,$Y14,0) -> 0 | AB14: =+IF(X14<>"",AA14/$AA$146,"") | AC14: =+IF(X14<>"",AB14*$AC$3,0) -> 0 | AD14: 208.11854 | AE14: 0 | AF14: =+IF(AD14<>0,AE14/AD14,0) -> 0 | AG14: =$AG$3*AD14 -> 41.623708 | AH14: =IF(AD14<100,1,0) -> 0 | AI14: =IF(AF14<$AI$3,"1",0) -> 0 | AJ14: =IF((AH14+AI14)>0,0,AG14) -> 41.623708 | AK14: =+H14+W14+AC14 -> 6848.6981 | AL14: =+G14+AJ14 -> 41.623708 | AM14: =AK14+AL14 -> 6890.3218 | AN14: 0 | AO14: =+AN14+H14 -> 6569.9331 | AP14: =+AO14+G14 -> 6569.9331 | AQ14: =IF((AM14-AP14)<0,AM14-AP14,0) -> 0 | AR14: =+AM14+(AQ14*-1) -> 6890.3218
A15: 02 | B15: 1135 | C15: =CONCATENATE("xx",B15) -> xx1135 | D15: 0 | E15: 0 | F15: Kiskunfélegyh.Vkh.Ri.Gyf.Re.Kp | G15: 0 | H15: 2910.3089 | I15: 3054.7799 | J15: 2351.33 | K15: 1611.53 | L15: =+IF(J15<>0,K15/J15-1,0) -> -0.31463044 | M15: 5315.3 | N15: 3318.6799 | O15: =+IF(M15<>0,N15/M15-1,0) -> -0.37563638 | P15: =+IF(AND($O15<=P$2,$O15>Q$2),P$3,0)*$I15 -> 0 | Q15: =+IF(AND($O15<=Q$2,$O15>R$2),Q$3,0)*$I15 -> 0 | R15: =+IF(AND($O15<=R$2,$O15>S$2),R$3,0)*$I15 -> 0 | S15: =+IF(AND($O15<=S$2,$O15>T$2),S$3,0)*$I15 -> 0 | T15: =+IF(AND($O15<=T$2,$O15>U$2),T$3,0)*$I15 -> 152.739 | U15: =+SUM(P15:T15) -> 152.739 | V15: =+U15/$U$146 -> 0.0032119241 | W15: =+V15*W$3 -> 152.739 | Y15: =+IF(X15<>"",I15,"") | AA15: =+IF($Z15>1.02,$Y15,0) -> 0 | AB15: =+IF(X15<>"",AA15/$AA$146,"") | AC15: =+IF(X15<>"",AB15*$AC$3,0) -> 0 | AD15: 107.50009 | AE15: 17.57077 | AF15: =+IF(AD15<>0,AE15/AD15,0) -> 0.16344889 | AG15: =$AG$3*AD15 -> 21.500018 | AH15: =IF(AD15<100,1,0) -> 0 | AI15: =IF(AF15<$AI$3,"1",0) -> 0 | AJ15: =IF((AH15+AI15)>0,0,AG15) -> 21.500018 | AK15: =+H15+W15+AC15 -> 3063.0479 | AL15: =+G15+AJ15 -> 21.500018 | AM15: =AK15+AL15 -> 3084.5479 | AN15: 0 | AO15: =+AN15+H15 -> 2910.3089 | AP15: =+AO15+G15 -> 2910.3089 | AQ15: =IF((AM15-AP15)<0,AM15-AP15,0) -> 0 | AR15: =+AM15+(AQ15*-1) -> 3084.5479
A16: 02 | B16: M280 | C16: =CONCATENATE("xx",B16) -> xxM280 | D16: 0 | E16: 0 | F16: Semmelweis Halasi Kh. Np. Kft. | G16: 342.24 | H16: 14084.446 | I16: 15043.188 | J16: 8618.43 | K16: 8094.58 | L16: =+IF(J16<>0,K16/J16-1,0) -> -0.060782532 | M16: 19515.51 | N16: 17648.474 | O16: =+IF(M16<>0,N16/M16-1,0) -> -0.09566935 | P16: =+IF(AND($O16<=P$2,$O16>Q$2),P$3,0)*$I16 -> 0 | Q16: =+IF(AND($O16<=Q$2,$O16>R$2),Q$3,0)*$I16 -> 300.86377 | R16: =+IF(AND($O16<=R$2,$O16>S$2),R$3,0)*$I16 -> 0 | S16: =+IF(AND($O16<=S$2,$O16>T$2),S$3,0)*$I16 -> 0 | T16: =+IF(AND($O16<=T$2,$O16>U$2),T$3,0)*$I16 -> 0 | U16: =+SUM(P16:T16) -> 300.86377 | V16: =+U16/$U$146 -> 0.0063268163 | W16: =+V16*W$3 -> 300.86377 | Y16: =+IF(X16<>"",I16,"") | AA16: =+IF($Z16>1.02,$Y16,0) -> 0 | AB16: =+IF(X16<>"",AA16/$AA$146,"") | AC16: =+IF(X16<>"",AB16*$AC$3,0) -> 0 | AD16: 951.97448 | AE16: 555.23057 | AF16: =+IF(AD16<>0,AE16/AD16,0) -> 0.58324102 | AG16: =$AG$3*AD16 -> 190.3949 | AH16: =IF(AD16<100,1,0) -> 0 | AI16: =IF(AF16<$AI$3,"1",0) -> 0 | AJ16: =IF((AH16+AI16)>0,0,AG16) -> 190.3949 | AK16: =+H16+W16+AC16 -> 14385.309 | AL16: =+G16+AJ16 -> 532.6349 | AM16: =AK16+AL16 -> 14917.944 | AN16: 309 | AO16: =+AN16+H16 -> 14393.446 | AP16: =+AO16+G16 -> 14735.686 | AQ16: =IF((AM16-AP16)<0,AM16-AP16,0) -> 0 | AR16: =+AM16+(AQ16*-1) -> 14917.944
A17: 03 | B17: 1243 | C17: =CONCATENATE("xx",B17) -> xx1243 | D17: 0 | E17: 0 | F17: Orosháza, V.Egy.Gy.-M. Int. | G17: 0 | H17: 9001.8246 | I17: 9665.6338 | J17: 5882.08 | K17: 4985.12 | L17: =+IF(J17<>0,K17/J17-1,0) -> -0.15249028 | M17: 13134.42 | N17: 10554.356 | O17: =+IF(M17<>0,N17/M17-1,0) -> -0.19643535 | P17: =+IF(AND($O17<=P$2,$O17>Q$2),P$3,0)*$I17 -> 0 | Q17: =+IF(AND($O17<=Q$2,$O17>R$2),Q$3,0)*$I17 -> 0 | R17: =+IF(AND($O17<=R$2,$O17>S$2),R$3,0)*$I17 -> 0 | S17: =+IF(AND($O17<=S$2,$O17>T$2),S$3,0)*$I17 -> 386.62535 | T17: =+IF(AND($O17<=T$2,$O17>U$2),T$3,0)*$I17 -> 0 | U17: =+SUM(P17:T17) -> 386.62535 | V17: =+U17/$U$146 -> 0.008130283 | W17: =+V17*W$3 -> 386.62535 | Y17: =+IF(X17<>"",I17,"") | AA17: =+IF($Z17>1.02,$Y17,0) -> 0 | AB17: =+IF(X17<>"",AA17/$AA$146,"") | AC17: =+IF(X17<>"",AB17*$AC$3,0) -> 0 | AD17: 897.31336 | AE17: 14.05664 | AF17: =+IF(AD17<>0,AE17/AD17,0) -> 0.015665252 | AG17: =$AG$3*AD17 -> 179.46267 | AH17: =IF(AD17<100,1,0) -> 0 | AI17: =IF(AF17<$AI$3,"1",0) -> 0 | AJ17: =IF((AH17+AI17)>0,0,AG17) -> 179.46267 | AK17: =+H17+W17+AC17 -> 9388.4499 | AL17: =+G17+AJ17 -> 179.46267 | AM17: =AK17+AL17 -> 9567.9126 | AN17: 0 | AO17: =+AN17+H17 -> 9001.8246 | AP17: =+AO17+G17 -> 9001.8246 | AQ17: =IF((AM17-AP17)<0,AM17-AP17,0) -> 0 | AR17: =+AM17+(AQ17*-1) -> 9567.9126
A18: 03 | B18: 1248 | C18: =CONCATENATE("xx",B18) -> xx1248 | D18: 0 | E18: 0 | F18: Gyula, Pándy Kálmán MKh.Ri. | G18: 0 | H18: 32145.707 | I18: 37412.465 | J18: 20367.41 | K18: 18383.31 | L18: =+IF(J18<>0,K18/J18-1,0) -> -0.09741543 | M18: 46786.06 | N18: 39691.298 | O18: =+IF(M18<>0,N18/M18-1,0) -> -0.15164265 | P18: =+IF(AND($O18<=P$2,$O18>Q$2),P$3,0)*$I18 -> 0 | Q18: =+IF(AND($O18<=Q$2,$O18>R$2),Q$3,0)*$I18 -> 0 | R18: =+IF(AND($O18<=R$2,$O18>S$2),R$3,0)*$I18 -> 0 | S18: =+IF(AND($O18<=S$2,$O18>T$2),S$3,0)*$I18 -> 1496.4986 | T18: =+IF(AND($O18<=T$2,$O18>U$2),T$3,0)*$I18 -> 0 | U18: =+SUM(P18:T18) -> 1496.4986 | V18: =+U18/$U$146 -> 0.031469631 | W18: =+V18*W$3 -> 1496.4986 | X18: megyei | Y18: =+IF(X18<>"",I18,"") -> 37412.465 | Z18: =I18/H18 -> 1.1638402 | AA18: =+IF($Z18>1.02,$Y18,0) -> 37412.465 | AB18: =+IF(X18<>"",AA18/$AA$146,"") -> 0.026886533 | AC18: =+IF(X18<>"",AB18*$AC$3,0) -> 994.80172 | AD18: 2030.6175 | AE18: 6.86521 | AF18: =+IF(AD18<>0,AE18/AD18,0) -> 0.0033808485 | AG18: =$AG$3*AD18 -> 406.1235 | AH18: =IF(AD18<100,1,0) -> 0 | AI18: =IF(AF18<$AI$3,"1",0) -> 0 | AJ18: =IF((AH18+AI18)>0,0,AG18) -> 406.1235 | AK18: =+H18+W18+AC18 -> 34637.007 | AL18: =+G18+AJ18 -> 406.1235 | AM18: =AK18+AL18 -> 35043.131 | AN18: 710 | AO18: =+AN18+H18 -> 32855.707 | AP18: =+AO18+G18 -> 32855.707 | AQ18: =IF((AM18-AP18)<0,AM18-AP18,0) -> 0 | AR18: =+AM18+(AQ18*-1) -> 35043.131
A19: 03 | B19: 1249 | C19: =CONCATENATE("xx",B19) -> xx1249 | D19: 1 | E19: 0 | F19: Békéscsaba, Réthy Pál VKh.Ri. | G19: 477.61351 | H19: 11530.342 | I19: 12529.937 | J19: 7629.14 | K19: 6057.35 | L19: =+IF(J19<>0,K19/J19-1,0) -> -0.20602453 | M19: 18281.9 | N19: 14009.356 | O19: =+IF(M19<>0,N19/M19-1,0) -> -0.23370348 | P19: =+IF(AND($O19<=P$2,$O19>Q$2),P$3,0)*$I19 -> 0 | Q19: =+IF(AND($O19<=Q$2,$O19>R$2),Q$3,0)*$I19 -> 0 | R19: =+IF(AND($O19<=R$2,$O19>S$2),R$3,0)*$I19 -> 0 | S19: =+IF(AND($O19<=S$2,$O19>T$2),S$3,0)*$I19 -> 501.19749 | T19: =+IF(AND($O19<=T$2,$O19>U$2),T$3,0)*$I19 -> 0 | U19: =+SUM(P19:T19) -> 501.19749 | V19: =+U19/$U$146 -> 0.010539602 | W19: =+V19*W$3 -> 501.19749 | Y19: =+IF(X19<>"",I19,"") | AA19: =+IF($Z19>1.02,$Y19,0) -> 0 | AB19: =+IF(X19<>"",AA19/$AA$146,"") | AC19: =+IF(X19<>"",AB19*$AC$3,0) -> 0 | AD19: 494.62359 | AE19: 65.41669 | AF19: =+IF(AD19<>0,AE19/AD19,0) -> 0.1322555 | AG19: =$AG$3*AD19 -> 98.924718 | AH19: =IF(AD19<100,1,0) -> 0 | AI19: =IF(AF19<$AI$3,"1",0) -> 0 | AJ19: =IF((AH19+AI19)>0,0,AG19) -> 98.924718 | AK19: =+H19+W19+AC19 -> 12031.539 | AL19: =+G19+AJ19 -> 576.53822 | AM19: =AK19+AL19 -> 12608.077 | AN19: 0 | AO19: =+AN19+H19 -> 11530.342 | AP19: =+AO19+G19 -> 12007.955 | AQ19: =IF((AM19-AP19)<0,AM19-AP19,0) -> 0 | AR19: =+AM19+(AQ19*-1) -> 12608.077
A20: 04 | B20: 1301 | C20: =CONCATENATE("xx",B20) -> xx1301 | D20: 0 | E20: 0 | F20: Edelény, Koch Róbert Kh.és Ri. | G20: 0 | H20: 3991.3252 | I20: 3966.8397 | J20: 1846.06 | K20: 1901.76 | L20: =+IF(J20<>0,K20/J20-1,0) -> 0.030172367 | M20: 3861.9 | N20: 3887.813 | O20: =+IF(M20<>0,N20/M20-1,0) -> 0.0067099077 | P20: =+IF(AND($O20<=P$2,$O20>Q$2),P$3,0)*$I20 -> 0 | Q20: =+IF(AND($O20<=Q$2,$O20>R$2),Q$3,0)*$I20 -> 0 | R20: =+IF(AND($O20<=R$2,$O20>S$2),R$3,0)*$I20 -> 0 | S20: =+IF(AND($O20<=S$2,$O20>T$2),S$3,0)*$I20 -> 0 | T20: =+IF(AND($O20<=T$2,$O20>U$2),T$3,0)*$I20 -> 0 | U20: =+SUM(P20:T20) -> 0 | V20: =+U20/$U$146 -> 0 | W20: =+V20*W$3 -> 0 | Y20: =+IF(X20<>"",I20,"") | AA20: =+IF($Z20>1.02,$Y20,0) -> 0 | AB20: =+IF(X20<>"",AA20/$AA$146,"") | AC20: =+IF(X20<>"",AB20*$AC$3,0) -> 0 | AD20: 0 | AE20: 0 | AF20: =+IF(AD20<>0,AE20/AD20,0) -> 0 | AG20: =$AG$3*AD20 -> 0 | AH20: =IF(AD20<100,1,0) -> 1 | AI20: =IF(AF20<$AI$3,"1",0) -> 0 | AJ20: =IF((AH20+AI20)>0,0,AG20) -> 0 | AK20: =+H20+W20+AC20 -> 3991.3252 | AL20: =+G20+AJ20 -> 0 | AM20: =AK20+AL20 -> 3991.3252 | AN20: 0 | AO20: =+AN20+H20 -> 3991.3252 | AP20: =+AO20+G20 -> 3991.3252 | AQ20: =IF((AM20-AP20)<0,AM20-AP20,0) -> 0 | AR20: =+AM20+(AQ20*-1) -> 3991.3252
A21: 04 | B21: 1349 | C21: =CONCATENATE("xx",B21) -> xx1349 | D21: 0 | E21: 0 | F21: Miskolc, BAZ.M.Kh.Egyetemi Okt | G21: 0 | H21: 68267.412 | I21: 79905.25 | J21: 33220.77 | K21: 36972.87 | L21: =+IF(J21<>0,K21/J21-1,0) -> 0.1129444 | M21: 69888.99 | N21: 79923.199 | O21: =+IF(M21<>0,N21/M21-1,0) -> 0.14357352 | P21: =+IF(AND($O21<=P$2,$O21>Q$2),P$3,0)*$I21 -> 0 | Q21: =+IF(AND($O21<=Q$2,$O21>R$2),Q$3,0)*$I21 -> 0 | R21: =+IF(AND($O21<=R$2,$O21>S$2),R$3,0)*$I21 -> 0 | S21: =+IF(AND($O21<=S$2,$O21>T$2),S$3,0)*$I21 -> 0 | T21: =+IF(AND($O21<=T$2,$O21>U$2),T$3,0)*$I21 -> 0 | U21: =+SUM(P21:T21) -> 0 | V21: =+U21/$U$146 -> 0 | W21: =+V21*W$3 -> 0 | X21: megyei | Y21: =+IF(X21<>"",I21,"") -> 79905.25 | Z21: =I21/H21 -> 1.1704743 | AA21: =+IF($Z21>1.02,$Y21,0) -> 79905.25 | AB21: =+IF(X21<>"",AA21/$AA$146,"") -> 0.057424047 | AC21: =+IF(X21<>"",AB21*$AC$3,0) -> 2124.6897 | AD21: 3056.1358 | AE21: 258.3376 | AF21: =+IF(AD21<>0,AE21/AD21,0) -> 0.084530799 | AG21: =$AG$3*AD21 -> 611.22715 | AH21: =IF(AD21<100,1,0) -> 0 | AI21: =IF(AF21<$AI$3,"1",0) -> 0 | AJ21: =IF((AH21+AI21)>0,0,AG21) -> 611.22715 | AK21: =+H21+W21+AC21 -> 70392.102 | AL21: =+G21+AJ21 -> 611.22715 | AM21: =AK21+AL21 -> 71003.329 | AN21: 4245 | AO21: =+AN21+H21 -> 72512.412 | AP21: =+AO21+G21 -> 72512.412 | AQ21: =IF((AM21-AP21)<0,AM21-AP21,0) -> -1509.0831 | AR21: =+AM21+(AQ21*-1) -> 72512.412
A22: 04 | B22: 1403 | C22: =CONCATENATE("xx",B22) -> xx1403 | D22: 1 | E22: 0 | F22: Szikszó, II. Rákóczi F. Kórház | G22: 861.42223 | H22: 0 | I22: 0 | J22: 0 | K22: 0 | L22: =+IF(J22<>0,K22/J22-1,0) -> 0 | M22: 0 | N22: 0 | O22: =+IF(M22<>0,N22/M22-1,0) -> 0 | P22: =+IF(AND($O22<=P$2,$O22>Q$2),P$3,0)*$I22 -> 0 | Q22: =+IF(AND($O22<=Q$2,$O22>R$2),Q$3,0)*$I22 -> 0 | R22: =+IF(AND($O22<=R$2,$O22>S$2),R$3,0)*$I22 -> 0 | S22: =+IF(AND($O22<=S$2,$O22>T$2),S$3,0)*$I22 -> 0 | T22: =+IF(AND($O22<=T$2,$O22>U$2),T$3,0)*$I22 -> 0 | U22: =+SUM(P22:T22) -> 0 | V22: =+U22/$U$146 -> 0 | W22: =+V22*W$3 -> 0 | Y22: =+IF(X22<>"",I22,"") | AA22: =+IF($Z22>1.02,$Y22,0) -> 0 | AB22: =+IF(X22<>"",AA22/$AA$146,"") | AC22: =+IF(X22<>"",AB22*$AC$3,0) -> 0 | AD22: 2.11228 | AE22: 0 | AF22: =+IF(AD22<>0,AE22/AD22,0) -> 0 | AG22: =$AG$3*AD22 -> 0.422456 | AH22: =IF(AD22<100,1,0) -> 1 | AI22: =IF(AF22<$AI$3,"1",0) -> 0 | AJ22: =IF((AH22+AI22)>0,0,AG22) -> 0 | AK22: =+H22+W22+AC22 -> 0 | AL22: =+G22+AJ22 -> 861.42223 | AM22: =AK22+AL22 -> 861.42223 | AN22: 0 | AO22: =+AN22+H22 -> 0 | AP22: =+AO22+G22 -> 861.42223 | AQ22: =IF((AM22-AP22)<0,AM22-AP22,0) -> 0 | AR22: =+AM22+(AQ22*-1) -> 861.42223
A23: 04 | B23: 1407 | C23: =CONCATENATE("xx",B23) -> xx1407 | D23: 0 | E23: 0 | F23: Sátoraljaújhely, Erzsébet VKh. | G23: 0 | H23: 8389.1682 | I23: 8559.9492 | J23: 4679.68 | K23: 4593.49 | L23: =+IF(J23<>0,K23/J23-1,0) -> -0.018417926 | M23: 10481.15 | N23: 9605.1445 | O23: =+IF(M23<>0,N23/M23-1,0) -> -0.083579136 | P23: =+IF(AND($O23<=P$2,$O23>Q$2),P$3,0)*$I23 -> 0 | Q23: =+IF(AND($O23<=Q$2,$O23>R$2),Q$3,0)*$I23 -> 171.19898 | R23: =+IF(AND($O23<=R$2,$O23>S$2),R$3,0)*$I23 -> 0 | S23: =+IF(AND($O23<=S$2,$O23>T$2),S$3,0)*$I23 -> 0 | T23: =+IF(AND($O23<=T$2,$O23>U$2),T$3,0)*$I23 -> 0 | U23: =+SUM(P23:T23) -> 171.19898 | V23: =+U23/$U$146 -> 0.0036001162 | W23: =+V23*W$3 -> 171.19898 | Y23: =+IF(X23<>"",I23,"") | AA23: =+IF($Z23>1.02,$Y23,0) -> 0 | AB23: =+IF(X23<>"",AA23/$AA$146,"") | AC23: =+IF(X23<>"",AB23*$AC$3,0) -> 0 | AD23: 292.67601 | AE23: 0.59696 | AF23: =+IF(AD23<>0,AE23/AD23,0) -> 0.0020396615 | AG23: =$AG$3*AD23 -> 58.535202 | AH23: =IF(AD23<100,1,0) -> 0 | AI23: =IF(AF23<$AI$3,"1",0) -> 0 | AJ23: =IF((AH23+AI23)>0,0,AG23) -> 58.535202 | AK23: =+H23+W23+AC23 -> 8560.3672 | AL23: =+G23+AJ23 -> 58.535202 | AM23: =AK23+AL23 -> 8618.9024 | AN23: 180 | AO23: =+AN23+H23 -> 8569.1682 | AP23: =+AO23+G23 -> 8569.1682 | AQ23: =IF((AM23-AP23)<0,AM23-AP23,0) -> 0 | AR23: =+AM23+(AQ23*-1) -> 8618.9024
A24: 04 | B24: M058 | C24: =CONCATENATE("xx",B24) -> xxM058 | D24: 0 | E24: 0 | F24: DEOEC Kazincbarcika Kh. kft. | G24: 0 | H24: 7410.0583 | I24: 7967.9996 | J24: 3044.34 | K24: 2504.84 | L24: =+IF(J24<>0,K24/J24-1,0) -> -0.17721411 | M24: 6621.87 | N24: 6268.4204 | O24: =+IF(M24<>0,N24/M24-1,0) -> -0.053376101 | P24: =+IF(AND($O24<=P$2,$O24>Q$2),P$3,0)*$I24 -> 0 | Q24: =+IF(AND($O24<=Q$2,$O24>R$2),Q$3,0)*$I24 -> 159.35999 | R24: =+IF(AND($O24<=R$2,$O24>S$2),R$3,0)*$I24 -> 0 | S24: =+IF(AND($O24<=S$2,$O24>T$2),S$3,0)*$I24 -> 0 | T24: =+IF(AND($O24<=T$2,$O24>U$2),T$3,0)*$I24 -> 0 | U24: =+SUM(P24:T24) -> 159.35999 | V24: =+U24/$U$146 -> 0.0033511559 | W24: =+V24*W$3 -> 159.35999 | Y24: =+IF(X24<>"",I24,"") | AA24: =+IF($Z24>1.02,$Y24,0) -> 0 | AB24: =+IF(X24<>"",AA24/$AA$146,"") | AC24: =+IF(X24<>"",AB24*$AC$3,0) -> 0 | AD24: 426.69627 | AE24: 8.78051 | AF24: =+IF(AD24<>0,AE24/AD24,0) -> 0.020577893 | AG24: =$AG$3*AD24 -> 85.339254 | AH24: =IF(AD24<100,1,0) -> 0 | AI24: =IF(AF24<$AI$3,"1",0) -> 0 | AJ24: =IF((AH24+AI24)>0,0,AG24) -> 85.339254 | AK24: =+H24+W24+AC24 -> 7569.4183 | AL24: =+G24+AJ24 -> 85.339254 | AM24: =AK24+AL24 -> 7654.7575 | AN24: 0 | AO24: =+AN24+H24 -> 7410.0583 | AP24: =+AO24+G24 -> 7410.0583 | AQ24: =IF((AM24-AP24)<0,AM24-AP24,0) -> 0 | AR24: =+AM24+(AQ24*-1) -> 7654.7575
A25: 04 | B25: M094 | C25: =CONCATENATE("xx",B25) -> xxM094 | D25: 0 | E25: 0 | F25: MISEK | G25: 0 | H25: 27146.364 | I25: 30028.077 | J25: 17339.95 | K25: 16181.9 | L25: =+IF(J25<>0,K25/J25-1,0) -> -0.066785083 | M25: 37462.43 | N25: 33794.423 | O25: =+IF(M25<>0,N25/M25-1,0) -> -0.097911626 | P25: =+IF(AND($O25<=P$2,$O25>Q$2),P$3,0)*$I25 -> 0 | Q25: =+IF(AND($O25<=Q$2,$O25>R$2),Q$3,0)*$I25 -> 600.56154 | R25: =+IF(AND($O25<=R$2,$O25>S$2),R$3,0)*$I25 -> 0 | S25: =+IF(AND($O25<=S$2,$O25>T$2),S$3,0)*$I25 -> 0 | T25: =+IF(AND($O25<=T$2,$O25>U$2),T$3,0)*$I25 -> 0 | U25: =+SUM(P25:T25) -> 600.56154 | V25: =+U25/$U$146 -> 0.012629113 | W25: =+V25*W$3 -> 600.56154 | Y25: =+IF(X25<>"",I25,"") | AA25: =+IF($Z25>1.02,$Y25,0) -> 0 | AB25: =+IF(X25<>"",AA25/$AA$146,"") | AC25: =+IF(X25<>"",AB25*$AC$3,0) -> 0 | AD25: 3426.0015 | AE25: 1407.37 | AF25: =+IF(AD25<>0,AE25/AD25,0) -> 0.41079082 | AG25: =$AG$3*AD25 -> 685.2003 | AH25: =IF(AD25<100,1,0) -> 0 | AI25: =IF(AF25<$AI$3,"1",0) -> 0 | AJ25: =IF((AH25+AI25)>0,0,AG25) -> 685.2003 | AK25: =+H25+W25+AC25 -> 27746.926 | AL25: =+G25+AJ25 -> 685.2003 | AM25: =AK25+AL25 -> 28432.126 | AN25: 800 | AO25: =+AN25+H25 -> 27946.364 | AP25: =+AO25+G25 -> 27946.364 | AQ25: =IF((AM25-AP25)<0,AM25-AP25,0) -> 0 | AR25: =+AM25+(AQ25*-1) -> 28432.126
A26: 04 | B26: M132 | C26: =CONCATENATE("xx",B26) -> xxM132 | D26: 0 | E26: 0 | F26: Ózd, Almási Balogh Pál Kft. | G26: 0 | H26: 7644.0201 | I26: 8886.4056 | J26: 4131.94 | K26: 4752.85 | L26: =+IF(J26<>0,K26/J26-1,0) -> 0.15027082 | M26: 9166.12 | N26: 9588.7299 | O26: =+IF(M26<>0,N26/M26-1,0) -> 0.046105653 | P26: =+IF(AND($O26<=P$2,$O26>Q$2),P$3,0)*$I26 -> 0 | Q26: =+IF(AND($O26<=Q$2,$O26>R$2),Q$3,0)*$I26 -> 0 | R26: =+IF(AND($O26<=R$2,$O26>S$2),R$3,0)*$I26 -> 0 | S26: =+IF(AND($O26<=S$2,$O26>T$2),S$3,0)*$I26 -> 0 | T26: =+IF(AND($O26<=T$2,$O26>U$2),T$3,0)*$I26 -> 0 | U26: =+SUM(P26:T26) -> 0 | V26: =+U26/$U$146 -> 0 | W26: =+V26*W$3 -> 0 | Y26: =+IF(X26<>"",I26,"") | AA26: =+IF($Z26>1.02,$Y26,0) -> 0 | AB26: =+IF(X26<>"",AA26/$AA$146,"") | AC26: =+IF(X26<>"",AB26*$AC$3,0) -> 0 | AD26: 262.89772 | AE26: 1.72387 | AF26: =+IF(AD26<>0,AE26/AD26,0) -> 0.0065571889 | AG26: =$AG$3*AD26 -> 52.579544 | AH26: =IF(AD26<100,1,0) -> 0 | AI26: =IF(AF26<$AI$3,"1",0) -> 0 | AJ26: =IF((AH26+AI26)>0,0,AG26) -> 52.579544 | AK26: =+H26+W26+AC26 -> 7644.0201 | AL26: =+G26+AJ26 -> 52.579544 | AM26: =AK26+AL26 -> 7696.5996 | AN26: 164 | AO26: =+AN26+H26 -> 7808.0201 | AP26: =+AO26+G26 -> 7808.0201 | AQ26: =IF((AM26-AP26)<0,AM26-AP26,0) -> -111.42046 | AR26: =+AM26+(AQ26*-1) -> 7808.0201
A27: 05 | B27: 1454 | C27: =CONCATENATE("xx",B27) -> xx1454 | D27: 1 | E27: 0 | F27: Hódmezővásárhely,Erzsébet KH.R | G27: 474.55279 | H27: 3979.9497 | I27: 4214.2084 | J27: 4828.14 | K27: 2269.7 | L27: =+IF(J27<>0,K27/J27-1,0) -> -0.52990178 | M27: 10797.72 | N27: 5139.5985 | O27: =+IF(M27<>0,N27/M27-1,0) -> -0.52401077 | P27: =+IF(AND($O27<=P$2,$O27>Q$2),P$3,0)*$I27 -> 0 | Q27: =+IF(AND($O27<=Q$2,$O27>R$2),Q$3,0)*$I27 -> 0 | R27: =+IF(AND($O27<=R$2,$O27>S$2),R$3,0)*$I27 -> 0 | S27: =+IF(AND($O27<=S$2,$O27>T$2),S$3,0)*$I27 -> 0 | T27: =+IF(AND($O27<=T$2,$O27>U$2),T$3,0)*$I27 -> 210.71042 | U27: =+SUM(P27:T27) -> 210.71042 | V27: =+U27/$U$146 -> 0.0044309959 | W27: =+V27*W$3 -> 210.71042 | Y27: =+IF(X27<>"",I27,"") | AA27: =+IF($Z27>1.02,$Y27,0) -> 0 | AB27: =+IF(X27<>"",AA27/$AA$146,"") | AC27: =+IF(X27<>"",AB27*$AC$3,0) -> 0 | AD27: 106.39524 | AE27: 0 | AF27: =+IF(AD27<>0,AE27/AD27,0) -> 0 | AG27: =$AG$3*AD27 -> 21.279048 | AH27: =IF(AD27<100,1,0) -> 0 | AI27: =IF(AF27<$AI$3,"1",0) -> 0 | AJ27: =IF((AH27+AI27)>0,0,AG27) -> 21.279048 | AK27: =+H27+W27+AC27 -> 4190.6601 | AL27: =+G27+AJ27 -> 495.83184 | AM27: =AK27+AL27 -> 4686.492 | AN27: 0 | AO27: =+AN27+H27 -> 3979.9497 | AP27: =+AO27+G27 -> 4454.5025 | AQ27: =IF((AM27-AP27)<0,AM27-AP27,0) -> 0 | AR27: =+AM27+(AQ27*-1) -> 4686.492
A28: 05 | B28: 1460 | C28: =CONCATENATE("xx",B28) -> xx1460 | D28: 1 | E28: 0 | F28: Makó, Dr.Diósszilágyi S.V.Kh. | G28: 376.95129 | H28: 3740.862 | I28: 4243.0353 | J28: 3875 | K28: 2094.72 | L28: =+IF(J28<>0,K28/J28-1,0) -> -0.4594271 | M28: 8301 | N28: 4755.6385 | O28: =+IF(M28<>0,N28/M28-1,0) -> -0.42710053 | P28: =+IF(AND($O28<=P$2,$O28>Q$2),P$3,0)*$I28 -> 0 | Q28: =+IF(AND($O28<=Q$2,$O28>R$2),Q$3,0)*$I28 -> 0 | R28: =+IF(AND($O28<=R$2,$O28>S$2),R$3,0)*$I28 -> 0 | S28: =+IF(AND($O28<=S$2,$O28>T$2),S$3,0)*$I28 -> 0 | T28: =+IF(AND($O28<=T$2,$O28>U$2),T$3,0)*$I28 -> 212.15177 | U28: =+SUM(P28:T28) -> 212.15177 | V28: =+U28/$U$146 -> 0.0044613058 | W28: =+V28*W$3 -> 212.15177 | Y28: =+IF(X28<>"",I28,"") | AA28: =+IF($Z28>1.02,$Y28,0) -> 0 | AB28: =+IF(X28<>"",AA28/$AA$146,"") | AC28: =+IF(X28<>"",AB28*$AC$3,0) -> 0 | AD28: 170.98982 | AE28: 78.47082 | AF28: =+IF(AD28<>0,AE28/AD28,0) -> 0.458921 | AG28: =$AG$3*AD28 -> 34.197964 | AH28: =IF(AD28<100,1,0) -> 0 | AI28: =IF(AF28<$AI$3,"1",0) -> 0 | AJ28: =IF((AH28+AI28)>0,0,AG28) -> 34.197964 | AK28: =+H28+W28+AC28 -> 3953.0138 | AL28: =+G28+AJ28 -> 411.14926 | AM28: =AK28+AL28 -> 4364.1631 | AN28: 228.76722 | AO28: =+AN28+H28 -> 3969.6293 | AP28: =+AO28+G28 -> 4346.5806 | AQ28: =IF((AM28-AP28)<0,AM28-AP28,0) -> 0 | AR28: =+AM28+(AQ28*-1) -> 4364.1631
A29: 05 | B29: 1484 | C29: =CONCATENATE("xx",B29) -> xx1484 | D29: 0 | E29: 0 | F29: Deszk, Mellkasi Betegs.Szakkh. | G29: 0 | H29: 3359.6584 | I29: 3921.8762 | J29: 2225.05 | K29: 1884.43 | L29: =+IF(J29<>0,K29/J29-1,0) -> -0.1530842 | M29: 4519.27 | N29: 3868.0141 | O29: =+IF(M29<>0,N29/M29-1,0) -> -0.14410644 | P29: =+IF(AND($O29<=P$2,$O29>Q$2),P$3,0)*$I29 -> 0 | Q29: =+IF(AND($O29<=Q$2,$O29>R$2),Q$3,0)*$I29 -> 0 | R29: =+IF(AND($O29<=R$2,$O29>S$2),R$3,0)*$I29 -> 117.65629 | S29: =+IF(AND($O29<=S$2,$O29>T$2),S$3,0)*$I29 -> 0 | T29: =+IF(AND($O29<=T$2,$O29>U$2),T$3,0)*$I29 -> 0 | U29: =+SUM(P29:T29) -> 117.65629 | V29: =+U29/$U$146 -> 0.0024741753 | W29: =+V29*W$3 -> 117.65629 | X29: szakkórház | Y29: =+IF(X29<>"",I29,"") -> 3921.8762 | Z29: =I29/H29 -> 1.1673438 | AA29: =+IF($Z29>1.02,$Y29,0) -> 3921.8762 | AB29: =+IF(X29<>"",AA29/$AA$146,"") -> 0.0028184632 | AC29: =+IF(X29<>"",AB29*$AC$3,0) -> 104.28314 | AD29: 0 | AE29: 0 | AF29: =+IF(AD29<>0,AE29/AD29,0) -> 0 | AG29: =$AG$3*AD29 -> 0 | AH29: =IF(AD29<100,1,0) -> 1 | AI29: =IF(AF29<$AI$3,"1",0) -> 0 | AJ29: =IF((AH29+AI29)>0,0,AG29) -> 0 | AK29: =+H29+W29+AC29 -> 3581.5978 | AL29: =+G29+AJ29 -> 0 | AM29: =AK29+AL29 -> 3581.5978 | AN29: 0 | AO29: =+AN29+H29 -> 3359.6584 | AP29: =+AO29+G29 -> 3359.6584 | AQ29: =IF((AM29-AP29)<0,AM29-AP29,0) -> 0 | AR29: =+AM29+(AQ29*-1) -> 3581.5978
A30: 05 | B30: 1487 | C30: =CONCATENATE("xx",B30) -> xx1487 | D30: 0 | E30: 0 | F30: Szentes,Cs.M.Önk.dr.Bugyi I.Kh | G30: 0 | H30: 11497.36 | I30: 12955.772 | J30: 7590.62 | K30: 6464.46 | L30: =+IF(J30<>0,K30/J30-1,0) -> -0.14836206 | M30: 16279.63 | N30: 14134.399 | O30: =+IF(M30<>0,N30/M30-1,0) -> -0.13177395 | P30: =+IF(AND($O30<=P$2,$O30>Q$2),P$3,0)*$I30 -> 0 | Q30: =+IF(AND($O30<=Q$2,$O30>R$2),Q$3,0)*$I30 -> 0 | R30: =+IF(AND($O30<=R$2,$O30>S$2),R$3,0)*$I30 -> 388.67317 | S30: =+IF(AND($O30<=S$2,$O30>T$2),S$3,0)*$I30 -> 0 | T30: =+IF(AND($O30<=T$2,$O30>U$2),T$3,0)*$I30 -> 0 | U30: =+SUM(P30:T30) -> 388.67317 | V30: =+U30/$U$146 -> 0.0081733462 | W30: =+V30*W$3 -> 388.67317 | Y30: =+IF(X30<>"",I30,"") | AA30: =+IF($Z30>1.02,$Y30,0) -> 0 | AB30: =+IF(X30<>"",AA30/$AA$146,"") | AC30: =+IF(X30<>"",AB30*$AC$3,0) -> 0 | AD30: 891.12397 | AE30: 178.87141 | AF30: =+IF(AD30<>0,AE30/AD30,0) -> 0.20072562 | AG30: =$AG$3*AD30 -> 178.22479 | AH30: =IF(AD30<100,1,0) -> 0 | AI30: =IF(AF30<$AI$3,"1",0) -> 0 | AJ30: =IF((AH30+AI30)>0,0,AG30) -> 178.22479 | AK30: =+H30+W30+AC30 -> 11886.033 | AL30: =+G30+AJ30 -> 178.22479 | AM30: =AK30+AL30 -> 12064.258 | AN30: 254 | AO30: =+AN30+H30 -> 11751.36 | AP30: =+AO30+G30 -> 11751.36 | AQ30: =IF((AM30-AP30)<0,AM30-AP30,0) -> 0 | AR30: =+AM30+(AQ30*-1) -> 12064.258
A31: 05 | B31: 2917 | C31: =CONCATENATE("xx",B31) -> xx2917 | D31: 0 | E31: 0 | F31: SZTE Szent-Györgyi A. Kl.Közp. | G31: 0 | H31: 81931.408 | I31: 96969.713 | J31: 41143.99 | K31: 39764.27 | L31: =+IF(J31<>0,K31/J31-1,0) -> -0.033533938 | M31: 103791.36 | N31: 97499.636 | O31: =+IF(M31<>0,N31/M31-1,0) -> -0.060618953 | P31: =+IF(AND($O31<=P$2,$O31>Q$2),P$3,0)*$I31 -> 0 | Q31: =+IF(AND($O31<=Q$2,$O31>R$2),Q$3,0)*$I31 -> 1939.3943 | R31: =+IF(AND($O31<=R$2,$O31>S$2),R$3,0)*$I31 -> 0 | S31: =+IF(AND($O31<=S$2,$O31>T$2),S$3,0)*$I31 -> 0 | T31: =+IF(AND($O31<=T$2,$O31>U$2),T$3,0)*$I31 -> 0 | U31: =+SUM(P31:T31) -> 1939.3943 | V31: =+U31/$U$146 -> 0.040783213 | W31: =+V31*W$3 -> 1939.3943 | X31: egyetem | Y31: =+IF(X31<>"",I31,"") -> 96969.713 | Z31: =I31/H31 -> 1.1835475 | AA31: =+IF($Z31>1.02,$Y31,0) -> 96969.713 | AB31: =+IF(X31<>"",AA31/$AA$146,"") -> 0.069687453 | AC31: =+IF(X31<>"",AB31*$AC$3,0) -> 2578.4358 | AD31: 6795.1586 | AE31: 2721.9891 | AF31: =+IF(AD31<>0,AE31/AD31,0) -> 0.40057772 | AG31: =$AG$3*AD31 -> 1359.0317 | AH31: =IF(AD31<100,1,0) -> 0 | AI31: =IF(AF31<$AI$3,"1",0) -> 0 | AJ31: =IF((AH31+AI31)>0,0,AG31) -> 1359.0317 | AK31: =+H31+W31+AC31 -> 86449.238 | AL31: =+G31+AJ31 -> 1359.0317 | AM31: =AK31+AL31 -> 87808.27 | AN31: 5112 | AO31: =+AN31+H31 -> 87043.408 | AP31: =+AO31+G31 -> 87043.408 | AQ31: =IF((AM31-AP31)<0,AM31-AP31,0) -> 0 | AR31: =+AM31+(AQ31*-1) -> 87808.27
A32: 05 | B32: M226 | C32: =CONCATENATE("xx",B32) -> xxM226 | D32: 1 | E32: 0 | F32: Kisteleki Eü.Közp.Nonprofit Kft. | G32: 343.73628 | H32: 0 | I32: 0 | J32: 0 | K32: 0 | L32: =+IF(J32<>0,K32/J32-1,0) -> 0 | M32: 0 | N32: 0 | O32: =+IF(M32<>0,N32/M32-1,0) -> 0 | P32: =+IF(AND($O32<=P$2,$O32>Q$2),P$3,0)*$I32 -> 0 | Q32: =+IF(AND($O32<=Q$2,$O32>R$2),Q$3,0)*$I32 -> 0 | R32: =+IF(AND($O32<=R$2,$O32>S$2),R$3,0)*$I32 -> 0 | S32: =+IF(AND($O32<=S$2,$O32>T$2),S$3,0)*$I32 -> 0 | T32: =+IF(AND($O32<=T$2,$O32>U$2),T$3,0)*$I32 -> 0 | U32: =+SUM(P32:T32) -> 0 | V32: =+U32/$U$146 -> 0 | W32: =+V32*W$3 -> 0 | Y32: =+IF(X32<>"",I32,"") | AA32: =+IF($Z32>1.02,$Y32,0) -> 0 | AB32: =+IF(X32<>"",AA32/$AA$146,"") | AC32: =+IF(X32<>"",AB32*$AC$3,0) -> 0 | AD32: 0 | AE32: 0 | AF32: =+IF(AD32<>0,AE32/AD32,0) -> 0 | AG32: =$AG$3*AD32 -> 0 | AH32: =IF(AD32<100,1,0) -> 1 | AI32: =IF(AF32<$AI$3,"1",0) -> 0 | AJ32: =IF((AH32+AI32)>0,0,AG32) -> 0 | AK32: =+H32+W32+AC32 -> 0 | AL32: =+G32+AJ32 -> 343.73628 | AM32: =AK32+AL32 -> 343.73628 | AN32: 0 | AO32: =+AN32+H32 -> 0 | AP32: =+AO32+G32 -> 343.73628 | AQ32: =IF((AM32-AP32)<0,AM32-AP32,0) -> 0 | AR32: =+AM32+(AQ32*-1) -> 343.73628
A33: 06 | B33: 1568 | C33: =CONCATENATE("xx",B33) -> xx1568 | D33: 0 | E33: 0 | F33: Székesfehérvár, Szt.György MKh | G33: 0 | H33: 44847.593 | I33: 51333.088 | J33: 25006.09 | K33: 26410.25 | L33: =+IF(J33<>0,K33/J33-1,0) -> 0.056152721 | M33: 52064.88 | N33: 54158.115 | O33: =+IF(M33<>0,N33/M33-1,0) -> 0.04020436 | P33: =+IF(AND($O33<=P$2,$O33>Q$2),P$3,0)*$I33 -> 0 | Q33: =+IF(AND($O33<=Q$2,$O33>R$2),Q$3,0)*$I33 -> 0 | R33: =+IF(AND($O33<=R$2,$O33>S$2),R$3,0)*$I33 -> 0 | S33: =+IF(AND($O33<=S$2,$O33>T$2),S$3,0)*$I33 -> 0 | T33: =+IF(AND($O33<=T$2,$O33>U$2),T$3,0)*$I33 -> 0 | U33: =+SUM(P33:T33) -> 0 | V33: =+U33/$U$146 -> 0 | W33: =+V33*W$3 -> 0 | X33: megyei | Y33: =+IF(X33<>"",I33,"") -> 51333.088 | Z33: =I33/H33 -> 1.1446119 | AA33: =+IF($Z33>1.02,$Y33,0) -> 51333.088 | AB33: =+IF(X33<>"",AA33/$AA$146,"") -> 0.036890613 | AC33: =+IF(X33<>"",AB33*$AC$3,0) -> 1364.9527 | AD33: 3318.2927 | AE33: 609.3537 | AF33: =+IF(AD33<>0,AE33/AD33,0) -> 0.1836347 | AG33: =$AG$3*AD33 -> 663.65855 | AH33: =IF(AD33<100,1,0) -> 0 | AI33: =IF(AF33<$AI$3,"1",0) -> 0 | AJ33: =IF((AH33+AI33)>0,0,AG33) -> 663.65855 | AK33: =+H33+W33+AC33 -> 46212.546 | AL33: =+G33+AJ33 -> 663.65855 | AM33: =AK33+AL33 -> 46876.204 | AN33: 964 | AO33: =+AN33+H33 -> 45811.593 | AP33: =+AO33+G33 -> 45811.593 | AQ33: =IF((AM33-AP33)<0,AM33-AP33,0) -> 0 | AR33: =+AM33+(AQ33*-1) -> 46876.204
A34: 06 | B34: 1583 | C34: =CONCATENATE("xx",B34) -> xx1583 | D34: 0 | E34: 0 | F34: Mór Városi Kórház-Rendelőint. | G34: 972 | H34: 552.60349 | I34: 599.98905 | J34: 1648.23 | K34: 529.5 | L34: =+IF(J34<>0,K34/J34-1,0) -> -0.67874629 | M34: 3589.95 | N34: 1054.4889 | O34: =+IF(M34<>0,N34/M34-1,0) -> -0.70626641 | P34: =+IF(AND($O34<=P$2,$O34>Q$2),P$3,0)*$I34 -> 0 | Q34: =+IF(AND($O34<=Q$2,$O34>R$2),Q$3,0)*$I34 -> 0 | R34: =+IF(AND($O34<=R$2,$O34>S$2),R$3,0)*$I34 -> 0 | S34: =+IF(AND($O34<=S$2,$O34>T$2),S$3,0)*$I34 -> 0 | T34: =+IF(AND($O34<=T$2,$O34>U$2),T$3,0)*$I34 -> 29.999452 | U34: =+SUM(P34:T34) -> 29.999452 | V34: =+U34/$U$146 -> 0.00063085371 | W34: =+V34*W$3 -> 29.999452 | Y34: =+IF(X34<>"",I34,"") | AA34: =+IF($Z34>1.02,$Y34,0) -> 0 | AB34: =+IF(X34<>"",AA34/$AA$146,"") | AC34: =+IF(X34<>"",AB34*$AC$3,0) -> 0 | AD34: 0.4636 | AE34: 0.4636 | AF34: =+IF(AD34<>0,AE34/AD34,0) -> 1 | AG34: =$AG$3*AD34 -> 0.09272 | AH34: =IF(AD34<100,1,0) -> 1 | AI34: =IF(AF34<$AI$3,"1",0) -> 0 | AJ34: =IF((AH34+AI34)>0,0,AG34) -> 0 | AK34: =+H34+W34+AC34 -> 582.60295 | AL34: =+G34+AJ34 -> 972 | AM34: =AK34+AL34 -> 1554.6029 | AN34: 0 | AO34: =+AN34+H34 -> 552.60349 | AP34: =+AO34+G34 -> 1524.6035 | AQ34: =IF((AM34-AP34)<0,AM34-AP34,0) -> 0 | AR34: =+AM34+(AQ34*-1) -> 1554.6029
A35: 06 | B35: C975 | C35: =CONCATENATE("xx",B35) -> xxC975 | D35: 1 | E35: 0 | F35: Napfény 2001 KHT | G35: 668.59781 | H35: 0 | I35: 0 | J35: 0 | K35: 0 | L35: =+IF(J35<>0,K35/J35-1,0) -> 0 | M35: 0 | N35: 0 | O35: =+IF(M35<>0,N35/M35-1,0) -> 0 | P35: =+IF(AND($O35<=P$2,$O35>Q$2),P$3,0)*$I35 -> 0 | Q35: =+IF(AND($O35<=Q$2,$O35>R$2),Q$3,0)*$I35 -> 0 | R35: =+IF(AND($O35<=R$2,$O35>S$2),R$3,0)*$I35 -> 0 | S35: =+IF(AND($O35<=S$2,$O35>T$2),S$3,0)*$I35 -> 0 | T35: =+IF(AND($O35<=T$2,$O35>U$2),T$3,0)*$I35 -> 0 | U35: =+SUM(P35:T35) -> 0 | V35: =+U35/$U$146 -> 0 | W35: =+V35*W$3 -> 0 | Y35: =+IF(X35<>"",I35,"") | AA35: =+IF($Z35>1.02,$Y35,0) -> 0 | AB35: =+IF(X35<>"",AA35/$AA$146,"") | AC35: =+IF(X35<>"",AB35*$AC$3,0) -> 0 | AD35: 0 | AE35: 0 | AF35: =+IF(AD35<>0,AE35/AD35,0) -> 0 | AG35: =$AG$3*AD35 -> 0 | AH35: =IF(AD35<100,1,0) -> 1 | AI35: =IF(AF35<$AI$3,"1",0) -> 0 | AJ35: =IF((AH35+AI35)>0,0,AG35) -> 0 | AK35: =+H35+W35+AC35 -> 0 | AL35: =+G35+AJ35 -> 668.59781 | AM35: =AK35+AL35 -> 668.59781 | AN35: 0 | AO35: =+AN35+H35 -> 0 | AP35: =+AO35+G35 -> 668.59781 | AQ35: =IF((AM35-AP35)<0,AM35-AP35,0) -> 0 | AR35: =+AM35+(AQ35*-1) -> 668.59781
A36: 06 | B36: H681 | C36: =CONCATENATE("xx",B36) -> xxH681 | D36: 0 | E36: 0 | F36: Dunaújv,Szent Pantaleon Kh.KHT | G36: 0 | H36: 17892.706 | I36: 18905.803 | J36: 11258.14 | K36: 9989.01 | L36: =+IF(J36<>0,K36/J36-1,0) -> -0.11272999 | M36: 25985.75 | N36: 21236.404 | O36: =+IF(M36<>0,N36/M36-1,0) -> -0.18276734 | P36: =+IF(AND($O36<=P$2,$O36>Q$2),P$3,0)*$I36 -> 0 | Q36: =+IF(AND($O36<=Q$2,$O36>R$2),Q$3,0)*$I36 -> 0 | R36: =+IF(AND($O36<=R$2,$O36>S$2),R$3,0)*$I36 -> 0 | S36: =+IF(AND($O36<=S$2,$O36>T$2),S$3,0)*$I36 -> 756.23211 | T36: =+IF(AND($O36<=T$2,$O36>U$2),T$3,0)*$I36 -> 0 | U36: =+SUM(P36:T36) -> 756.23211 | V36: =+U36/$U$146 -> 0.015902685 | W36: =+V36*W$3 -> 756.23211 | Y36: =+IF(X36<>"",I36,"") | AA36: =+IF($Z36>1.02,$Y36,0) -> 0 | AB36: =+IF(X36<>"",AA36/$AA$146,"") | AC36: =+IF(X36<>"",AB36*$AC$3,0) -> 0 | AD36: 1260.9849 | AE36: 5.01552 | AF36: =+IF(AD36<>0,AE36/AD36,0) -> 0.0039774623 | AG36: =$AG$3*AD36 -> 252.19699 | AH36: =IF(AD36<100,1,0) -> 0 | AI36: =IF(AF36<$AI$3,"1",0) -> 0 | AJ36: =IF((AH36+AI36)>0,0,AG36) -> 252.19699 | AK36: =+H36+W36+AC36 -> 18648.938 | AL36: =+G36+AJ36 -> 252.19699 | AM36: =AK36+AL36 -> 18901.135 | AN36: 383 | AO36: =+AN36+H36 -> 18275.706 | AP36: =+AO36+G36 -> 18275.706 | AQ36: =IF((AM36-AP36)<0,AM36-AP36,0) -> 0 | AR36: =+AM36+(AQ36*-1) -> 18901.135
A37: 07 | B37: 1601 | C37: =CONCATENATE("xx",B37) -> xx1601 | D37: 0 | E37: 0 | F37: Csorna, Margit Kh. | G37: 0 | H37: 1738.335 | I37: 2012.9315 | J37: 2069.22 | K37: 1013.87 | L37: =+IF(J37<>0,K37/J37-1,0) -> -0.5100231 | M37: 4645.27 | N37: 2156.0523 | O37: =+IF(M37<>0,N37/M37-1,0) -> -0.53586071 | P37: =+IF(AND($O37<=P$2,$O37>Q$2),P$3,0)*$I37 -> 0 | Q37: =+IF(AND($O37<=Q$2,$O37>R$2),Q$3,0)*$I37 -> 0 | R37: =+IF(AND($O37<=R$2,$O37>S$2),R$3,0)*$I37 -> 0 | S37: =+IF(AND($O37<=S$2,$O37>T$2),S$3,0)*$I37 -> 0 | T37: =+IF(AND($O37<=T$2,$O37>U$2),T$3,0)*$I37 -> 100.64658 | U37: =+SUM(P37:T37) -> 100.64658 | V37: =+U37/$U$146 -> 0.0021164808 | W37: =+V37*W$3 -> 100.64658 | Y37: =+IF(X37<>"",I37,"") | AA37: =+IF($Z37>1.02,$Y37,0) -> 0 | AB37: =+IF(X37<>"",AA37/$AA$146,"") | AC37: =+IF(X37<>"",AB37*$AC$3,0) -> 0 | AD37: 185.3783 | AE37: 0 | AF37: =+IF(AD37<>0,AE37/AD37,0) -> 0 | AG37: =$AG$3*AD37 -> 37.07566 | AH37: =IF(AD37<100,1,0) -> 0 | AI37: =IF(AF37<$AI$3,"1",0) -> 0 | AJ37: =IF((AH37+AI37)>0,0,AG37) -> 37.07566 | AK37: =+H37+W37+AC37 -> 1838.9816 | AL37: =+G37+AJ37 -> 37.07566 | AM37: =AK37+AL37 -> 1876.0572 | AN37: 0 | AO37: =+AN37+H37 -> 1738.335 | AP37: =+AO37+G37 -> 1738.335 | AQ37: =IF((AM37-AP37)<0,AM37-AP37,0) -> 0 | AR37: =+AM37+(AQ37*-1) -> 1876.0572
A38: 07 | B38: 1630 | C38: =CONCATENATE("xx",B38) -> xx1630 | D38: 1 | E38: 0 | F38: Kapuvár, Lumniczer S. Kh.- Ri. | G38: 376.21209 | H38: 0 | I38: 0 | J38: 0 | K38: 0 | L38: =+IF(J38<>0,K38/J38-1,0) -> 0 | M38: 0 | N38: 0 | O38: =+IF(M38<>0,N38/M38-1,0) -> 0 | P38: =+IF(AND($O38<=P$2,$O38>Q$2),P$3,0)*$I38 -> 0 | Q38: =+IF(AND($O38<=Q$2,$O38>R$2),Q$3,0)*$I38 -> 0 | R38: =+IF(AND($O38<=R$2,$O38>S$2),R$3,0)*$I38 -> 0 | S38: =+IF(AND($O38<=S$2,$O38>T$2),S$3,0)*$I38 -> 0 | T38: =+IF(AND($O38<=T$2,$O38>U$2),T$3,0)*$I38 -> 0 | U38: =+SUM(P38:T38) -> 0 | V38: =+U38/$U$146 -> 0 | W38: =+V38*W$3 -> 0 | Y38: =+IF(X38<>"",I38,"") | AA38: =+IF($Z38>1.02,$Y38,0) -> 0 | AB38: =+IF(X38<>"",AA38/$AA$146,"") | AC38: =+IF(X38<>"",AB38*$AC$3,0) -> 0 | AD38: 1.16611 | AE38: 0 | AF38: =+IF(AD38<>0,AE38/AD38,0) -> 0 | AG38: =$AG$3*AD38 -> 0.233222 | AH38: =IF(AD38<100,1,0) -> 1 | AI38: =IF(AF38<$AI$3,"1",0) -> 0 | AJ38: =IF((AH38+AI38)>0,0,AG38) -> 0 | AK38: =+H38+W38+AC38 -> 0 | AL38: =+G38+AJ38 -> 376.21209 | AM38: =AK38+AL38 -> 376.21209 | AN38: 0 | AO38: =+AN38+H38 -> 0 | AP38: =+AO38+G38 -> 376.21209 | AQ38: =IF((AM38-AP38)<0,AM38-AP38,0) -> 0 | AR38: =+AM38+(AQ38*-1) -> 376.21209
A39: 07 | B39: 1640 | C39: =CONCATENATE("xx",B39) -> xx1640 | D39: 0 | E39: 0 | F39: Győr, Petz A.Megyei Oktató Kh. | G39: 0 | H39: 42118.297 | I39: 47449.655 | J39: 25391.92 | K39: 23025.35 | L39: =+IF(J39<>0,K39/J39-1,0) -> -0.093201696 | M39: 52908.75 | N39: 49419.939 | O39: =+IF(M39<>0,N39/M39-1,0) -> -0.065940143 | P39: =+IF(AND($O39<=P$2,$O39>Q$2),P$3,0)*$I39 -> 0 | Q39: =+IF(AND($O39<=Q$2,$O39>R$2),Q$3,0)*$I39 -> 948.9931 | R39: =+IF(AND($O39<=R$2,$O39>S$2),R$3,0)*$I39 -> 0 | S39: =+IF(AND($O39<=S$2,$O39>T$2),S$3,0)*$I39 -> 0 | T39: =+IF(AND($O39<=T$2,$O39>U$2),T$3,0)*$I39 -> 0 | U39: =+SUM(P39:T39) -> 948.9931 | V39: =+U39/$U$146 -> 0.019956225 | W39: =+V39*W$3 -> 948.9931 | X39: megyei | Y39: =+IF(X39<>"",I39,"") -> 47449.655 | Z39: =I39/H39 -> 1.1265806 | AA39: =+IF($Z39>1.02,$Y39,0) -> 47449.655 | AB39: =+IF(X39<>"",AA39/$AA$146,"") -> 0.034099777 | AC39: =+IF(X39<>"",AB39*$AC$3,0) -> 1261.6918 | AD39: 3708.713 | AE39: 1758.7046 | AF39: =+IF(AD39<>0,AE39/AD39,0) -> 0.47420886 | AG39: =$AG$3*AD39 -> 741.74261 | AH39: =IF(AD39<100,1,0) -> 0 | AI39: =IF(AF39<$AI$3,"1",0) -> 0 | AJ39: =IF((AH39+AI39)>0,0,AG39) -> 741.74261 | AK39: =+H39+W39+AC39 -> 44328.982 | AL39: =+G39+AJ39 -> 741.74261 | AM39: =AK39+AL39 -> 45070.725 | AN39: 2605 | AO39: =+AN39+H39 -> 44723.297 | AP39: =+AO39+G39 -> 44723.297 | AQ39: =IF((AM39-AP39)<0,AM39-AP39,0) -> 0 | AR39: =+AM39+(AQ39*-1) -> 45070.725
A40: 07 | B40: 1644 | C40: =CONCATENATE("xx",B40) -> xx1644 | D40: 0 | E40: 0 | F40: Mosonmagyaróvár, Karolina Kh. | G40: 0 | H40: 5326.692 | I40: 5722.5415 | J40: 3408.09 | K40: 2927.84 | L40: =+IF(J40<>0,K40/J40-1,0) -> -0.14091471 | M40: 7440.11 | N40: 6310.7801 | O40: =+IF(M40<>0,N40/M40-1,0) -> -0.15178941 | P40: =+IF(AND($O40<=P$2,$O40>Q$2),P$3,0)*$I40 -> 0 | Q40: =+IF(AND($O40<=Q$2,$O40>R$2),Q$3,0)*$I40 -> 0 | R40: =+IF(AND($O40<=R$2,$O40>S$2),R$3,0)*$I40 -> 0 | S40: =+IF(AND($O40<=S$2,$O40>T$2),S$3,0)*$I40 -> 228.90166 | T40: =+IF(AND($O40<=T$2,$O40>U$2),T$3,0)*$I40 -> 0 | U40: =+SUM(P40:T40) -> 228.90166 | V40: =+U40/$U$146 -> 0.0048135366 | W40: =+V40*W$3 -> 228.90166 | Y40: =+IF(X40<>"",I40,"") | AA40: =+IF($Z40>1.02,$Y40,0) -> 0 | AB40: =+IF(X40<>"",AA40/$AA$146,"") | AC40: =+IF(X40<>"",AB40*$AC$3,0) -> 0 | AD40: 354.36663 | AE40: 0.20241 | AF40: =+IF(AD40<>0,AE40/AD40,0) -> 0.00057118809 | AG40: =$AG$3*AD40 -> 70.873326 | AH40: =IF(AD40<100,1,0) -> 0 | AI40: =IF(AF40<$AI$3,"1",0) -> 0 | AJ40: =IF((AH40+AI40)>0,0,AG40) -> 70.873326 | AK40: =+H40+W40+AC40 -> 5555.5937 | AL40: =+G40+AJ40 -> 70.873326 | AM40: =AK40+AL40 -> 5626.467 | AN40: 233.33333 | AO40: =+AN40+H40 -> 5560.0253 | AP40: =+AO40+G40 -> 5560.0253 | AQ40: =IF((AM40-AP40)<0,AM40-AP40,0) -> 0 | AR40: =+AM40+(AQ40*-1) -> 5626.467
...

Sheet FEKVO_TVK
A1: FEKVŐ | G1: felső | H1: 0 | I1: -0.05 | J1: -0.1 | K1: -0.15 | L1: -0.28 | M1: -1 | N1: 58000 | T1: 37000 | Y1: 19000
G2: többlet | H2: 0.01 | I2: 0.02 | J2: 0.03 | K2: 0.04 | L2: 0.05 | N2: =+MIN(N1,SUM($H$145:$L$145)) -> 42023.501 | T2: =+MIN(T1,P145) -> 37000 | X2: 0.2 | Y2: =+Y145 -> 26172.575
A3: megye | B3: intkod | C3: nev | D3: A szolgáltató 2010. évi TVK-ja az évközi változások (struktúra, feladat, finanszírozási szabály) átvezetésével, miniszteri tartalék nélkül(súlyszám) a Kr. 27. § (3) bek. szerint | E3: A szolgáltató 2006. évi TVK kerete súlyszámban | F3: A szolgáltató 2008. évi TVK kerete súlyszámban | G3: A struktúra változás hatása TVK2008/TVK2006 a Kr. 27.§ (3b) bek. a) pont | H3: [0-5%[ | I3: [5-10%[ | J3: [10-15%[ | K3: [15-28%[ | L3: [28- %[ | M3: A szolgáltató részesedési aránya az összes figyelembe vehető többlet TVK-ból | N3: A struktúra változás hatásának kompenzálására, a Kr. 27. § (3b) bek. a) pont szerint megállapított többlet TVK | O3: A progresszív és speciális feladatokat ellátó intézmény besorolása, a Kr. 28/A melléklete szerint | P3: A szolgáltató 2010. évi TVK-ja az évközi változások (struktúra, feladat, finanszírozási szabály) átvezetésével, miniszteri tartalék nélkül(súlyszám) a Kr. 27. § (3) bek. szerint | Q3: A szolgáltató 2010 finanszírozási évre vonatkozó TVK kihasználtsága %-ban | R3: Figyelembe vehető 2010. évi TVK, amennyiben a szolgáltató éves TVK kihasználtsága meghaladta a 102%-ot | S3: A szolgáltató részesedési aránya az összes figyelembe vehető 2010-es TVK-ból | T3: A progresszív ellátások kiemelt támogatására, a Kr. 27. § (3b) bek. b) pont szerint megállapított többlet TVK | U3: A szolgálató elszámolt teljesítményéből egynapos formában is ellátható esetek súlyszám összege (*) | V3: A szolgáltató által egynapos formában teljesített és elszámolt szolgáltatások súlyszám összege | W3: Az egynapos formában ellátható esetekből egynapos formában teljesített ellátások aránya | X3: A bázis időszakban egynaposként ellátható teljesítmény súlyszám összegének 20%-a | Y3: Az egtynapos ellátások bővítésére, a Kr. 27. § (3e) bek.szerint megállapított többlet TVK | Z3: A szolgáltató 2011. évi korlátozás nélkül felhasználható TVK kerete | AA3: Pályázat keretében elnyert egynapos TVK 2010. évben (súlyszám) | AB3: A szolgáltató által kizárólag egynapos ellátási formában felhasználható TVK kerete | AC3: A szolgáltató számára megállapított 2011. évi TVK keret összesen | AD3: TVK2010 miniszteri keret | AE3: TVK2010 miniszteri kerettel | AF3: TVK2010 miniszeri kerettel és pályázati egynapossal | AG3: A megállapított TVK eltérése a 2010. évi TVK-tól | AH3: A Kr. 27. § (3c) bek. szerint korrigált, kiközölt TVK 2011. évre
A4: 01 | B4: 1049 | C4: Pécs, Baranya megyei Kórház | D4: 0 | E4: 0 | F4: 0 | G4: =+IF(E4<>0,F4/E4-1,0) -> 0 | H4: =+IF(AND($G4<=H$1,$G4>I$1),H$2,0)*$D4 -> 0 | I4: =+IF(AND($G4<=I$1,$G4>J$1),I$2,0)*$D4 -> 0 | J4: =+IF(AND($G4<=J$1,$G4>K$1),J$2,0)*$D4 -> 0 | K4: =+IF(AND($G4<=K$1,$G4>L$1),K$2,0)*$D4 -> 0 | L4: =+IF(AND($G4<=L$1,$G4>M$1),L$2,0)*$D4 -> 0 | M4: =+SUM(H4:L4)/SUM($H$145:$L$145) -> 0 | N4: =+M4*N$2 -> 0 | P4: =+IF(O4<>"",D4,"") | R4: =+IF($Q4>1.02,$P4,0) -> 0 | S4: =+IF(O4<>"",R4/$R$145,"") | T4: =+IF(O4<>"",S4*$T$2,0) -> 0 | U4: 0 | V4: 0 | W4: =+IF(U4<>0,V4/U4,0) -> 0 | X4: =$X$2*U4 -> 0 | Y4: =IF((U4)<100,0,X4) -> 0 | Z4: =+D4+N4+T4 -> 0 | AA4: 0 | AB4: =+Y4 -> 0 | AC4: =+SUM(Z4:AB4) -> 0 | AD4: 0 | AE4: =+AD4+D4 -> 0 | AF4: =+AE4+AA4 -> 0 | AG4: =IF((AC4-AF4)<0,AC4-AF4,0) -> 0 | AH4: =+AC4+(AG4*-1) -> 0
