Workbook

Sheet FEKVO_OSSZEHASONLITO
D1: ALAPADATOK_2010 | G1: TVK_ALAP | L1: TELJ_ALAP
A2: megye | B2: intkod | C2: nev | D2: Pályázat EGYNAPOS TVK2010 | E2: 4.pont TVK2010 AKTUALIZALVA | F2: Telj_10 200911-201010 | G2: 5.a)pont STRUKTVÁLT TÖBBLET | H2: 5.b) egyetem megyei országos egyházi szakkórház | I2: 5.c) egynapos | J2: Korrigált TVK 2011 | K2: TELJESÍTMÉNY LEFEDETTSÉG (TVK/TELJ) | L2: 5.a)pont STRUKTVÁLT TÖBBLET | M2: 5.b) egyetem megyei országos egyházi szakkórház | N2: 5.c) egynapos | O2: Korrigált TVK 2011 | P2: TELJESÍTMÉNY LEFEDETTSÉG (TVK/TELJ) | Q2: DIFF TVK | R2: DIFF TVK%
A3: 01 | B3: 1049 | C3: Pécs, Baranya megyei Kórház | D3: 0 | E3: 0 | F3: 0 | G3: =+FEKVO_TVK!N4 -> 0 | H3: =+FEKVO_TVK!T4 -> 0 | I3: =+FEKVO_TVK!Y4 -> 0 | J3: =+FEKVO_TVK!AH4 -> 0 | K3: =+IF(F3<>0,J3/F3,0) -> 0 | L3: =+FEKVO_TELJ_ALAP!W5 -> 0 | M3: =+FEKVO_TELJ_ALAP!AC5 -> 0 | N3: =+FEKVO_TELJ_ALAP!AJ5 -> 0 | O3: =+FEKVO_TELJ_ALAP!AR5 -> 0 | P3: =+IF(F3<>0,O3/F3,0) -> 0 | Q3: =+O3-J3 -> 0 | R3: =+IF(J3<>0,Q3/J3,0) -> 0
A4: 01 | B4: 1052 | C4: Mohács, VKh.Ri | D4: 481.69039 | E4: 6410.9591 | F4: 6811.5847 | G4: =+FEKVO_TVK!N5 -> 256.43837 | H4: =+FEKVO_TVK!T5 -> 0 | I4: =+FEKVO_TVK!Y5 -> 39.70886 | J4: =+FEKVO_TVK!AH5 -> 7188.7967 | K4: =+IF(F4<>0,J4/F4,0) -> 1.055378 | L4: =+FEKVO_TELJ_ALAP!W6 -> 272.46339 | M4: =+FEKVO_TELJ_ALAP!AC6 -> 0 | N4: =+FEKVO_TELJ_ALAP!AJ6 -> 39.70886 | O4: =+FEKVO_TELJ_ALAP!AR6 -> 7204.8218 | P4: =+IF(F4<>0,O4/F4,0) -> 1.0577306 | Q4: =+O4-J4 -> 16.025022 | R4: =+IF(J4<>0,Q4/J4,0) -> 0.0022291661
A5: 01 | B5: 2912 | C5: Pécsi Tudományegyetem OEKK | D5: 0 | E5: 96250.176 | F5: 110500.78 | G5: =+FEKVO_TVK!N6 -> 2887.5053 | H5: =+FEKVO_TVK!T6 -> 2919.2478 | I5: =+FEKVO_TVK!Y6 -> 1218.6363 | J5: =+FEKVO_TVK!AH6 -> 103275.57 | K5: =+IF(F5<>0,J5/F5,0) -> 0.93461391 | L5: =+FEKVO_TELJ_ALAP!W7 -> 3315.0234 | M5: =+FEKVO_TELJ_ALAP!AC7 -> 2938.2284 | N5: =+FEKVO_TELJ_ALAP!AJ7 -> 1218.6363 | O5: =+FEKVO_TELJ_ALAP!AR7 -> 103722.06 | P5: =+IF(F5<>0,O5/F5,0) -> 0.93865459 | Q5: =+O5-J5 -> 446.49869 | R5: =+IF(J5<>0,Q5/J5,0) -> 0.004323372
A6: 01 | B6: A316 | C6: Siklósi Kh. Hum.Eü.Nonprof.Kft | D6: 345.33598 | E6: 530.8309 | F6: 587.96632 | G6: =+FEKVO_TVK!N7 -> 26.541545 | H6: =+FEKVO_TVK!T7 -> 0 | I6: =+FEKVO_TVK!Y7 -> 0 | J6: =+FEKVO_TVK!AH7 -> 902.70842 | K6: =+IF(F6<>0,J6/F6,0) -> 1.5353063 | L6: =+FEKVO_TELJ_ALAP!W8 -> 29.398316 | M6: =+FEKVO_TELJ_ALAP!AC8 -> 0 | N6: =+FEKVO_TELJ_ALAP!AJ8 -> 0 | O6: =+FEKVO_TELJ_ALAP!AR8 -> 905.56519 | P6: =+IF(F6<>0,O6/F6,0) -> 1.5401651 | Q6: =+O6-J6 -> 2.8567712 | R6: =+IF(J6<>0,Q6/J6,0) -> 0.0031646666
A7: 01 | B7: C353 | C7: Uro Clin KFT, Pécs | D7: 840 | E7: 0 | F7: 0 | G7: =+FEKVO_TVK!N8 -> 0 | H7: =+FEKVO_TVK!T8 -> 0 | I7: =+FEKVO_TVK!Y8 -> 0 | J7: =+FEKVO_TVK!AH8 -> 840 | K7: =+IF(F7<>0,J7/F7,0) -> 0 | L7: =+FEKVO_TELJ_ALAP!W9 -> 0 | M7: =+FEKVO_TELJ_ALAP!AC9 -> 0 | N7: =+FEKVO_TELJ_ALAP!AJ9 -> 0 | O7: =+FEKVO_TELJ_ALAP!AR9 -> 840 | P7: =+IF(F7<>0,O7/F7,0) -> 0 | Q7: =+O7-J7 -> 0 | R7: =+IF(J7<>0,Q7/J7,0) -> 0
A8: 01 | B8: K327 | C8: Szigetvári Eü. Kft. | D8: 0 | E8: 4526.2428 | F8: 5031.077 | G8: =+FEKVO_TVK!N9 -> 181.04971 | H8: =+FEKVO_TVK!T9 -> 0 | I8: =+FEKVO_TVK!Y9 -> 42.963396 | J8: =+FEKVO_TVK!AH9 -> 4750.2559 | K8: =+IF(F8<>0,J8/F8,0) -> 0.94418272 | L8: =+FEKVO_TELJ_ALAP!W10 -> 201.24308 | M8: =+FEKVO_TELJ_ALAP!AC10 -> 0 | N8: =+FEKVO_TELJ_ALAP!AJ10 -> 42.963396 | O8: =+FEKVO_TELJ_ALAP!AR10 -> 4770.4493 | P8: =+IF(F8<>0,O8/F8,0) -> 0.94819645 | Q8: =+O8-J8 -> 20.193365 | R8: =+IF(J8<>0,Q8/J8,0) -> 0.0042510056
A9: 01 | B9: K526 | C9: Komlói Egészségcentrum Kft. | D9: 481.68302 | E9: 1708.3099 | F9: 2155.7683 | G9: =+FEKVO_TVK!N10 -> 85.415495 | H9: =+FEKVO_TVK!T10 -> 0 | I9: =+FEKVO_TVK!Y10 -> 0 | J9: =+FEKVO_TVK!AH10 -> 2275.4084 | K9: =+IF(F9<>0,J9/F9,0) -> 1.0554977 | L9: =+FEKVO_TELJ_ALAP!W11 -> 107.78842 | M9: =+FEKVO_TELJ_ALAP!AC11 -> 0 | N9: =+FEKVO_TELJ_ALAP!AJ11 -> 0 | O9: =+FEKVO_TELJ_ALAP!AR11 -> 2297.7813 | P9: =+IF(F9<>0,O9/F9,0) -> 1.0658758 | Q9: =+O9-J9 -> 22.37292 | R9: =+IF(J9<>0,Q9/J9,0) -> 0.0098324852
A10: 02 | B10: 1084 | C10: Baja, VKh.Ri. | D10: 0 | E10: 13353.012 | F10: 14303.076 | G10: =+FEKVO_TVK!N11 -> 667.65062 | H10: =+FEKVO_TVK!T11 -> 0 | I10: =+FEKVO_TVK!Y11 -> 267.95542 | J10: =+FEKVO_TVK!AH11 -> 14288.618 | K10: =+IF(F10<>0,J10/F10,0) -> 0.99898919 | L10: =+FEKVO_TELJ_ALAP!W12 -> 715.15381 | M10: =+FEKVO_TELJ_ALAP!AC12 -> 0 | N10: =+FEKVO_TELJ_ALAP!AJ12 -> 267.95542 | O10: =+FEKVO_TELJ_ALAP!AR12 -> 14336.122 | P10: =+IF(F10<>0,O10/F10,0) -> 1.0023104 | Q10: =+O10-J10 -> 47.503189 | R10: =+IF(J10<>0,Q10/J10,0) -> 0.0033245474
A11: 02 | B11: 1122 | C11: Kecskemét, BKM Önkorm. Kórháza | D11: 0 | E11: 45824.842 | F11: 54308.323 | G11: =+FEKVO_TVK!N12 -> 916.49683 | H11: =+FEKVO_TVK!T12 -> 1389.8579 | I11: =+FEKVO_TVK!Y12 -> 555.77616 | J11: =+FEKVO_TVK!AH12 -> 48693.842 | K11: =+IF(F11<>0,J11/F11,0) -> 0.89661839 | L11: =+FEKVO_TELJ_ALAP!W13 -> 1086.1665 | M11: =+FEKVO_TELJ_ALAP!AC13 -> 1444.0645 | N11: =+FEKVO_TELJ_ALAP!AJ13 -> 555.77616 | O11: =+FEKVO_TELJ_ALAP!AR13 -> 48910.849 | P11: =+IF(F11<>0,O11/F11,0) -> 0.90061423 | Q11: =+O11-J11 -> 217.00717 | R11: =+IF(J11<>0,Q11/J11,0) -> 0.0044565629
A12: 02 | B12: 1129 | C12: Kalocsa, VKh. Ri. | D12: 0 | E12: 6569.9331 | F12: 6969.1251 | G12: =+FEKVO_TVK!N13 -> 262.79732 | H12: =+FEKVO_TVK!T13 -> 0 | I12: =+FEKVO_TVK!Y13 -> 41.623708 | J12: =+FEKVO_TVK!AH13 -> 6874.3541 | K12: =+IF(F12<>0,J12/F12,0) -> 0.98640132 | L12: =+FEKVO_TELJ_ALAP!W14 -> 278.765 | M12: =+FEKVO_TELJ_ALAP!AC14 -> 0 | N12: =+FEKVO_TELJ_ALAP!AJ14 -> 41.623708 | O12: =+FEKVO_TELJ_ALAP!AR14 -> 6890.3218 | P12: =+IF(F12<>0,O12/F12,0) -> 0.98869252 | Q12: =+O12-J12 -> 15.967677 | R12: =+IF(J12<>0,Q12/J12,0) -> 0.0023227895
A13: 02 | B13: 1135 | C13: Kiskunfélegyh.Vkh.Ri.Gyf.Re.Kp | D13: 0 | E13: 2910.3089 | F13: 3054.7799 | G13: =+FEKVO_TVK!N14 -> 145.51545 | H13: =+FEKVO_TVK!T14 -> 0 | I13: =+FEKVO_TVK!Y14 -> 21.500018 | J13: =+FEKVO_TVK!AH14 -> 3077.3244 | K13: =+IF(F13<>0,J13/F13,0) -> 1.0073801 | L13: =+FEKVO_TELJ_ALAP!W15 -> 152.739 | M13: =+FEKVO_TELJ_ALAP!AC15 -> 0 | N13: =+FEKVO_TELJ_ALAP!AJ15 -> 21.500018 | O13: =+FEKVO_TELJ_ALAP!AR15 -> 3084.5479 | P13: =+IF(F13<>0,O13/F13,0) -> 1.0097447 | Q13: =+O13-J13 -> 7.2235509 | R13: =+IF(J13<>0,Q13/J13,0) -> 0.0023473479
A14: 02 | B14: M280 | C14: Semmelweis Halasi Kh. Np. Kft. | D14: 342.24 | E14: 14084.446 | F14: 15043.188 | G14: =+FEKVO_TVK!N15 -> 281.68891 | H14: =+FEKVO_TVK!T15 -> 0 | I14: =+FEKVO_TVK!Y15 -> 190.3949 | J14: =+FEKVO_TVK!AH15 -> 14898.769 | K14: =+IF(F14<>0,J14/F14,0) -> 0.99039972 | L14: =+FEKVO_TELJ_ALAP!W16 -> 300.86377 | M14: =+FEKVO_TELJ_ALAP!AC16 -> 0 | N14: =+FEKVO_TELJ_ALAP!AJ16 -> 190.3949 | O14: =+FEKVO_TELJ_ALAP!AR16 -> 14917.944 | P14: =+IF(F14<>0,O14/F14,0) -> 0.99167437 | Q14: =+O14-J14 -> 19.174853 | R14: =+IF(J14<>0,Q14/J14,0) -> 0.0012870092
... A143: 20 | B143: K620 | C143: Bp. IX.ker. Szakrendelő Kft. | D143: 342.55594 | E143: 0 | F143: 0 | G143: =+FEKVO_TVK!N144 -> 0 | H143: =+FEKVO_TVK!T144 -> 0 | I143: =+FEKVO_TVK!Y144 -> 0 | J143: =+FEKVO_TVK!AH144 -> 342.55594 | K143: =+IF(F143<>0,J143/F143,0) -> 0 | L143: =+FEKVO_TELJ_ALAP!W145 -> 0 | M143: =+FEKVO_TELJ_ALAP!AC145 -> 0 | N143: =+FEKVO_TELJ_ALAP!AJ145 -> 0 | O143: =+FEKVO_TELJ_ALAP!AR145 -> 342.55594 | P143: =+IF(F143<>0,O143/F143,0) -> 0 | Q143: =+O143-J143 -> 0 | R143: =+IF(J143<>0,Q143/J143,0) -> 0
C144: Összesen | D144: =+SUM(D3:D143) -> 24493.216 | E144: =+SUM(E3:E143) -> 1880669 | F144: =+SUM(F3:F143) -> 2114236.5 | G144: =+SUM(G3:G143) -> 42023.501 | H144: =+SUM(H3:H143) -> 37000 | I144: =+SUM(I3:I143) -> 26172.575 | J144: =+SUM(J3:J143) -> 2022890.9 | K144: =+IF(F144<>0,J144/F144,0) -> 0.956795 | L144: =+SUM(L3:L143) -> 47553.738 | M144: =+SUM(M3:M143) -> 37000 | N144: =+SUM(N3:N143) -> 26172.575 | O144: =+SUM(O3:O143) -> 2027464.6 | P144: =+IF(F144<>0,O144/F144,0) -> 0.95895828 | Q144: =+O144-J144 -> 4573.6785 | R144: =+IF(J144<>0,Q144/J144,0) -> 0.0022609615

Sheet FEKVO_TELJ_ALAP
A1: FEKVŐ | W1: =+W2-W3 -> 10446.262 | AC1: =+AC2-AC3 -> 0 | AD1: A RENDELKEZÉSRE ÁLLÓ SÚLYSZÁŰM KERET 6400 SÚLYSZÁMMAL MEGEMELVE | AJ1: =+AJ2-AJ3 -> -7172.5747 | AK1: =+AJ1+AC1+W1+6400 -> 9673.6868 | AL1: ki nem osztott | AM1: =+AQ146 -> -11576.075
O2: felső | P2: 0 | Q2: -0.05 | R2: -0.1 | S2: -0.15 | T2: -0.28 | U2: -1 | W2: 58000 | AC2: 37000 | AJ2: 19000 | AM2: =+AK1+AM1 -> -1902.3883
O3: többlet | P3: 0.01 | Q3: 0.02 | R3: 0.03 | S3: 0.04 | T3: 0.05 | W3: =+MIN(W2,U146) -> 47553.738 | AC3: =+MIN(AC2,Y146) -> 37000 | AG3: 0.2 | AI3: 0 | AJ3: =+AJ146 -> 26172.575
A4: megye | B4: intkod | C4: Kulcs | D4: egynapos | E4: Speeciális | F4: nev | G4: Pályázat EGYNAPOS TVK2010 | H4: 4.pont TVK2010 AKTUALIZALVA | I4: Telj_10 200911-201010 | J4: TVK2007 I.FELEV | K4: TVK2007 II.FELEV | L4: STRUKT VALT HATASA % | M4: TVK2006 12hó | N4: TVK2008 12hó | O4: STRUKT VALT HATASA % | P4: [0-5%[ | Q4: [5-10%[ | R4: [10-15%[ | S4: [15-28%[ | T4: [28- %[ | U4: Többlet | V4: Arány | W4: 5.a)pont STRUKTVÁLT TÖBBLET | X4: egyetem megyei országos egyházi szakkórház | Y4: TELJ2010 | Z4: TVK kihasználtság | AA4: Figyelembevehető (TVK kihasz>102%) | AB4: Arány | AC4: 5.b) egyetem megyei országos egyházi szakkórház | AD4: egynapos lehetséges | AE4: egynaposként elszámolt | AF4: Egynapos arány | AG4: lehetséges telj 20%-a | AH4: figyelembevehető többlet (>100 súlyszám a lehetséges 20%-a) | AI4: figyelembevehető többlet ii.-II. (egynapos arány >5%) | AJ4: 5.c) egynapos | AK4: TVK2011 ÉVES | AL4: EGYNAPOS TVK2011 | AM4: Össz TVK_2011 | AN4: TVK2010 miniszteri keret | AO4: TVK2010 miniszteri kerettel | AP4: TVK2010 miniszeri kerettel és egynapossal | AQ4: TVK hiány 2011-2010 | AR4: Korrigált TVK 2011
A5: 01 | B5: 1049 | C5: =CONCATENATE("xx",B5) -> xx1049 | D5: 0 | E5: 0 | F5: Pécs, Baranya megyei Kórház | G5: 0 | H5: 0 | I5: 0 | J5: 0 | K5: 0 | L5: =+IF(J5<>0,K5/J5-1,0) -> 0 | M5: 0 | N5: 0 | O5: =+IF(M5<>0,N5/M5-1,0) -> 0 | P5: =+IF(AND($O5<=P$2,$O5>Q$2),P$3,0)*$I5 -> 0 | Q5: =+IF(AND($O5<=Q$2,$O5>R$2),Q$3,0)*$I5 -> 0 | R5: =+IF(AND($O5<=R$2,$O5>S$2),R$3,0)*$I5 -> 0 | S5: =+IF(AND($O5<=S$2,$O5>T$2),S$3,0)*$I5 -> 0 | T5: =+IF(AND($O5<=T$2,$O5>U$2),T$3,0)*$I5 -> 0 | U5: =+SUM(P5:T5) -> 0 | V5: =+U5/$U$146 -> 0 | W5: =+V5*W$3 -> 0 | Y5: =+IF(X5<>"",I5,"") | AA5: =+IF($Z5>1.02,$Y5,0) -> 0 | AB5: =+IF(X5<>"",AA5/$AA$146,"") | AC5: =+IF(X5<>"",AB5*$AC$3,0) -> 0 | AD5: 0 | AE5: 0 | AF5: =+IF(AD5<>0,AE5/AD5,0) -> 0 | AG5: =$AG$3*AD5 -> 0 | AH5: =IF(AD5<100,1,0) -> 1 | AI5: =IF(AF5<$AI$3,"1",0) -> 0 | AJ5: =IF((AH5+AI5)>0,0,AG5) -> 0 | AK5: =+H5+W5+AC5 -> 0 | AL5: =+G5+AJ5 -> 0 | AM5: =AK5+AL5 -> 0 | AN5: 0 | AO5: =+AN5+H5 -> 0 | AP5: =+AO5+G5 -> 0 | AQ5: =IF((AM5-AP5)<0,AM5-AP5,0) -> 0 | AR5: =+AM5+(AQ5*-1) -> 0
A6: 01 | B6: 1052 | C6: =CONCATENATE("xx",B6) -> xx1052 | D6: 1 | E6: 0 | F6: Mohács, VKh.Ri | G6: 481.69039 | H6: 6410.9591 | I6: 6811.5847 | J6: 4759.24 | K6: 3659.38 | L6: =+IF(J6<>0,K6/J6-1,0) -> -0.23109992 | M6: 10328.44 | N6: 8270.8805 | O6: =+IF(M6<>0,N6/M6-1,0) -> -0.199213 | P6: =+IF(AND($O6<=P$2,$O6>Q$2),P$3,0)*$I6 -> 0 | Q6: =+IF(AND($O6<=Q$2,$O6>R$2),Q$3,0)*$I6 -> 0 | R6: =+IF(AND($O6<=R$2,$O6>S$2),R$3,0)*$I6 -> 0 | S6: =+IF(AND($O6<=S$2,$O6>T$2),S$3,0)*$I6 -> 272.46339 | T6: =+IF(AND($O6<=T$2,$O6>U$2),T$3,0)*$I6 -> 0 | U6: =+SUM(P6:T6) -> 272.46339 | V6: =+U6/$U$146 -> 0.0057295892 | W6: =+V6*W$3 -> 272.46339 | Y6: =+IF(X6<>"",I6,"") | AA6: =+IF($Z6>1.02,$Y6,0) -> 0 | AB6: =+IF(X6<>"",AA6/$AA$146,"") | AC6: =+IF(X6<>"",AB6*$AC$3,0) -> 0 | AD6: 198.5443 | AE6: 19.67586 | AF6: =+IF(AD6<>0,AE6/AD6,0) -> 0.099100604 | AG6: =$AG$3*AD6 -> 39.70886 | AH6: =IF(AD6<100,1,0) -> 0 | AI6: =IF(AF6<$AI$3,"1",0) -> 0 | AJ6: =IF((AH6+AI6)>0,0,AG6) -> 39.70886 | AK6: =+H6+W6+AC6 -> 6683.4225 | AL6: =+G6+AJ6 -> 521.39925 | AM6: =AK6+AL6 -> 7204.8218 | AN6: 0 | AO6: =+AN6+H6 -> 6410.9591 | AP6: =+AO6+G6 -> 6892.6495 | AQ6: =IF((AM6-AP6)<0,AM6-AP6,0) -> 0 | AR6: =+AM6+(AQ6*-1) -> 7204.8218
A7: 01 | B7: 2912 | C7: =CONCATENATE("xx",B7) -> xx2912 | D7: 0 | E7: 0 | F7: Pécsi Tudományegyetem OEKK | G7: 0 | H7: 96250.176 | I7: 110500.78 | J7: 60768.7 | K7: 52966.75 | L7: =+IF(J7<>0,K7/J7-1,0) -> -0.12838764 | M7: 127893.28 | N7: 113385.33 | O7: =+IF(M7<>0,N7/M7-1,0) -> -0.11343794 | P7: =+IF(AND($O7<=P$2,$O7>Q$2),P$3,0)*$I7 -> 0 | Q7: =+IF(AND($O7<=Q$2,$O7>R$2),Q$3,0)*$I7 -> 0 | R7: =+IF(AND($O7<=R$2,$O7>S$2),R$3,0)*$I7 -> 3315.0234 | S7: =+IF(AND($O7<=S$2,$O7>T$2),S$3,0)*$I7 -> 0 | T7: =+IF(AND($O7<=T$2,$O7>U$2),T$3,0)*$I7 -> 0 | U7: =+SUM(P7:T7) -> 3315.0234 | V7: =+U7/$U$146 -> 0.069711099 | W7: =+V7*W$3 -> 3315.0234 | X7: egyetem | Y7: =+IF(X7<>"",I7,"") -> 110500.78 | Z7: =I7/H7 -> 1.1480579 | AA7: =+IF($Z7>1.02,$Y7,0) -> 110500.78 | AB7: =+IF(X7<>"",AA7/$AA$146,"") -> 0.079411578 | AC7: =+IF(X7<>"",AB7*$AC$3,0) -> 2938.2284 | AD7: 6093.1813 | AE7: 1197.5706 | AF7: =+IF(AD7<>0,AE7/AD7,0) -> 0.19654275 | AG7: =$AG$3*AD7 -> 1218.6363 | AH7: =IF(AD7<100,1,0) -> 0 | AI7: =IF(AF7<$AI$3,"1",0) -> 0 | AJ7: =IF((AH7+AI7)>0,0,AG7) -> 1218.6363 | AK7: =+H7+W7+AC7 -> 102503.43 | AL7: =+G7+AJ7 -> 1218.6363 | AM7: =AK7+AL7 -> 103722.06 | AN7: 5301 | AO7: =+AN7+H7 -> 101551.18 | AP7: =+AO7+G7 -> 101551.18 | AQ7: =IF((AM7-AP7)<0,AM7-AP7,0) -> 0 | AR7: =+AM7+(AQ7*-1) -> 103722.06
A8: 01 | B8: A316 | C8: =CONCATENATE("xx",B8) -> xxA316 | D8: 1 | E8: 0 | F8: Siklósi Kh. Hum.Eü.Nonprof.Kft | G8: 345.33598 | H8: 530.8309 | I8: 587.96632 | J8: 1220.24 | K8: 415.25 | L8: =+IF(J8<>0,K8/J8-1,0) -> -0.65969809 | M8: 2705.97 | N8: 1089.8968 | O8: =+IF(M8<>0,N8/M8-1,0) -> -0.59722511 | P8: =+IF(AND($O8<=P$2,$O8>Q$2),P$3,0)*$I8 -> 0 | Q8: =+IF(AND($O8<=Q$2,$O8>R$2),Q$3,0)*$I8 -> 0 | R8: =+IF(AND($O8<=R$2,$O8>S$2),R$3,0)*$I8 -> 0 | S8: =+IF(AND($O8<=S$2,$O8>T$2),S$3,0)*$I8 -> 0 | T8: =+IF(AND($O8<=T$2,$O8>U$2),T$3,0)*$I8 -> 29.398316 | U8: =+SUM(P8:T8) -> 29.398316 | V8: =+U8/$U$146 -> 0.00061821251 | W8: =+V8*W$3 -> 29.398316 | Y8: =+IF(X8<>"",I8,"") | AA8: =+IF($Z8>1.02,$Y8,0) -> 0 | AB8: =+IF(X8<>"",AA8/$AA$146,"") | AC8: =+IF(X8<>"",AB8*$AC$3,0) -> 0 | AD8: 0 | AE8: 0 | AF8: =+IF(AD8<>0,AE8/AD8,0) -> 0 | AG8: =$AG$3*AD8 -> 0 | AH8: =IF(AD8<100,1,0) -> 1 | AI8: =IF(AF8<$AI$3,"1",0) -> 0 | AJ8: =IF((AH8+AI8)>0,0,AG8) -> 0 | AK8: =+H8+W8+AC8 -> 560.22921 | AL8: =+G8+AJ8 -> 345.33598 | AM8: =AK8+AL8 -> 905.56519 | AN8: 0 | AO8: =+AN8+H8 -> 530.8309 | AP8: =+AO8+G8 -> 876.16687 | AQ8: =IF((AM8-AP8)<0,AM8-AP8,0) -> 0 | AR8: =+AM8+(AQ8*-1) -> 905.56519
A9: 01 | B9: C353 | C9: =CONCATENATE("xx",B9) -> xxC353 | D9: 1 | E9: 0 | F9: Uro Clin KFT, Pécs | G9: 840 | H9: 0 | I9: 0 | J9: 0 | K9: 0 | L9: =+IF(J9<>0,K9/J9-1,0) -> 0 | M9: 0 | N9: 0 | O9: =+IF(M9<>0,N9/M9-1,0) -> 0 | P9: =+IF(AND($O9<=P$2,$O9>Q$2),P$3,0)*$I9 -> 0 | Q9: =+IF(AND($O9<=Q$2,$O9>R$2),Q$3,0)*$I9 -> 0 | R9: =+IF(AND($O9<=R$2,$O9>S$2),R$3,0)*$I9 -> 0 | S9: =+IF(AND($O9<=S$2,$O9>T$2),S$3,0)*$I9 -> 0 | T9: =+IF(AND($O9<=T$2,$O9>U$2),T$3,0)*$I9 -> 0 | U9: =+SUM(P9:T9) -> 0 | V9: =+U9/$U$146 -> 0 | W9: =+V9*W$3 -> 0 | Y9: =+IF(X9<>"",I9,"") | AA9: =+IF($Z9>1.02,$Y9,0) -> 0 | AB9: =+IF(X9<>"",AA9/$AA$146,"") | AC9: =+IF(X9<>"",AB9*$AC$3,0) -> 0 | AD9: 1.82472 | AE9: 0 | AF9: =+IF(AD9<>0,AE9/AD9,0) -> 0 | AG9: =$AG$3*AD9 -> 0.364944 | AH9: =IF(AD9<100,1,0) -> 1 | AI9: =IF(AF9<$AI$3,"1",0) -> 0 | AJ9: =IF((AH9+AI9)>0,0,AG9) -> 0 | AK9: =+H9+W9+AC9 -> 0 | AL9: =+G9+AJ9 -> 840 | AM9: =AK9+AL9 -> 840 | AN9: 0 | AO9: =+AN9+H9 -> 0 | AP9: =+AO9+G9 -> 840 | AQ9: =IF((AM9-AP9)<0,AM9-AP9,0) -> 0 | AR9: =+AM9+(AQ9*-1) -> 840
A10: 01 | B10: K327 | C10: =CONCATENATE("xx",B10) -> xxK327 | D10: 0 | E10: 0 | F10: Szigetvári Eü. Kft. | G10: 0 | H10: 4526.2428 | I10: 5031.077 | J10: 3216.52 | K10: 2492.52 | L10: =+IF(J10<>0,K10/J10-1,0) -> -0.22508798 | M10: 6983.7 | N10: 5501.2287 | O10: =+IF(M10<>0,N10/M10-1,0) -> -0.21227592 | P10: =+IF(AND($O10<=P$2,$O10>Q$2),P$3,0)*$I10 -> 0 | Q10: =+IF(AND($O10<=Q$2,$O10>R$2),Q$3,0)*$I10 -> 0 | R10: =+IF(AND($O10<=R$2,$O10>S$2),R$3,0)*$I10 -> 0 | S10: =+IF(AND($O10<=S$2,$O10>T$2),S$3,0)*$I10 -> 201.24308 | T10: =+IF(AND($O10<=T$2,$O10>U$2),T$3,0)*$I10 -> 0 | U10: =+SUM(P10:T10) -> 201.24308 | V10: =+U10/$U$146 -> 0.0042319087 | W10: =+V10*W$3 -> 201.24308 | Y10: =+IF(X10<>"",I10,"") | AA10: =+IF($Z10>1.02,$Y10,0) -> 0 | AB10: =+IF(X10<>"",AA10/$AA$146,"") | AC10: =+IF(X10<>"",AB10*$AC$3,0) -> 0 | AD10: 214.81698 | AE10: 1.92194 | AF10: =+IF(AD10<>0,AE10/AD10,0) -> 0.0089468719 | AG10: =$AG$3*AD10 -> 42.963396 | AH10: =IF(AD10<100,1,0) -> 0 | AI10: =IF(AF10<$AI$3,"1",0) -> 0 | AJ10: =IF((AH10+AI10)>0,0,AG10) -> 42.963396 | AK10: =+H10+W10+AC10 -> 4727.4859 | AL10: =+G10+AJ10 -> 42.963396 | AM10: =AK10+AL10 -> 4770.4493 | AN10: 0 | AO10: =+AN10+H10 -> 4526.2428 | AP10: =+AO10+G10 -> 4526.2428 | AQ10: =IF((AM10-AP10)<0,AM10-AP10,0) -> 0 | AR10: =+AM10+(AQ10*-1) -> 4770.4493
A11: 01 | B11: K526 | C11: =CONCATENATE("xx",B11) -> xxK526 | D11: 1 | E11: 0 | F11: Komlói Egészségcentrum Kft. | G11: 481.68302 | H11: 1708.3099 | I11: 2155.7683 | J11: 2139.93 | K11: 880.71 | L11: =+IF(J11<>0,K11/J11-1,0) -> -0.58843981 | M11: 4886.57 | N11: 2315.8413 | O11: =+IF(M11<>0,N11/M11-1,0) -> -0.5260804 | P11: =+IF(AND($O11<=P$2,$O11>Q$2),P$3,0)*$I11 -> 0 | Q11: =+IF(AND($O11<=Q$2,$O11>R$2),Q$3,0)*$I11 -> 0 | R11: =+IF(AND($O11<=R$2,$O11>S$2),R$3,0)*$I11 -> 0 | S11: =+IF(AND($O11<=S$2,$O11>T$2),S$3,0)*$I11 -> 0 | T11: =+IF(AND($O11<=T$2,$O11>U$2),T$3,0)*$I11 -> 107.78842 | U11: =+SUM(P11:T11) -> 107.78842 | V11: =+U11/$U$146 -> 0.0022666654 | W11: =+V11*W$3 -> 107.78842 | Y11: =+IF(X11<>"",I11,"") | AA11: =+IF($Z11>1.02,$Y11,0) -> 0 | AB11: =+IF(X11<>"",AA11/$AA$146,"") | AC11: =+IF(X11<>"",AB11*$AC$3,0) -> 0 | AD11: 72.24561 | AE11: 0.37552 | AF11: =+IF(AD11<>0,AE11/AD11,0) -> 0.0051978245 | AG11: =$AG$3*AD11 -> 14.449122 | AH11: =IF(AD11<100,1,0) -> 1 | AI11: =IF(AF11<$AI$3,"1",0) -> 0 | AJ11: =IF((AH11+AI11)>0,0,AG11) -> 0 | AK11: =+H11+W11+AC11 -> 1816.0983 | AL11: =+G11+AJ11 -> 481.68302 | AM11: =AK11+AL11 -> 2297.7813 | AN11: 47 | AO11: =+AN11+H11 -> 1755.3099 | AP11: =+AO11+G11 -> 2236.9929 | AQ11: =IF((AM11-AP11)<0,AM11-AP11,0) -> 0 | AR11: =+AM11+(AQ11*-1) -> 2297.7813
A12: 02 | B12: 1084 | C12: =CONCATENATE("xx",B12) -> xx1084 | D12: 0 | E12: 0 | F12: Baja, VKh.Ri. | G12: 0 | H12: 13353.012 | I12: 14303.076 | J12: 9230.39 | K12: 6630.9 | L12: =+IF(J12<>0,K12/J12-1,0) -> -0.28162299 | M12: 21669.6 | N12: 14221.689 | O12: =+IF(M12<>0,N12/M12-1,0) -> -0.34370322 | P12: =+IF(AND($O12<=P$2,$O12>Q$2),P$3,0)*$I12 -> 0 | Q12: =+IF(AND($O12<=Q$2,$O12>R$2),Q$3,0)*$I12 -> 0 | R12: =+IF(AND($O12<=R$2,$O12>S$2),R$3,0)*$I12 -> 0 | S12: =+IF(AND($O12<=S$2,$O12>T$2),S$3,0)*$I12 -> 0 | T12: =+IF(AND($O12<=T$2,$O12>U$2),T$3,0)*$I12 -> 715.15381 | U12: =+SUM(P12:T12) -> 715.15381 | V12: =+U12/$U$146 -> 0.015038856 | W12: =+V12*W$3 -> 715.15381 | Y12: =+IF(X12<>"",I12,"") | AA12: =+IF($Z12>1.02,$Y12,0) -> 0 | AB12: =+IF(X12<>"",AA12/$AA$146,"") | AC12: =+IF(X12<>"",AB12*$AC$3,0) -> 0 | AD12: 1339.7771 | AE12: 29.70904 | AF12: =+IF(AD12<>0,AE12/AD12,0) -> 0.022174614 | AG12: =$AG$3*AD12 -> 267.95542 | AH12: =IF(AD12<100,1,0) -> 0 | AI12: =IF(AF12<$AI$3,"1",0) -> 0 | AJ12: =IF((AH12+AI12)>0,0,AG12) -> 267.95542 | AK12: =+H12+W12+AC12 -> 14068.166 | AL12: =+G12+AJ12 -> 267.95542 | AM12: =AK12+AL12 -> 14336.122 | AN12: 0 | AO12: =+AN12+H12 -> 13353.012 | AP12: =+AO12+G12 -> 13353.012 | AQ12: =IF((AM12-AP12)<0,AM12-AP12,0) -> 0 | AR12: =+AM12+(AQ12*-1) -> 14336.122
A13: 02 | B13: 1122 | C13: =CONCATENATE("xx",B13) -> xx1122 | D13: 0 | E13: 0 | F13: Kecskemét, BKM Önkorm. Kórháza | G13: 0 | H13: 45824.842 | I13: 54308.323 | J13: 26456.24 | K13: 25457.99 | L13: =+IF(J13<>0,K13/J13-1,0) -> -0.037732119 | M13: 57498.61 | N13: 53955.397 | O13: =+IF(M13<>0,N13/M13-1,0) -> -0.061622593 | P13: =+IF(AND($O13<=P$2,$O13>Q$2),P$3,0)*$I13 -> 0 | Q13: =+IF(AND($O13<=Q$2,$O13>R$2),Q$3,0)*$I13 -> 1086.1665 | R13: =+IF(AND($O13<=R$2,$O13>S$2),R$3,0)*$I13 -> 0 | S13: =+IF(AND($O13<=S$2,$O13>T$2),S$3,0)*$I13 -> 0 | T13: =+IF(AND($O13<=T$2,$O13>U$2),T$3,0)*$I13 -> 0 | U13: =+SUM(P13:T13) -> 1086.1665 | V13: =+U13/$U$146 -> 0.022840822 | W13: =+V13*W$3 -> 1086.1665 | X13: megyei | Y13: =+IF(X13<>"",I13,"") -> 54308.323 | Z13: =I13/H13 -> 1.1851285 | AA13: =+IF($Z13>1.02,$Y13,0) -> 54308.323 | AB13: =+IF(X13<>"",AA13/$AA$146,"") -> 0.039028771 | AC13: =+IF(X13<>"",AB13*$AC$3,0) -> 1444.0645 | AD13: 2778.8808 | AE13: 779.94903 | AF13: =+IF(AD13<>0,AE13/AD13,0) -> 0.2806702 | AG13: =$AG$3*AD13 -> 555.77616 | AH13: =IF(AD13<100,1,0) -> 0 | AI13: =IF(AF13<$AI$3,"1",0) -> 0 | AJ13: =IF((AH13+AI13)>0,0,AG13) -> 555.77616 | AK13: =+H13+W13+AC13 -> 48355.073 | AL13: =+G13+AJ13 -> 555.77616 | AM13: =AK13+AL13 -> 48910.849 | AN13: 2869 | AO13: =+AN13+H13 -> 48693.842 | AP13: =+AO13+G13 -> 48693.842 | AQ13: =IF((AM13-AP13)<0,AM13-AP13,0) -> 0 | AR13: =+AM13+(AQ13*-1) -> 48910.849
A14: 02 | B14: 1129 | C14: =CONCATENATE("xx",B14) -> xx1129 | D14: 0 | E14: 0 | F14: Kalocsa, VKh. Ri. | G14: 0 | H14: 6569.9331 | I14: 6969.1251 | J14: 4666.78 | K14: 3641.15 | L14: =+IF(J14<>0,K14/J14-1,0) -> -0.21977252 | M14: 9914.71 | N14: 7708.9852 | O14: =+IF(M14<>0,N14/M14-1,0) -> -0.22246993 | P14: =+IF(AND($O14<=P$2,$O14>Q$2),P$3,0)*$I14 -> 0 | Q14: =+IF(AND($O14<=Q$2,$O14>R$2),Q$3,0)*$I14 -> 0 | R14: =+IF(AND($O14<=R$2,$O14>S$2),R$3,0)*$I14 -> 0 | S14: =+IF(AND($O14<=S$2,$O14>T$2),S$3,0)*$I14 -> 278.765 | T14: =+IF(AND($O14<=T$2,$O14>U$2),T$3,0)*$I14 -> 0 | U14: =+SUM(P14:T14) -> 278.765 | V14: =+U14/$U$146 -> 0.0058621049 | W14: =+V14*W$3 -> 278.765 | Y14: =+IF(X14<>"",I14,"") | AA14: =+IF($Z14>1.02,$Y14,0) -> 0 | AB14: =+IF(X14<>"",AA14/$AA$146,"") | AC14: =+IF(X14<>"",AB14*$AC$3,0) -> 0 | AD14: 208.11854 | AE14: 0 | AF14: =+IF(AD14<>0,AE14/AD14,0) -> 0 | AG14: =$AG$3*AD14 -> 41.623708 | AH14: =IF(AD14<100,1,0) -> 0 | AI14: =IF(AF14<$AI$3,"1",0) -> 0 | AJ14: =IF((AH14+AI14)>0,0,AG14) -> 41.623708 | AK14: =+H14+W14+AC14 -> 6848.6981 | AL14: =+G14+AJ14 -> 41.623708 | AM14: =AK14+AL14 -> 6890.3218 | AN14: 0 | AO14: =+AN14+H14 -> 6569.9331 | AP14: =+AO14+G14 -> 6569.9331 | AQ14: =IF((AM14-AP14)<0,AM14-AP14,0) -> 0 | AR14: =+AM14+(AQ14*-1) -> 6890.3218
A15: 02 | B15: 1135 | C15: =CONCATENATE("xx",B15) -> xx1135 | D15: 0 | E15: 0 | F15: Kiskunfélegyh.Vkh.Ri.Gyf.Re.Kp | G15: 0 | H15: 2910.3089 | I15: 3054.7799 | J15: 2351.33 | K15: 1611.53 | L15: =+IF(J15<>0,K15/J15-1,0) -> -0.31463044 | M15: 5315.3 | N15: 3318.6799 | O15: =+IF(M15<>0,N15/M15-1,0) -> -0.37563638 | P15: =+IF(AND($O15<=P$2,$O15>Q$2),P$3,0)*$I15 -> 0 | Q15: =+IF(AND($O15<=Q$2,$O15>R$2),Q$3,0)*$I15 -> 0 | R15: =+IF(AND($O15<=R$2,$O15>S$2),R$3,0)*$I15 -> 0 | S15: =+IF(AND($O15<=S$2,$O15>T$2),S$3,0)*$I15 -> 0 | T15: =+IF(AND($O15<=T$2,$O15>U$2),T$3,0)*$I15 -> 152.739 | U15: =+SUM(P15:T15) -> 152.739 | V15: =+U15/$U$146 -> 0.0032119241 | W15: =+V15*W$3 -> 152.739 | Y15: =+IF(X15<>"",I15,"") | AA15: =+IF($Z15>1.02,$Y15,0) -> 0 | AB15: =+IF(X15<>"",AA15/$AA$146,"") | AC15: =+IF(X15<>"",AB15*$AC$3,0) -> 0 | AD15: 107.50009 | AE15: 17.57077 | AF15: =+IF(AD15<>0,AE15/AD15,0) -> 0.16344889 | AG15: =$AG$3*AD15 -> 21.500018 | AH15: =IF(AD15<100,1,0) -> 0 | AI15: =IF(AF15<$AI$3,"1",0) -> 0 | AJ15: =IF((AH15+AI15)>0,0,AG15) -> 21.500018 | AK15: =+H15+W15+AC15 -> 3063.0479 | AL15: =+G15+AJ15 -> 21.500018 | AM15: =AK15+AL15 -> 3084.5479 | AN15: 0 | AO15: =+AN15+H15 -> 2910.3089 | AP15: =+AO15+G15 -> 2910.3089 | AQ15: =IF((AM15-AP15)<0,AM15-AP15,0) -> 0 | AR15: =+AM15+(AQ15*-1) -> 3084.5479
A16: 02 | B16: M280 | C16: =CONCATENATE("xx",B16) -> xxM280 | D16: 0 | E16: 0 | F16: Semmelweis Halasi Kh. Np. Kft. | G16: 342.24 | H16: 14084.446 | I16: 15043.188 | J16: 8618.43 | K16: 8094.58 | L16: =+IF(J16<>0,K16/J16-1,0) -> -0.060782532 | M16: 19515.51 | N16: 17648.474 | O16: =+IF(M16<>0,N16/M16-1,0) -> -0.09566935 | P16: =+IF(AND($O16<=P$2,$O16>Q$2),P$3,0)*$I16 -> 0 | Q16: =+IF(AND($O16<=Q$2,$O16>R$2),Q$3,0)*$I16 -> 300.86377 | R16: =+IF(AND($O16<=R$2,$O16>S$2),R$3,0)*$I16 -> 0 | S16: =+IF(AND($O16<=S$2,$O16>T$2),S$3,0)*$I16 -> 0 | T16: =+IF(AND($O16<=T$2,$O16>U$2),T$3,0)*$I16 -> 0 | U16: =+SUM(P16:T16) -> 300.86377 | V16: =+U16/$U$146 -> 0.0063268163 | W16: =+V16*W$3 -> 300.86377 | Y16: =+IF(X16<>"",I16,"") | AA16: =+IF($Z16>1.02,$Y16,0) -> 0 | AB16: =+IF(X16<>"",AA16/$AA$146,"") | AC16: =+IF(X16<>"",AB16*$AC$3,0) -> 0 | AD16: 951.97448 | AE16: 555.23057 | AF16: =+IF(AD16<>0,AE16/AD16,0) -> 0.58324102 | AG16: =$AG$3*AD16 -> 190.3949 | AH16: =IF(AD16<100,1,0) -> 0 | AI16: =IF(AF16<$AI$3,"1",0) -> 0 | AJ16: =IF((AH16+AI16)>0,0,AG16) -> 190.3949 | AK16: =+H16+W16+AC16 -> 14385.309 | AL16: =+G16+AJ16 -> 532.6349 | AM16: =AK16+AL16 -> 14917.944 | AN16: 309 | AO16: =+AN16+H16 -> 14393.446 | AP16: =+AO16+G16 -> 14735.686 | AQ16: =IF((AM16-AP16)<0,AM16-AP16,0) -> 0 | AR16: =+AM16+(AQ16*-1) -> 14917.944
A17: 03 | B17: 1243 | C17: =CONCATENATE("xx",B17) -> xx1243 | D17: 0 | E17: 0 | F17: Orosháza, V.Egy.Gy.-M. Int. | G17: 0 | H17: 9001.8246 | I17: 9665.6338 | J17: 5882.08 | K17: 4985.12 | L17: =+IF(J17<>0,K17/J17-1,0) -> -0.15249028 | M17: 13134.42 | N17: 10554.356 | O17: =+IF(M17<>0,N17/M17-1,0) -> -0.19643535 | P17: =+IF(AND($O17<=P$2,$O17>Q$2),P$3,0)*$I17 -> 0 | Q17: =+IF(AND($O17<=Q$2,$O17>R$2),Q$3,0)*$I17 -> 0 | R17: =+IF(AND($O17<=R$2,$O17>S$2),R$3,0)*$I17 -> 0 | S17: =+IF(AND($O17<=S$2,$O17>T$2),S$3,0)*$I17 -> 386.62535 | T17: =+IF(AND($O17<=T$2,$O17>U$2),T$3,0)*$I17 -> 0 | U17: =+SUM(P17:T17) -> 386.62535 | V17: =+U17/$U$146 -> 0.008130283 | W17: =+V17*W$3 -> 386.62535 | Y17: =+IF(X17<>"",I17,"") | AA17: =+IF($Z17>1.02,$Y17,0) -> 0 | AB17: =+IF(X17<>"",AA17/$AA$146,"") | AC17: =+IF(X17<>"",AB17*$AC$3,0) -> 0 | AD17: 897.31336 | AE17: 14.05664 | AF17: =+IF(AD17<>0,AE17/AD17,0) -> 0.015665252 | AG17: =$AG$3*AD17 -> 179.46267 | AH17: =IF(AD17<100,1,0) -> 0 | AI17: =IF(AF17<$AI$3,"1",0) -> 0 | AJ17: =IF((AH17+AI17)>0,0,AG17) -> 179.46267 | AK17: =+H17+W17+AC17 -> 9388.4499 | AL17: =+G17+AJ17 -> 179.46267 | AM17: =AK17+AL17 -> 9567.9126 | AN17: 0 | AO17: =+AN17+H17 -> 9001.8246 | AP17: =+AO17+G17 -> 9001.8246 | AQ17: =IF((AM17-AP17)<0,AM17-AP17,0) -> 0 | AR17: =+AM17+(AQ17*-1) -> 9567.9126
A18: 03 | B18: 1248 | C18: =CONCATENATE("xx",B18) -> xx1248 | D18: 0 | E18: 0 | F18: Gyula, Pándy Kálmán MKh.Ri. | G18: 0 | H18: 32145.707 | I18: 37412.465 | J18: 20367.41 | K18: 18383.31 | L18: =+IF(J18<>0,K18/J18-1,0) -> -0.09741543 | M18: 46786.06 | N18: 39691.298 | O18: =+IF(M18<>0,N18/M18-1,0) -> -0.15164265 | P18: =+IF(AND($O18<=P$2,$O18>Q$2),P$3,0)*$I18 -> 0 | Q18: =+IF(AND($O18<=Q$2,$O18>R$2),Q$3,0)*$I18 -> 0 | R18: =+IF(AND($O18<=R$2,$O18>S$2),R$3,0)*$I18 -> 0 | S18: =+IF(AND($O18<=S$2,$O18>T$2),S$3,0)*$I18 -> 1496.4986 | T18: =+IF(AND($O18<=T$2,$O18>U$2),T$3,0)*$I18 -> 0 | U18: =+SUM(P18:T18) -> 1496.4986 | V18: =+U18/$U$146 -> 0.031469631 | W18: =+V18*W$3 -> 1496.4986 | X18: megyei | Y18: =+IF(X18<>"",I18,"") -> 37412.465 | Z18: =I18/H18 -> 1.1638402 | AA18: =+IF($Z18>1.02,$Y18,0) -> 37412.465 | AB18: =+IF(X18<>"",AA18/$AA$146,"") -> 0.026886533 | AC18: =+IF(X18<>"",AB18*$AC$3,0) -> 994.80172 | AD18: 2030.6175 | AE18: 6.86521 | AF18: =+IF(AD18<>0,AE18/AD18,0) -> 0.0033808485 | AG18: =$AG$3*AD18 -> 406.1235 | AH18: =IF(AD18<100,1,0) -> 0 | AI18: =IF(AF18<$AI$3,"1",0) -> 0 | AJ18: =IF((AH18+AI18)>0,0,AG18) -> 406.1235 | AK18: =+H18+W18+AC18 -> 34637.007 | AL18: =+G18+AJ18 -> 406.1235 | AM18: =AK18+AL18 -> 35043.131 | AN18: 710 | AO18: =+AN18+H18 -> 32855.707 | AP18: =+AO18+G18 -> 32855.707 | AQ18: =IF((AM18-AP18)<0,AM18-AP18,0) -> 0 | AR18: =+AM18+(AQ18*-1) -> 35043.131
A19: 03 | B19: 1249 | C19: =CONCATENATE("xx",B19) -> xx1249 | D19: 1 | E19: 0 | F19: Békéscsaba, Réthy Pál VKh.Ri. | G19: 477.61351 | H19: 11530.342 | I19: 12529.937 | J19: 7629.14 | K19: 6057.35 | L19: =+IF(J19<>0,K19/J19-1,0) -> -0.20602453 | M19: 18281.9 | N19: 14009.356 | O19: =+IF(M19<>0,N19/M19-1,0) -> -0.23370348 | P19: =+IF(AND($O19<=P$2,$O19>Q$2),P$3,0)*$I19 -> 0 | Q19: =+IF(AND($O19<=Q$2,$O19>R$2),Q$3,0)*$I19 -> 0 | R19: =+IF(AND($O19<=R$2,$O19>S$2),R$3,0)*$I19 -> 0 | S19: =+IF(AND($O19<=S$2,$O19>T$2),S$3,0)*$I19 -> 501.19749 | T19: =+IF(AND($O19<=T$2,$O19>U$2),T$3,0)*$I19 -> 0 | U19: =+SUM(P19:T19) -> 501.19749 | V19: =+U19/$U$146 -> 0.010539602 | W19: =+V19*W$3 -> 501.19749 | Y19: =+IF(X19<>"",I19,"") | AA19: =+IF($Z19>1.02,$Y19,0) -> 0 | AB19: =+IF(X19<>"",AA19/$AA$146,"") | AC19: =+IF(X19<>"",AB19*$AC$3,0) -> 0 | AD19: 494.62359 | AE19: 65.41669 | AF19: =+IF(AD19<>0,AE19/AD19,0) -> 0.1322555 | AG19: =$AG$3*AD19 -> 98.924718 | AH19: =IF(AD19<100,1,0) -> 0 | AI19: =IF(AF19<$AI$3,"1",0) -> 0 | AJ19: =IF((AH19+AI19)>0,0,AG19) -> 98.924718 | AK19: =+H19+W19+AC19 -> 12031.539 | AL19: =+G19+AJ19 -> 576.53822 | AM19: =AK19+AL19 -> 12608.077 | AN19: 0 | AO19: =+AN19+H19 -> 11530.342 | AP19: =+AO19+G19 -> 12007.955 | AQ19: =IF((AM19-AP19)<0,AM19-AP19,0) -> 0 | AR19: =+AM19+(AQ19*-1) -> 12608.077
A20: 04 | B20: 1301 | C20: =CONCATENATE("xx",B20) -> xx1301 | D20: 0 | E20: 0 | F20: Edelény, Koch Róbert Kh.és Ri. | G20: 0 | H20: 3991.3252 | I20: 3966.8397 | J20: 1846.06 | K20: 1901.76 | L20: =+IF(J20<>0,K20/J20-1,0) -> 0.030172367 | M20: 3861.9 | N20: 3887.813 | O20: =+IF(M20<>0,N20/M20-1,0) -> 0.0067099077 | P20: =+IF(AND($O20<=P$2,$O20>Q$2),P$3,0)*$I20 -> 0 | Q20: =+IF(AND($O20<=Q$2,$O20>R$2),Q$3,0)*$I20 -> 0 | R20: =+IF(AND($O20<=R$2,$O20>S$2),R$3,0)*$I20 -> 0 | S20: =+IF(AND($O20<=S$2,$O20>T$2),S$3,0)*$I20 -> 0 | T20: =+IF(AND($O20<=T$2,$O20>U$2),T$3,0)*$I20 -> 0 | U20: =+SUM(P20:T20) -> 0 | V20: =+U20/$U$146 -> 0 | W20: =+V20*W$3 -> 0 | Y20: =+IF(X20<>"",I20,"") | AA20: =+IF($Z20>1.02,$Y20,0) -> 0 | AB20: =+IF(X20<>"",AA20/$AA$146,"") | AC20: =+IF(X20<>"",AB20*$AC$3,0) -> 0 | AD20: 0 | AE20: 0 | AF20: =+IF(AD20<>0,AE20/AD20,0) -> 0 | AG20: =$AG$3*AD20 -> 0 | AH20: =IF(AD20<100,1,0) -> 1 | AI20: =IF(AF20<$AI$3,"1",0) -> 0 | AJ20: =IF((AH20+AI20)>0,0,AG20) -> 0 | AK20: =+H20+W20+AC20 -> 3991.3252 | AL20: =+G20+AJ20 -> 0 | AM20: =AK20+AL20 -> 3991.3252 | AN20: 0 | AO20: =+AN20+H20 -> 3991.3252 | AP20: =+AO20+G20 -> 3991.3252 | AQ20: =IF((AM20-AP20)<0,AM20-AP20,0) -> 0 | AR20: =+AM20+(AQ20*-1) -> 3991.3252
A21: 04 | B21: 1349 | C21: =CONCATENATE("xx",B21) -> xx1349 | D21: 0 | E21: 0 | F21: Miskolc, BAZ.M.Kh.Egyetemi Okt | G21: 0 | H21: 68267.412 | I21: 79905.25 | J21: 33220.77 | K21: 36972.87 | L21: =+IF(J21<>0,K21/J21-1,0) -> 0.1129444 | M21: 69888.99 | N21: 79923.199 | O21: =+IF(M21<>0,N21/M21-1,0) -> 0.14357352 | P21: =+IF(AND($O21<=P$2,$O21>Q$2),P$3,0)*$I21 -> 0 | Q21: =+IF(AND($O21<=Q$2,$O21>R$2),Q$3,0)*$I21 -> 0 | R21: =+IF(AND($O21<=R$2,$O21>S$2),R$3,0)*$I21 -> 0 | S21: =+IF(AND($O21<=S$2,$O21>T$2),S$3,0)*$I21 -> 0 | T21: =+IF(AND($O21<=T$2,$O21>U$2),T$3,0)*$I21 -> 0 | U21: =+SUM(P21:T21) -> 0 | V21: =+U21/$U$146 -> 0 | W21: =+V21*W$3 -> 0 | X21: megyei | Y21: =+IF(X21<>"",I21,"") -> 79905.25 | Z21: =I21/H21 -> 1.1704743 | AA21: =+IF($Z21>1.02,$Y21,0) -> 79905.25 | AB21: =+IF(X21<>"",AA21/$AA$146,"") -> 0.057424047 | AC21: =+IF(X21<>"",AB21*$AC$3,0) -> 2124.6897 | AD21: 3056.1358 | AE21: 258.3376 | AF21: =+IF(AD21<>0,AE21/AD21,0) -> 0.084530799 | AG21: =$AG$3*AD21 -> 611.22715 | AH21: =IF(AD21<100,1,0) -> 0 | AI21: =IF(AF21<$AI$3,"1",0) -> 0 | AJ21: =IF((AH21+AI21)>0,0,AG21) -> 611.22715 | AK21: =+H21+W21+AC21 -> 70392.102 | AL21: =+G21+AJ21 -> 611.22715 | AM21: =AK21+AL21 -> 71003.329 | AN21: 4245 | AO21: =+AN21+H21 -> 72512.412 | AP21: =+AO21+G21 -> 72512.412 | AQ21: =IF((AM21-AP21)<0,AM21-AP21,0) -> -1509.0831 | AR21: =+AM21+(AQ21*-1) -> 72512.412
A22: 04 | B22: 1403 | C22: =CONCATENATE("xx",B22) -> xx1403 | D22: 1 | E22: 0 | F22: Szikszó, II. Rákóczi F. Kórház | G22: 861.42223 | H22: 0 | I22: 0 | J22: 0 | K22: 0 | L22: =+IF(J22<>0,K22/J22-1,0) -> 0 | M22: 0 | N22: 0 | O22: =+IF(M22<>0,N22/M22-1,0) -> 0 | P22: =+IF(AND($O22<=P$2,$O22>Q$2),P$3,0)*$I22 -> 0 | Q22: =+IF(AND($O22<=Q$2,$O22>R$2),Q$3,0)*$I22 -> 0 | R22: =+IF(AND($O22<=R$2,$O22>S$2),R$3,0)*$I22 -> 0 | S22: =+IF(AND($O22<=S$2,$O22>T$2),S$3,0)*$I22 -> 0 | T22: =+IF(AND($O22<=T$2,$O22>U$2),T$3,0)*$I22 -> 0 | U22: =+SUM(P22:T22) -> 0 | V22: =+U22/$U$146 -> 0 | W22: =+V22*W$3 -> 0 | Y22: =+IF(X22<>"",I22,"") | AA22: =+IF($Z22>1.02,$Y22,0) -> 0 | AB22: =+IF(X22<>"",AA22/$AA$146,"") | AC22: =+IF(X22<>"",AB22*$AC$3,0) -> 0 | AD22: 2.11228 | AE22: 0 | AF22: =+IF(AD22<>0,AE22/AD22,0) -> 0 | AG22: =$AG$3*AD22 -> 0.422456 | AH22: =IF(AD22<100,1,0) -> 1 | AI22: =IF(AF22<$AI$3,"1",0) -> 0 | AJ22: =IF((AH22+AI22)>0,0,AG22) -> 0 | AK22: =+H22+W22+AC22 -> 0 | AL22: =+G22+AJ22 -> 861.42223 | AM22: =AK22+AL22 -> 861.42223 | AN22: 0 | AO22: =+AN22+H22 -> 0 | AP22: =+AO22+G22 -> 861.42223 | AQ22: =IF((AM22-AP22)<0,AM22-AP22,0) -> 0 | AR22: =+AM22+(AQ22*-1) -> 861.42223
A23: 04 | B23: 1407 | C23: =CONCATENATE("xx",B23) -> xx1407 | D23: 0 | E23: 0 | F23: Sátoraljaújhely, Erzsébet VKh. | G23: 0 | H23: 8389.1682 | I23: 8559.9492 | J23: 4679.68 | K23: 4593.49 | L23: =+IF(J23<>0,K23/J23-1,0) -> -0.018417926 | M23: 10481.15 | N23: 9605.1445 | O23: =+IF(M23<>0,N23/M23-1,0) -> -0.083579136 | P23: =+IF(AND($O23<=P$2,$O23>Q$2),P$3,0)*$I23 -> 0 | Q23: =+IF(AND($O23<=Q$2,$O23>R$2),Q$3,0)*$I23 -> 171.19898 | R23: =+IF(AND($O23<=R$2,$O23>S$2),R$3,0)*$I23 -> 0 | S23: =+IF(AND($O23<=S$2,$O23>T$2),S$3,0)*$I23 -> 0 | T23: =+IF(AND($O23<=T$2,$O23>U$2),T$3,0)*$I23 -> 0 | U23: =+SUM(P23:T23) -> 171.19898 | V23: =+U23/$U$146 -> 0.0036001162 | W23: =+V23*W$3 -> 171.19898 | Y23: =+IF(X23<>"",I23,"") | AA23: =+IF($Z23>1.02,$Y23,0) -> 0 | AB23: =+IF(X23<>"",AA23/$AA$146,"") | AC23: =+IF(X23<>"",AB23*$AC$3,0) -> 0 | AD23: 292.67601 | AE23: 0.59696 | AF23: =+IF(AD23<>0,AE23/AD23,0) -> 0.0020396615 | AG23: =$AG$3*AD23 -> 58.535202 | AH23: =IF(AD23<100,1,0) -> 0 | AI23: =IF(AF23<$AI$3,"1",0) -> 0 | AJ23: =IF((AH23+AI23)>0,0,AG23) -> 58.535202 | AK23: =+H23+W23+AC23 -> 8560.3672 | AL23: =+G23+AJ23 -> 58.535202 | AM23: =AK23+AL23 -> 8618.9024 | AN23: 180 | AO23: =+AN23+H23 -> 8569.1682 | AP23: =+AO23+G23 -> 8569.1682 | AQ23: =IF((AM23-AP23)<0,AM23-AP23,0) -> 0 | AR23: =+AM23+(AQ23*-1) -> 8618.9024
A24: 04 | B24: M058 | C24: =CONCATENATE("xx",B24) -> xxM058 | D24: 0 | E24: 0 | F24: DEOEC Kazincbarcika Kh. kft. | G24: 0 | H24: 7410.0583 | I24: 7967.9996 | J24: 3044.34 | K24: 2504.84 | L24: =+IF(J24<>0,K24/J24-1,0) -> -0.17721411 | M24: 6621.87 | N24: 6268.4204 | O24: =+IF(M24<>0,N24/M24-1,0) -> -0.053376101 | P24: =+IF(AND($O24<=P$2,$O24>Q$2),P$3,0)*$I24 -> 0 | Q24: =+IF(AND($O24<=Q$2,$O24>R$2),Q$3,0)*$I24 -> 159.35999 | R24: =+IF(AND($O24<=R$2,$O24>S$2),R$3,0)*$I24 -> 0 | S24: =+IF(AND($O24<=S$2,$O24>T$2),S$3,0)*$I24 -> 0 | T24: =+IF(AND($O24<=T$2,$O24>U$2),T$3,0)*$I24 -> 0 | U24: =+SUM(P24:T24) -> 159.35999 | V24: =+U24/$U$146 -> 0.0033511559 | W24: =+V24*W$3 -> 159.35999 | Y24: =+IF(X24<>"",I24,"") | AA24: =+IF($Z24>1.02,$Y24,0) -> 0 | AB24: =+IF(X24<>"",AA24/$AA$146,"") | AC24: =+IF(X24<>"",AB24*$AC$3,0) -> 0 | AD24: 426.69627 | AE24: 8.78051 | AF24: =+IF(AD24<>0,AE24/AD24,0) -> 0.020577893 | AG24: =$AG$3*AD24 -> 85.339254 | AH24: =IF(AD24<100,1,0) -> 0 | AI24: =IF(AF24<$AI$3,"1",0) -> 0 | AJ24: =IF((AH24+AI24)>0,0,AG24) -> 85.339254 | AK24: =+H24+W24+AC24 -> 7569.4183 | AL24: =+G24+AJ24 -> 85.339254 | AM24: =AK24+AL24 -> 7654.7575 | AN24: 0 | AO24: =+AN24+H24 -> 7410.0583 | AP24: =+AO24+G24 -> 7410.0583 | AQ24: =IF((AM24-AP24)<0,AM24-AP24,0) -> 0 | AR24: =+AM24+(AQ24*-1) -> 7654.7575
A25: 04 | B25: M094 | C25: =CONCATENATE("xx",B25) -> xxM094 | D25: 0 | E25: 0 | F25: MISEK | G25: 0 | H25: 27146.364 | I25: 30028.077 | J25: 17339.95 | K25: 16181.9 | L25: =+IF(J25<>0,K25/J25-1,0) -> -0.066785083 | M25: 37462.43 | N25: 33794.423 | O25: =+IF(M25<>0,N25/M25-1,0) -> -0.097911626 | P25: =+IF(AND($O25<=P$2,$O25>Q$2),P$3,0)*$I25 -> 0 | Q25: =+IF(AND($O25<=Q$2,$O25>R$2),Q$3,0)*$I25 -> 600.56154 | R25: =+IF(AND($O25<=R$2,$O25>S$2),R$3,0)*$I25 -> 0 | S25: =+IF(AND($O25<=S$2,$O25>T$2),S$3,0)*$I25 -> 0 | T25: =+IF(AND($O25<=T$2,$O25>U$2),T$3,0)*$I25 -> 0 | U25: =+SUM(P25:T25) -> 600.56154 | V25: =+U25/$U$146 -> 0.012629113 | W25: =+V25*W$3 -> 600.56154 | Y25: =+IF(X25<>"",I25,"") | AA25: =+IF($Z25>1.02,$Y25,0) -> 0 | AB25: =+IF(X25<>"",AA25/$AA$146,"") | AC25: =+IF(X25<>"",AB25*$AC$3,0) -> 0 | AD25: 3426.0015 | AE25: 1407.37 | AF25: =+IF(AD25<>0,AE25/AD25,0) -> 0.41079082 | AG25: =$AG$3*AD25 -> 685.2003 | AH25: =IF(AD25<100,1,0) -> 0 | AI25: =IF(AF25<$AI$3,"1",0) -> 0 | AJ25: =IF((AH25+AI25)>0,0,AG25) -> 685.2003 | AK25: =+H25+W25+AC25 -> 27746.926 | AL25: =+G25+AJ25 -> 685.2003 | AM25: =AK25+AL25 -> 28432.126 | AN25: 800 | AO25: =+AN25+H25 -> 27946.364 | AP25: =+AO25+G25 -> 27946.364 | AQ25: =IF((AM25-AP25)<0,AM25-AP25,0) -> 0 | AR25: =+AM25+(AQ25*-1) -> 28432.126
A26: 04 | B26: M132 | C26: =CONCATENATE("xx",B26) -> xxM132 | D26: 0 | E26: 0 | F26: Ózd, Almási Balogh Pál Kft. | G26: 0 | H26: 7644.0201 | I26: 8886.4056 | J26: 4131.94 | K26: 4752.85 | L26: =+IF(J26<>0,K26/J26-1,0) -> 0.15027082 | M26: 9166.12 | N26: 9588.7299 | O26: =+IF(M26<>0,N26/M26-1,0) -> 0.046105653 | P26: =+IF(AND($O26<=P$2,$O26>Q$2),P$3,0)*$I26 -> 0 | Q26: =+IF(AND($O26<=Q$2,$O26>R$2),Q$3,0)*$I26 -> 0 | R26: =+IF(AND($O26<=R$2,$O26>S$2),R$3,0)*$I26 -> 0 | S26: =+IF(AND($O26<=S$2,$O26>T$2),S$3,0)*$I26 -> 0 | T26: =+IF(AND($O26<=T$2,$O26>U$2),T$3,0)*$I26 -> 0 | U26: =+SUM(P26:T26) -> 0 | V26: =+U26/$U$146 -> 0 | W26: =+V26*W$3 -> 0 | Y26: =+IF(X26<>"",I26,"") | AA26: =+IF($Z26>1.02,$Y26,0) -> 0 | AB26: =+IF(X26<>"",AA26/$AA$146,"") | AC26: =+IF(X26<>"",AB26*$AC$3,0) -> 0 | AD26: 262.89772 | AE26: 1.72387 | AF26: =+IF(AD26<>0,AE26/AD26,0) -> 0.0065571889 | AG26: =$AG$3*AD26 -> 52.579544 | AH26: =IF(AD26<100,1,0) -> 0 | AI26: =IF(AF26<$AI$3,"1",0) -> 0 | AJ26: =IF((AH26+AI26)>0,0,AG26) -> 52.579544 | AK26: =+H26+W26+AC26 -> 7644.0201 | AL26: =+G26+AJ26 -> 52.579544 | AM26: =AK26+AL26 -> 7696.5996 | AN26: 164 | AO26: =+AN26+H26 -> 7808.0201 | AP26: =+AO26+G26 -> 7808.0201 | AQ26: =IF((AM26-AP26)<0,AM26-AP26,0) -> -111.42046 | AR26: =+AM26+(AQ26*-1) -> 7808.0201
A27: 05 | B27: 1454 | C27: =CONCATENATE("xx",B27) -> xx1454 | D27: 1 | E27: 0 | F27: Hódmezővásárhely,Erzsébet KH.R | G27: 474.55279 | H27: 3979.9497 | I27: 4214.2084 | J27: 4828.14 | K27: 2269.7 | L27: =+IF(J27<>0,K27/J27-1,0) -> -0.52990178 | M27: 10797.72 | N27: 5139.5985 | O27: =+IF(M27<>0,N27/M27-1,0) -> -0.52401077 | P27: =+IF(AND($O27<=P$2,$O27>Q$2),P$3,0)*$I27 -> 0 | Q27: =+IF(AND($O27<=Q$2,$O27>R$2),Q$3,0)*$I27 -> 0 | R27: =+IF(AND($O27<=R$2,$O27>S$2),R$3,0)*$I27 -> 0 | S27: =+IF(AND($O27<=S$2,$O27>T$2),S$3,0)*$I27 -> 0 | T27: =+IF(AND($O27<=T$2,$O27>U$2),T$3,0)*$I27 -> 210.71042 | U27: =+SUM(P27:T27) -> 210.71042 | V27: =+U27/$U$146 -> 0.0044309959 | W27: =+V27*W$3 -> 210.71042 | Y27: =+IF(X27<>"",I27,"") | AA27: =+IF($Z27>1.02,$Y27,0) -> 0 | AB27: =+IF(X27<>"",AA27/$AA$146,"") | AC27: =+IF(X27<>"",AB27*$AC$3,0) -> 0 | AD27: 106.39524 | AE27: 0 | AF27: =+IF(AD27<>0,AE27/AD27,0) -> 0 | AG27: =$AG$3*AD27 -> 21.279048 | AH27: =IF(AD27<100,1,0) -> 0 | AI27: =IF(AF27<$AI$3,"1",0) -> 0 | AJ27: =IF((AH27+AI27)>0,0,AG27) -> 21.279048 | AK27: =+H27+W27+AC27 -> 4190.6601 | AL27: =+G27+AJ27 -> 495.83184 | AM27: =AK27+AL27 -> 4686.492 | AN27: 0 | AO27: =+AN27+H27 -> 3979.9497 | AP27: =+AO27+G27 -> 4454.5025 | AQ27: =IF((AM27-AP27)<0,AM27-AP27,0) -> 0 | AR27: =+AM27+(AQ27*-1) -> 4686.492
A28: 05 | B28: 1460 | C28: =CONCATENATE("xx",B28) -> xx1460 | D28: 1 | E28: 0 | F28: Makó, Dr.Diósszilágyi S.V.Kh. | G28: 376.95129 | H28: 3740.862 | I28: 4243.0353 | J28: 3875 | K28: 2094.72 | L28: =+IF(J28<>0,K28/J28-1,0) -> -0.4594271 | M28: 8301 | N28: 4755.6385 | O28: =+IF(M28<>0,N28/M28-1,0) -> -0.42710053 | P28: =+IF(AND($O28<=P$2,$O28>Q$2),P$3,0)*$I28 -> 0 | Q28: =+IF(AND($O28<=Q$2,$O28>R$2),Q$3,0)*$I28 -> 0 | R28: =+IF(AND($O28<=R$2,$O28>S$2),R$3,0)*$I28 -> 0 | S28: =+IF(AND($O28<=S$2,$O28>T$2),S$3,0)*$I28 -> 0 | T28: =+IF(AND($O28<=T$2,$O28>U$2),T$3,0)*$I28 -> 212.15177 | U28: =+SUM(P28:T28) -> 212.15177 | V28: =+U28/$U$146 -> 0.0044613058 | W28: =+V28*W$3 -> 212.15177 | Y28: =+IF(X28<>"",I28,"") | AA28: =+IF($Z28>1.02,$Y28,0) -> 0 | AB28: =+IF(X28<>"",AA28/$AA$146,"") | AC28: =+IF(X28<>"",AB28*$AC$3,0) -> 0 | AD28: 170.98982 | AE28: 78.47082 | AF28: =+IF(AD28<>0,AE28/AD28,0) -> 0.458921 | AG28: =$AG$3*AD28 -> 34.197964 | AH28: =IF(AD28<100,1,0) -> 0 | AI28: =IF(AF28<$AI$3,"1",0) -> 0 | AJ28: =IF((AH28+AI28)>0,0,AG28) -> 34.197964 | AK28: =+H28+W28+AC28 -> 3953.0138 | AL28: =+G28+AJ28 -> 411.14926 | AM28: =AK28+AL28 -> 4364.1631 | AN28: 228.76722 | AO28: =+AN28+H28 -> 3969.6293 | AP28: =+AO28+G28 -> 4346.5806 | AQ28: =IF((AM28-AP28)<0,AM28-AP28,0) -> 0 | AR28: =+AM28+(AQ28*-1) -> 4364.1631
A29: 05 | B29: 1484 | C29: =CONCATENATE("xx",B29) -> xx1484 | D29: 0 | E29: 0 | F29: Deszk, Mellkasi Betegs.Szakkh. | G29: 0 | H29: 3359.6584 | I29: 3921.8762 | J29: 2225.05 | K29: 1884.43 | L29: =+IF(J29<>0,K29/J29-1,0) -> -0.1530842 | M29: 4519.27 | N29: 3868.0141 | O29: =+IF(M29<>0,N29/M29-1,0) -> -0.14410644 | P29: =+IF(AND($O29<=P$2,$O29>Q$2),P$3,0)*$I29 -> 0 | Q29: =+IF(AND($O29<=Q$2,$O29>R$2),Q$3,0)*$I29 -> 0 | R29: =+IF(AND($O29<=R$2,$O29>S$2),R$3,0)*$I29 -> 117.65629 | S29: =+IF(AND($O29<=S$2,$O29>T$2),S$3,0)*$I29 -> 0 | T29: =+IF(AND($O29<=T$2,$O29>U$2),T$3,0)*$I29 -> 0 | U29: =+SUM(P29:T29) -> 117.65629 | V29: =+U29/$U$146 -> 0.0024741753 | W29: =+V29*W$3 -> 117.65629 | X29: szakkórház | Y29: =+IF(X29<>"",I29,"") -> 3921.8762 | Z29: =I29/H29 -> 1.1673438 | AA29: =+IF($Z29>1.02,$Y29,0) -> 3921.8762 | AB29: =+IF(X29<>"",AA29/$AA$146,"") -> 0.0028184632 | AC29: =+IF(X29<>"",AB29*$AC$3,0) -> 104.28314 | AD29: 0 | AE29: 0 | AF29: =+IF(AD29<>0,AE29/AD29,0) -> 0 | AG29: =$AG$3*AD29 -> 0 | AH29: =IF(AD29<100,1,0) -> 1 | AI29: =IF(AF29<$AI$3,"1",0) -> 0 | AJ29: =IF((AH29+AI29)>0,0,AG29) -> 0 | AK29: =+H29+W29+AC29 -> 3581.5978 | AL29: =+G29+AJ29 -> 0 | AM29: =AK29+AL29 -> 3581.5978 | AN29: 0 | AO29: =+AN29+H29 -> 3359.6584 | AP29: =+AO29+G29 -> 3359.6584 | AQ29: =IF((AM29-AP29)<0,AM29-AP29,0) -> 0 | AR29: =+AM29+(AQ29*-1) -> 3581.5978
A30: 05 | B30: 1487 | C30: =CONCATENATE("xx",B30) -> xx1487 | D30: 0 | E30: 0 | F30: Szentes,Cs.M.Önk.dr.Bugyi I.Kh | G30: 0 | H30: 11497.36 | I30: 12955.772 | J30: 7590.62 | K30: 6464.46 | L30: =+IF(J30<>0,K30/J30-1,0) -> -0.14836206 | M30: 16279.63 | N30: 14134.399 | O30: =+IF(M30<>0,N30/M30-1,0) -> -0.13177395 | P30: =+IF(AND($O30<=P$2,$O30>Q$2),P$3,0)*$I30 -> 0 | Q30: =+IF(AND($O30<=Q$2,$O30>R$2),Q$3,0)*$I30 -> 0 | R30: =+IF(AND($O30<=R$2,$O30>S$2),R$3,0)*$I30 -> 388.67317 | S30: =+IF(AND($O30<=S$2,$O30>T$2),S$3,0)*$I30 -> 0 | T30: =+IF(AND($O30<=T$2,$O30>U$2),T$3,0)*$I30 -> 0 | U30: =+SUM(P30:T30) -> 388.67317 | V30: =+U30/$U$146 -> 0.0081733462 | W30: =+V30*W$3 -> 388.67317 | Y30: =+IF(X30<>"",I30,"") | AA30: =+IF($Z30>1.02,$Y30,0) -> 0 | AB30: =+IF(X30<>"",AA30/$AA$146,"") | AC30: =+IF(X30<>"",AB30*$AC$3,0) -> 0 | AD30: 891.12397 | AE30: 178.87141 | AF30: =+IF(AD30<>0,AE30/AD30,0) -> 0.20072562 | AG30: =$AG$3*AD30 -> 178.22479 | AH30: =IF(AD30<100,1,0) -> 0 | AI30: =IF(AF30<$AI$3,"1",0) -> 0 | AJ30: =IF((AH30+AI30)>0,0,AG30) -> 178.22479 | AK30: =+H30+W30+AC30 -> 11886.033 | AL30: =+G30+AJ30 -> 178.22479 | AM30: =AK30+AL30 -> 12064.258 | AN30: 254 | AO30: =+AN30+H30 -> 11751.36 | AP30: =+AO30+G30 -> 11751.36 | AQ30: =IF((AM30-AP30)<0,AM30-AP30,0) -> 0 | AR30: =+AM30+(AQ30*-1) -> 12064.258
A31: 05 | B31: 2917 | C31: =CONCATENATE("xx",B31) -> xx2917 | D31: 0 | E31: 0 | F31: SZTE Szent-Györgyi A. Kl.Közp. | G31: 0 | H31: 81931.408 | I31: 96969.713 | J31: 41143.99 | K31: 39764.27 | L31: =+IF(J31<>0,K31/J31-1,0) -> -0.033533938 | M31: 103791.36 | N31: 97499.636 | O31: =+IF(M31<>0,N31/M31-1,0) -> -0.060618953 | P31: =+IF(AND($O31<=P$2,$O31>Q$2),P$3,0)*$I31 -> 0 | Q31: =+IF(AND($O31<=Q$2,$O31>R$2),Q$3,0)*$I31 -> 1939.3943 | R31: =+IF(AND($O31<=R$2,$O31>S$2),R$3,0)*$I31 -> 0 | S31: =+IF(AND($O31<=S$2,$O31>T$2),S$3,0)*$I31 -> 0 | T31: =+IF(AND($O31<=T$2,$O31>U$2),T$3,0)*$I31 -> 0 | U31: =+SUM(P31:T31) -> 1939.3943 | V31: =+U31/$U$146 -> 0.040783213 | W31: =+V31*W$3 -> 1939.3943 | X31: egyetem | Y31: =+IF(X31<>"",I31,"") -> 96969.713 | Z31: =I31/H31 -> 1.1835475 | AA31: =+IF($Z31>1.02,$Y31,0) -> 96969.713 | AB31: =+IF(X31<>"",AA31/$AA$146,"") -> 0.069687453 | AC31: =+IF(X31<>"",AB31*$AC$3,0) -> 2578.4358 | AD31: 6795.1586 | AE31: 2721.9891 | AF31: =+IF(AD31<>0,AE31/AD31,0) -> 0.40057772 | AG31: =$AG$3*AD31 -> 1359.0317 | AH31: =IF(AD31<100,1,0) -> 0 | AI31: =IF(AF31<$AI$3,"1",0) -> 0 | AJ31: =IF((AH31+AI31)>0,0,AG31) -> 1359.0317 | AK31: =+H31+W31+AC31 -> 86449.238 | AL31: =+G31+AJ31 -> 1359.0317 | AM31: =AK31+AL31 -> 87808.27 | AN31: 5112 | AO31: =+AN31+H31 -> 87043.408 | AP31: =+AO31+G31 -> 87043.408 | AQ31: =IF((AM31-AP31)<0,AM31-AP31,0) -> 0 | AR31: =+AM31+(AQ31*-1) -> 87808.27
A32: 05 | B32: M226 | C32: =CONCATENATE("xx",B32) -> xxM226 | D32: 1 | E32: 0 | F32: Kisteleki Eü.Közp.Nonprofit Kft. | G32: 343.73628 | H32: 0 | I32: 0 | J32: 0 | K32: 0 | L32: =+IF(J32<>0,K32/J32-1,0) -> 0 | M32: 0 | N32: 0 | O32: =+IF(M32<>0,N32/M32-1,0) -> 0 | P32: =+IF(AND($O32<=P$2,$O32>Q$2),P$3,0)*$I32 -> 0 | Q32: =+IF(AND($O32<=Q$2,$O32>R$2),Q$3,0)*$I32 -> 0 | R32: =+IF(AND($O32<=R$2,$O32>S$2),R$3,0)*$I32 -> 0 | S32: =+IF(AND($O32<=S$2,$O32>T$2),S$3,0)*$I32 -> 0 | T32: =+IF(AND($O32<=T$2,$O32>U$2),T$3,0)*$I32 -> 0 | U32: =+SUM(P32:T32) -> 0 | V32: =+U32/$U$146 -> 0 | W32: =+V32*W$3 -> 0 | Y32: =+IF(X32<>"",I32,"") | AA32: =+IF($Z32>1.02,$Y32,0) -> 0 | AB32: =+IF(X32<>"",AA32/$AA$146,"") | AC32: =+IF(X32<>"",AB32*$AC$3,0) -> 0 | AD32: 0 | AE32: 0 | AF32: =+IF(AD32<>0,AE32/AD32,0) -> 0 | AG32: =$AG$3*AD32 -> 0 | AH32: =IF(AD32<100,1,0) -> 1 | AI32: =IF(AF32<$AI$3,"1",0) -> 0 | AJ32: =IF((AH32+AI32)>0,0,AG32) -> 0 | AK32: =+H32+W32+AC32 -> 0 | AL32: =+G32+AJ32 -> 343.73628 | AM32: =AK32+AL32 -> 343.73628 | AN32: 0 | AO32: =+AN32+H32 -> 0 | AP32: =+AO32+G32 -> 343.73628 | AQ32: =IF((AM32-AP32)<0,AM32-AP32,0) -> 0 | AR32: =+AM32+(AQ32*-1) -> 343.73628
A33: 06 | B33: 1568 | C33: =CONCATENATE("xx",B33) -> xx1568 | D33: 0 | E33: 0 | F33: Székesfehérvár, Szt.György MKh | G33: 0 | H33: 44847.593 | I33: 51333.088 | J33: 25006.09 | K33: 26410.25 | L33: =+IF(J33<>0,K33/J33-1,0) -> 0.056152721 | M33: 52064.88 | N33: 54158.115 | O33: =+IF(M33<>0,N33/M33-1,0) -> 0.04020436 | P33: =+IF(AND($O33<=P$2,$O33>Q$2),P$3,0)*$I33 -> 0 | Q33: =+IF(AND($O33<=Q$2,$O33>R$2),Q$3,0)*$I33 -> 0 | R33: =+IF(AND($O33<=R$2,$O33>S$2),R$3,0)*$I33 -> 0 | S33: =+IF(AND($O33<=S$2,$O33>T$2),S$3,0)*$I33 -> 0 | T33: =+IF(AND($O33<=T$2,$O33>U$2),T$3,0)*$I33 -> 0 | U33: =+SUM(P33:T33) -> 0 | V33: =+U33/$U$146 -> 0 | W33: =+V33*W$3 -> 0 | X33: megyei | Y33: =+IF(X33<>"",I33,"") -> 51333.088 | Z33: =I33/H33 -> 1.1446119 | AA33: =+IF($Z33>1.02,$Y33,0) -> 51333.088 | AB33: =+IF(X33<>"",AA33/$AA$146,"") -> 0.036890613 | AC33: =+IF(X33<>"",AB33*$AC$3,0) -> 1364.9527 | AD33: 3318.2927 | AE33: 609.3537 | AF33: =+IF(AD33<>0,AE33/AD33,0) -> 0.1836347 | AG33: =$AG$3*AD33 -> 663.65855 | AH33: =IF(AD33<100,1,0) -> 0 | AI33: =IF(AF33<$AI$3,"1",0) -> 0 | AJ33: =IF((AH33+AI33)>0,0,AG33) -> 663.65855 | AK33: =+H33+W33+AC33 -> 46212.546 | AL33: =+G33+AJ33 -> 663.65855 | AM33: =AK33+AL33 -> 46876.204 | AN33: 964 | AO33: =+AN33+H33 -> 45811.593 | AP33: =+AO33+G33 -> 45811.593 | AQ33: =IF((AM33-AP33)<0,AM33-AP33,0) -> 0 | AR33: =+AM33+(AQ33*-1) -> 46876.204
A34: 06 | B34: 1583 | C34: =CONCATENATE("xx",B34) -> xx1583 | D34: 0 | E34: 0 | F34: Mór Városi Kórház-Rendelőint. | G34: 972 | H34: 552.60349 | I34: 599.98905 | J34: 1648.23 | K34: 529.5 | L34: =+IF(J34<>0,K34/J34-1,0) -> -0.67874629 | M34: 3589.95 | N34: 1054.4889 | O34: =+IF(M34<>0,N34/M34-1,0) -> -0.70626641 | P34: =+IF(AND($O34<=P$2,$O34>Q$2),P$3,0)*$I34 -> 0 | Q34: =+IF(AND($O34<=Q$2,$O34>R$2),Q$3,0)*$I34 -> 0 | R34: =+IF(AND($O34<=R$2,$O34>S$2),R$3,0)*$I34 -> 0 | S34: =+IF(AND($O34<=S$2,$O34>T$2),S$3,0)*$I34 -> 0 | T34: =+IF(AND($O34<=T$2,$O34>U$2),T$3,0)*$I34 -> 29.999452 | U34: =+SUM(P34:T34) -> 29.999452 | V34: =+U34/$U$146 -> 0.00063085371 | W34: =+V34*W$3 -> 29.999452 | Y34: =+IF(X34<>"",I34,"") | AA34: =+IF($Z34>1.02,$Y34,0) -> 0 | AB34: =+IF(X34<>"",AA34/$AA$146,"") | AC34: =+IF(X34<>"",AB34*$AC$3,0) -> 0 | AD34: 0.4636 | AE34: 0.4636 | AF34: =+IF(AD34<>0,AE34/AD34,0) -> 1 | AG34: =$AG$3*AD34 -> 0.09272 | AH34: =IF(AD34<100,1,0) -> 1 | AI34: =IF(AF34<$AI$3,"1",0) -> 0 | AJ34: =IF((AH34+AI34)>0,0,AG34) -> 0 | AK34: =+H34+W34+AC34 -> 582.60295 | AL34: =+G34+AJ34 -> 972 | AM34: =AK34+AL34 -> 1554.6029 | AN34: 0 | AO34: =+AN34+H34 -> 552.60349 | AP34: =+AO34+G34 -> 1524.6035 | AQ34: =IF((AM34-AP34)<0,AM34-AP34,0) -> 0 | AR34: =+AM34+(AQ34*-1) -> 1554.6029
A35: 06 | B35: C975 | C35: =CONCATENATE("xx",B35) -> xxC975 | D35: 1 | E35: 0 | F35: Napfény 2001 KHT | G35: 668.59781 | H35: 0 | I35: 0 | J35: 0 | K35: 0 | L35: =+IF(J35<>0,K35/J35-1,0) -> 0 | M35: 0 | N35: 0 | O35: =+IF(M35<>0,N35/M35-1,0) -> 0 | P35: =+IF(AND($O35<=P$2,$O35>Q$2),P$3,0)*$I35 -> 0 | Q35: =+IF(AND($O35<=Q$2,$O35>R$2),Q$3,0)*$I35 -> 0 | R35: =+IF(AND($O35<=R$2,$O35>S$2),R$3,0)*$I35 -> 0 | S35: =+IF(AND($O35<=S$2,$O35>T$2),S$3,0)*$I35 -> 0 | T35: =+IF(AND($O35<=T$2,$O35>U$2),T$3,0)*$I35 -> 0 | U35: =+SUM(P35:T35) -> 0 | V35: =+U35/$U$146 -> 0 | W35: =+V35*W$3 -> 0 | Y35: =+IF(X35<>"",I35,"") | AA35: =+IF($Z35>1.02,$Y35,0) -> 0 | AB35: =+IF(X35<>"",AA35/$AA$146,"") | AC35: =+IF(X35<>"",AB35*$AC$3,0) -> 0 | AD35: 0 | AE35: 0 | AF35: =+IF(AD35<>0,AE35/AD35,0) -> 0 | AG35: =$AG$3*AD35 -> 0 | AH35: =IF(AD35<100,1,0) -> 1 | AI35: =IF(AF35<$AI$3,"1",0) -> 0 | AJ35: =IF((AH35+AI35)>0,0,AG35) -> 0 | AK35: =+H35+W35+AC35 -> 0 | AL35: =+G35+AJ35 -> 668.59781 | AM35: =AK35+AL35 -> 668.59781 | AN35: 0 | AO35: =+AN35+H35 -> 0 | AP35: =+AO35+G35 -> 668.59781 | AQ35: =IF((AM35-AP35)<0,AM35-AP35,0) -> 0 | AR35: =+AM35+(AQ35*-1) -> 668.59781
A36: 06 | B36: H681 | C36: =CONCATENATE("xx",B36) -> xxH681 | D36: 0 | E36: 0 | F36: Dunaújv,Szent Pantaleon Kh.KHT | G36: 0 | H36: 17892.706 | I36: 18905.803 | J36: 11258.14 | K36: 9989.01 | L36: =+IF(J36<>0,K36/J36-1,0) -> -0.11272999 | M36: 25985.75 | N36: 21236.404 | O36: =+IF(M36<>0,N36/M36-1,0) -> -0.18276734 | P36: =+IF(AND($O36<=P$2,$O36>Q$2),P$3,0)*$I36 -> 0 | Q36: =+IF(AND($O36<=Q$2,$O36>R$2),Q$3,0)*$I36 -> 0 | R36: =+IF(AND($O36<=R$2,$O36>S$2),R$3,0)*$I36 -> 0 | S36: =+IF(AND($O36<=S$2,$O36>T$2),S$3,0)*$I36 -> 756.23211 | T36: =+IF(AND($O36<=T$2,$O36>U$2),T$3,0)*$I36 -> 0 | U36: =+SUM(P36:T36) -> 756.23211 | V36: =+U36/$U$146 -> 0.015902685 | W36: =+V36*W$3 -> 756.23211 | Y36: =+IF(X36<>"",I36,"") | AA36: =+IF($Z36>1.02,$Y36,0) -> 0 | AB36: =+IF(X36<>"",AA36/$AA$146,"") | AC36: =+IF(X36<>"",AB36*$AC$3,0) -> 0 | AD36: 1260.9849 | AE36: 5.01552 | AF36: =+IF(AD36<>0,AE36/AD36,0) -> 0.0039774623 | AG36: =$AG$3*AD36 -> 252.19699 | AH36: =IF(AD36<100,1,0) -> 0 | AI36: =IF(AF36<$AI$3,"1",0) -> 0 | AJ36: =IF((AH36+AI36)>0,0,AG36) -> 252.19699 | AK36: =+H36+W36+AC36 -> 18648.938 | AL36: =+G36+AJ36 -> 252.19699 | AM36: =AK36+AL36 -> 18901.135 | AN36: 383 | AO36: =+AN36+H36 -> 18275.706 | AP36: =+AO36+G36 -> 18275.706 | AQ36: =IF((AM36-AP36)<0,AM36-AP36,0) -> 0 | AR36: =+AM36+(AQ36*-1) -> 18901.135
A37: 07 | B37: 1601 | C37: =CONCATENATE("xx",B37) -> xx1601 | D37: 0 | E37: 0 | F37: Csorna, Margit Kh. | G37: 0 | H37: 1738.335 | I37: 2012.9315 | J37: 2069.22 | K37: 1013.87 | L37: =+IF(J37<>0,K37/J37-1,0) -> -0.5100231 | M37: 4645.27 | N37: 2156.0523 | O37: =+IF(M37<>0,N37/M37-1,0) -> -0.53586071 | P37: =+IF(AND($O37<=P$2,$O37>Q$2),P$3,0)*$I37 -> 0 | Q37: =+IF(AND($O37<=Q$2,$O37>R$2),Q$3,0)*$I37 -> 0 | R37: =+IF(AND($O37<=R$2,$O37>S$2),R$3,0)*$I37 -> 0 | S37: =+IF(AND($O37<=S$2,$O37>T$2),S$3,0)*$I37 -> 0 | T37: =+IF(AND($O37<=T$2,$O37>U$2),T$3,0)*$I37 -> 100.64658 | U37: =+SUM(P37:T37) -> 100.64658 | V37: =+U37/$U$146 -> 0.0021164808 | W37: =+V37*W$3 -> 100.64658 | Y37: =+IF(X37<>"",I37,"") | AA37: =+IF($Z37>1.02,$Y37,0) -> 0 | AB37: =+IF(X37<>"",AA37/$AA$146,"") | AC37: =+IF(X37<>"",AB37*$AC$3,0) -> 0 | AD37: 185.3783 | AE37: 0 | AF37: =+IF(AD37<>0,AE37/AD37,0) -> 0 | AG37: =$AG$3*AD37 -> 37.07566 | AH37: =IF(AD37<100,1,0) -> 0 | AI37: =IF(AF37<$AI$3,"1",0) -> 0 | AJ37: =IF((AH37+AI37)>0,0,AG37) -> 37.07566 | AK37: =+H37+W37+AC37 -> 1838.9816 | AL37: =+G37+AJ37 -> 37.07566 | AM37: =AK37+AL37 -> 1876.0572 | AN37: 0 | AO37: =+AN37+H37 -> 1738.335 | AP37: =+AO37+G37 -> 1738.335 | AQ37: =IF((AM37-AP37)<0,AM37-AP37,0) -> 0 | AR37: =+AM37+(AQ37*-1) -> 1876.0572
A38: 07 | B38: 1630 | C38: =CONCATENATE("xx",B38) -> xx1630 | D38: 1 | E38: 0 | F38: Kapuvár, Lumniczer S. Kh.- Ri. | G38: 376.21209 | H38: 0 | I38: 0 | J38: 0 | K38: 0 | L38: =+IF(J38<>0,K38/J38-1,0) -> 0 | M38: 0 | N38: 0 | O38: =+IF(M38<>0,N38/M38-1,0) -> 0 | P38: =+IF(AND($O38<=P$2,$O38>Q$2),P$3,0)*$I38 -> 0 | Q38: =+IF(AND($O38<=Q$2,$O38>R$2),Q$3,0)*$I38 -> 0 | R38: =+IF(AND($O38<=R$2,$O38>S$2),R$3,0)*$I38 -> 0 | S38: =+IF(AND($O38<=S$2,$O38>T$2),S$3,0)*$I38 -> 0 | T38: =+IF(AND($O38<=T$2,$O38>U$2),T$3,0)*$I38 -> 0 | U38: =+SUM(P38:T38) -> 0 | V38: =+U38/$U$146 -> 0 | W38: =+V38*W$3 -> 0 | Y38: =+IF(X38<>"",I38,"") | AA38: =+IF($Z38>1.02,$Y38,0) -> 0 | AB38: =+IF(X38<>"",AA38/$AA$146,"") | AC38: =+IF(X38<>"",AB38*$AC$3,0) -> 0 | AD38: 1.16611 | AE38: 0 | AF38: =+IF(AD38<>0,AE38/AD38,0) -> 0 | AG38: =$AG$3*AD38 -> 0.233222 | AH38: =IF(AD38<100,1,0) -> 1 | AI38: =IF(AF38<$AI$3,"1",0) -> 0 | AJ38: =IF((AH38+AI38)>0,0,AG38) -> 0 | AK38: =+H38+W38+AC38 -> 0 | AL38: =+G38+AJ38 -> 376.21209 | AM38: =AK38+AL38 -> 376.21209 | AN38: 0 | AO38: =+AN38+H38 -> 0 | AP38: =+AO38+G38 -> 376.21209 | AQ38: =IF((AM38-AP38)<0,AM38-AP38,0) -> 0 | AR38: =+AM38+(AQ38*-1) -> 376.21209
A39: 07 | B39: 1640 | C39: =CONCATENATE("xx",B39) -> xx1640 | D39: 0 | E39: 0 | F39: Győr, Petz A.Megyei Oktató Kh. | G39: 0 | H39: 42118.297 | I39: 47449.655 | J39: 25391.92 | K39: 23025.35 | L39: =+IF(J39<>0,K39/J39-1,0) -> -0.093201696 | M39: 52908.75 | N39: 49419.939 | O39: =+IF(M39<>0,N39/M39-1,0) -> -0.065940143 | P39: =+IF(AND($O39<=P$2,$O39>Q$2),P$3,0)*$I39 -> 0 | Q39: =+IF(AND($O39<=Q$2,$O39>R$2),Q$3,0)*$I39 -> 948.9931 | R39: =+IF(AND($O39<=R$2,$O39>S$2),R$3,0)*$I39 -> 0 | S39: =+IF(AND($O39<=S$2,$O39>T$2),S$3,0)*$I39 -> 0 | T39: =+IF(AND($O39<=T$2,$O39>U$2),T$3,0)*$I39 -> 0 | U39: =+SUM(P39:T39) -> 948.9931 | V39: =+U39/$U$146 -> 0.019956225 | W39: =+V39*W$3 -> 948.9931 | X39: megyei | Y39: =+IF(X39<>"",I39,"") -> 47449.655 | Z39: =I39/H39 -> 1.1265806 | AA39: =+IF($Z39>1.02,$Y39,0) -> 47449.655 | AB39: =+IF(X39<>"",AA39/$AA$146,"") -> 0.034099777 | AC39: =+IF(X39<>"",AB39*$AC$3,0) -> 1261.6918 | AD39: 3708.713 | AE39: 1758.7046 | AF39: =+IF(AD39<>0,AE39/AD39,0) -> 0.47420886 | AG39: =$AG$3*AD39 -> 741.74261 | AH39: =IF(AD39<100,1,0) -> 0 | AI39: =IF(AF39<$AI$3,"1",0) -> 0 | AJ39: =IF((AH39+AI39)>0,0,AG39) -> 741.74261 | AK39: =+H39+W39+AC39 -> 44328.982 | AL39: =+G39+AJ39 -> 741.74261 | AM39: =AK39+AL39 -> 45070.725 | AN39: 2605 | AO39: =+AN39+H39 -> 44723.297 | AP39: =+AO39+G39 -> 44723.297 | AQ39: =IF((AM39-AP39)<0,AM39-AP39,0) -> 0 | AR39: =+AM39+(AQ39*-1) -> 45070.725
A40: 07 | B40: 1644 | C40: =CONCATENATE("xx",B40) -> xx1644 | D40: 0 | E40: 0 | F40: Mosonmagyaróvár, Karolina Kh. | G40: 0 | H40: 5326.692 | I40: 5722.5415 | J40: 3408.09 | K40: 2927.84 | L40: =+IF(J40<>0,K40/J40-1,0) -> -0.14091471 | M40: 7440.11 | N40: 6310.7801 | O40: =+IF(M40<>0,N40/M40-1,0) -> -0.15178941 | P40: =+IF(AND($O40<=P$2,$O40>Q$2),P$3,0)*$I40 -> 0 | Q40: =+IF(AND($O40<=Q$2,$O40>R$2),Q$3,0)*$I40 -> 0 | R40: =+IF(AND($O40<=R$2,$O40>S$2),R$3,0)*$I40 -> 0 | S40: =+IF(AND($O40<=S$2,$O40>T$2),S$3,0)*$I40 -> 228.90166 | T40: =+IF(AND($O40<=T$2,$O40>U$2),T$3,0)*$I40 -> 0 | U40: =+SUM(P40:T40) -> 228.90166 | V40: =+U40/$U$146 -> 0.0048135366 | W40: =+V40*W$3 -> 228.90166 | Y40: =+IF(X40<>"",I40,"") | AA40: =+IF($Z40>1.02,$Y40,0) -> 0 | AB40: =+IF(X40<>"",AA40/$AA$146,"") | AC40: =+IF(X40<>"",AB40*$AC$3,0) -> 0 | AD40: 354.36663 | AE40: 0.20241 | AF40: =+IF(AD40<>0,AE40/AD40,0) -> 0.00057118809 | AG40: =$AG$3*AD40 -> 70.873326 | AH40: =IF(AD40<100,1,0) -> 0 | AI40: =IF(AF40<$AI$3,"1",0) -> 0 | AJ40: =IF((AH40+AI40)>0,0,AG40) -> 70.873326 | AK40: =+H40+W40+AC40 -> 5555.5937 | AL40: =+G40+AJ40 -> 70.873326 | AM40: =AK40+AL40 -> 5626.467 | AN40: 233.33333 | AO40: =+AN40+H40 -> 5560.0253 | AP40: =+AO40+G40 -> 5560.0253 | AQ40: =IF((AM40-AP40)<0,AM40-AP40,0) -> 0 | AR40: =+AM40+(AQ40*-1) -> 5626.467
A41: 07 | B41: 1663 | C41: =CONCATENATE("xx",B41) -> xx1663 | D41: 0 | E41: 0 | F41: Sopron MJV. Erzsébet Kh. DEOEC | G41: 0 | H41: 13617.977 | I41: 15076.412 | J41: 7108.75 | K41: 7765.13 | L41: =+IF(J41<>0,K41/J41-1,0) -> 0.092334095 | M41: 16350.18 | N41: 16376.629 | O41: =+IF(M41<>0,N41/M41-1,0) -> 0.001617633 | P41: =+IF(AND($O41<=P$2,$O41>Q$2),P$3,0)*$I41 -> 0 | Q41: =+IF(AND($O41<=Q$2,$O41>R$2),Q$3,0)*$I41 -> 0 | R41: =+IF(AND($O41<=R$2,$O41>S$2),R$3,0)*$I41 -> 0 | S41: =+IF(AND($O41<=S$2,$O41>T$2),S$3,0)*$I41 -> 0 | T41: =+IF(AND($O41<=T$2,$O41>U$2),T$3,0)*$I41 -> 0 | U41: =+SUM(P41:T41) -> 0 | V41: =+U41/$U$146 -> 0 | W41: =+V41*W$3 -> 0 | Y41: =+IF(X41<>"",I41,"") | AA41: =+IF($Z41>1.02,$Y41,0) -> 0 | AB41: =+IF(X41<>"",AA41/$AA$146,"") | AC41: =+IF(X41<>"",AB41*$AC$3,0) -> 0 | AD41: 1517.5336 | AE41: 387.23275 | AF41: =+IF(AD41<>0,AE41/AD41,0) -> 0.25517244 | AG41: =$AG$3*AD41 -> 303.50672 | AH41: =IF(AD41<100,1,0) -> 0 | AI41: =IF(AF41<$AI$3,"1",0) -> 0 | AJ41: =IF((AH41+AI41)>0,0,AG41) -> 303.50672 | AK41: =+H41+W41+AC41 -> 13617.977 | AL41: =+G41+AJ41 -> 303.50672 | AM41: =AK41+AL41 -> 13921.484 | AN41: 764.00169 | AO41: =+AN41+H41 -> 14381.979 | AP41: =+AO41+G41 -> 14381.979 | AQ41: =IF((AM41-AP41)<0,AM41-AP41,0) -> -460.49497 | AR41: =+AM41+(AQ41*-1) -> 14381.979
A42: 08 | B42: 1683 | C42: =CONCATENATE("xx",B42) -> xx1683 | D42: 0 | E42: 0 | F42: Berettyóújfalu, Területi Kh. | G42: 0 | H42: 8725.3706 | I42: 10279.293 | J42: 6835.44 | K42: 4620.52 | L42: =+IF(J42<>0,K42/J42-1,0) -> -0.32403474 | M42: 14917.65 | N42: 10141.157 | O42: =+IF(M42<>0,N42/M42-1,0) -> -0.32019074 | P42: =+IF(AND($O42<=P$2,$O42>Q$2),P$3,0)*$I42 -> 0 | Q42: =+IF(AND($O42<=Q$2,$O42>R$2),Q$3,0)*$I42 -> 0 | R42: =+IF(AND($O42<=R$2,$O42>S$2),R$3,0)*$I42 -> 0 | S42: =+IF(AND($O42<=S$2,$O42>T$2),S$3,0)*$I42 -> 0 | T42: =+IF(AND($O42<=T$2,$O42>U$2),T$3,0)*$I42 -> 513.96467 | U42: =+SUM(P42:T42) -> 513.96467 | V42: =+U42/$U$146 -> 0.010808081 | W42: =+V42*W$3 -> 513.96467 | Y42: =+IF(X42<>"",I42,"") | AA42: =+IF($Z42>1.02,$Y42,0) -> 0 | AB42: =+IF(X42<>"",AA42/$AA$146,"") | AC42: =+IF(X42<>"",AB42*$AC$3,0) -> 0 | AD42: 641.0389 | AE42: 31.17866 | AF42: =+IF(AD42<>0,AE42/AD42,0) -> 0.048637704 | AG42: =$AG$3*AD42 -> 128.20778 | AH42: =IF(AD42<100,1,0) -> 0 | AI42: =IF(AF42<$AI$3,"1",0) -> 0 | AJ42: =IF((AH42+AI42)>0,0,AG42) -> 128.20778 | AK42: =+H42+W42+AC42 -> 9239.3353 | AL42: =+G42+AJ42 -> 128.20778 | AM42: =AK42+AL42 -> 9367.5431 | AN42: 0 | AO42: =+AN42+H42 -> 8725.3706 | AP42: =+AO42+G42 -> 8725.3706 | AQ42: =IF((AM42-AP42)<0,AM42-AP42,0) -> 0 | AR42: =+AM42+(AQ42*-1) -> 9367.5431
A43: 08 | B43: 2894 | C43: =CONCATENATE("xx",B43) -> xx2894 | D43: 0 | E43: 0 | F43: DE OEC, Debrecen | G43: 0 | H43: 111532.59 | I43: 123303.62 | J43: 58856.49 | K43: 51222.31 | L43: =+IF(J43<>0,K43/J43-1,0) -> -0.12970838 | M43: 126303.03 | N43: 112977.09 | O43: =+IF(M43<>0,N43/M43-1,0) -> -0.1055077 | P43: =+IF(AND($O43<=P$2,$O43>Q$2),P$3,0)*$I43 -> 0 | Q43: =+IF(AND($O43<=Q$2,$O43>R$2),Q$3,0)*$I43 -> 0 | R43: =+IF(AND($O43<=R$2,$O43>S$2),R$3,0)*$I43 -> 3699.1086 | S43: =+IF(AND($O43<=S$2,$O43>T$2),S$3,0)*$I43 -> 0 | T43: =+IF(AND($O43<=T$2,$O43>U$2),T$3,0)*$I43 -> 0 | U43: =+SUM(P43:T43) -> 3699.1086 | V43: =+U43/$U$146 -> 0.077787965 | W43: =+V43*W$3 -> 3699.1086 | X43: egyetem | Y43: =+IF(X43<>"",I43,"") -> 123303.62 | Z43: =I43/H43 -> 1.105539 | AA43: =+IF($Z43>1.02,$Y43,0) -> 123303.62 | AB43: =+IF(X43<>"",AA43/$AA$146,"") -> 0.08861236 | AC43: =+IF(X43<>"",AB43*$AC$3,0) -> 3278.6573 | AD43: 6268.5168 | AE43: 931.43615 | AF43: =+IF(AD43<>0,AE43/AD43,0) -> 0.14858956 | AG43: =$AG$3*AD43 -> 1253.7034 | AH43: =IF(AD43<100,1,0) -> 0 | AI43: =IF(AF43<$AI$3,"1",0) -> 0 | AJ43: =IF((AH43+AI43)>0,0,AG43) -> 1253.7034 | AK43: =+H43+W43+AC43 -> 118510.35 | AL43: =+G43+AJ43 -> 1253.7034 | AM43: =AK43+AL43 -> 119764.06 | AN43: 6899 | AO43: =+AN43+H43 -> 118431.59 | AP43: =+AO43+G43 -> 118431.59 | AQ43: =IF((AM43-AP43)<0,AM43-AP43,0) -> 0 | AR43: =+AM43+(AQ43*-1) -> 119764.06
A44: 08 | B44: H049 | C44: =CONCATENATE("xx",B44) -> xxH049 | D44: 1 | E44: 0 | F44: Debrecen VESZ Eü. Szolg. KHT | G44: 410.28681 | H44: 0 | I44: 0 | J44: 0 | K44: 0 | L44: =+IF(J44<>0,K44/J44-1,0) -> 0 | M44: 0 | N44: 0 | O44: =+IF(M44<>0,N44/M44-1,0) -> 0 | P44: =+IF(AND($O44<=P$2,$O44>Q$2),P$3,0)*$I44 -> 0 | Q44: =+IF(AND($O44<=Q$2,$O44>R$2),Q$3,0)*$I44 -> 0 | R44: =+IF(AND($O44<=R$2,$O44>S$2),R$3,0)*$I44 -> 0 | S44: =+IF(AND($O44<=S$2,$O44>T$2),S$3,0)*$I44 -> 0 | T44: =+IF(AND($O44<=T$2,$O44>U$2),T$3,0)*$I44 -> 0 | U44: =+SUM(P44:T44) -> 0 | V44: =+U44/$U$146 -> 0 | W44: =+V44*W$3 -> 0 | Y44: =+IF(X44<>"",I44,"") | AA44: =+IF($Z44>1.02,$Y44,0) -> 0 | AB44: =+IF(X44<>"",AA44/$AA$146,"") | AC44: =+IF(X44<>"",AB44*$AC$3,0) -> 0 | AD44: 0.82118 | AE44: 0 | AF44: =+IF(AD44<>0,AE44/AD44,0) -> 0 | AG44: =$AG$3*AD44 -> 0.164236 | AH44: =IF(AD44<100,1,0) -> 1 | AI44: =IF(AF44<$AI$3,"1",0) -> 0 | AJ44: =IF((AH44+AI44)>0,0,AG44) -> 0 | AK44: =+H44+W44+AC44 -> 0 | AL44: =+G44+AJ44 -> 410.28681 | AM44: =AK44+AL44 -> 410.28681 | AN44: 0 | AO44: =+AN44+H44 -> 0 | AP44: =+AO44+G44 -> 410.28681 | AQ44: =IF((AM44-AP44)<0,AM44-AP44,0) -> 0 | AR44: =+AM44+(AQ44*-1) -> 410.28681
A45: 08 | B45: K506 | C45: =CONCATENATE("xx",B45) -> xxK506 | D45: 0 | E45: 0 | F45: Debrecen, Kenézy Kórház Ri.Kft | G45: 0 | H45: 29092.097 | I45: 31836.164 | J45: 21979.27 | K45: 16727.28 | L45: =+IF(J45<>0,K45/J45-1,0) -> -0.23895198 | M45: 49233.55 | N45: 33838.977 | O45: =+IF(M45<>0,N45/M45-1,0) -> -0.31268461 | P45: =+IF(AND($O45<=P$2,$O45>Q$2),P$3,0)*$I45 -> 0 | Q45: =+IF(AND($O45<=Q$2,$O45>R$2),Q$3,0)*$I45 -> 0 | R45: =+IF(AND($O45<=R$2,$O45>S$2),R$3,0)*$I45 -> 0 | S45: =+IF(AND($O45<=S$2,$O45>T$2),S$3,0)*$I45 -> 0 | T45: =+IF(AND($O45<=T$2,$O45>U$2),T$3,0)*$I45 -> 1591.8082 | U45: =+SUM(P45:T45) -> 1591.8082 | V45: =+U45/$U$146 -> 0.033473881 | W45: =+V45*W$3 -> 1591.8082 | X45: megyei | Y45: =+IF(X45<>"",I45,"") -> 31836.164 | Z45: =I45/H45 -> 1.0943234 | AA45: =+IF($Z45>1.02,$Y45,0) -> 31836.164 | AB45: =+IF(X45<>"",AA45/$AA$146,"") -> 0.022879115 | AC45: =+IF(X45<>"",AB45*$AC$3,0) -> 846.52724 | AD45: 3195.8917 | AE45: 933.03852 | AF45: =+IF(AD45<>0,AE45/AD45,0) -> 0.29194936 | AG45: =$AG$3*AD45 -> 639.17834 | AH45: =IF(AD45<100,1,0) -> 0 | AI45: =IF(AF45<$AI$3,"1",0) -> 0 | AJ45: =IF((AH45+AI45)>0,0,AG45) -> 639.17834 | AK45: =+H45+W45+AC45 -> 31530.433 | AL45: =+G45+AJ45 -> 639.17834 | AM45: =AK45+AL45 -> 32169.611 | AN45: 1000 | AO45: =+AN45+H45 -> 30092.097 | AP45: =+AO45+G45 -> 30092.097 | AQ45: =IF((AM45-AP45)<0,AM45-AP45,0) -> 0 | AR45: =+AM45+(AQ45*-1) -> 32169.611
A46: 09 | B46: 2899 | C46: =CONCATENATE("xx",B46) -> xx2899 | D46: 0 | E46: 0 | F46: Mátrai Gyógyintézet | G46: 0 | H46: 3225.0633 | I46: 3235.3203 | J46: 2362.61 | K46: 1712.44 | L46: =+IF(J46<>0,K46/J46-1,0) -> -0.27519142 | M46: 4794.27 | N46: 3674.379 | O46: =+IF(M46<>0,N46/M46-1,0) -> -0.23358948 | P46: =+IF(AND($O46<=P$2,$O46>Q$2),P$3,0)*$I46 -> 0 | Q46: =+IF(AND($O46<=Q$2,$O46>R$2),Q$3,0)*$I46 -> 0 | R46: =+IF(AND($O46<=R$2,$O46>S$2),R$3,0)*$I46 -> 0 | S46: =+IF(AND($O46<=S$2,$O46>T$2),S$3,0)*$I46 -> 129.41281 | T46: =+IF(AND($O46<=T$2,$O46>U$2),T$3,0)*$I46 -> 0 | U46: =+SUM(P46:T46) -> 129.41281 | V46: =+U46/$U$146 -> 0.0027214014 | W46: =+V46*W$3 -> 129.41281 | X46: országos | Y46: =+IF(X46<>"",I46,"") -> 3235.3203 | Z46: =I46/H46 -> 1.0031804 | AA46: =+IF($Z46>1.02,$Y46,0) -> 0 | AB46: =+IF(X46<>"",AA46/$AA$146,"") -> 0 | AC46: =+IF(X46<>"",AB46*$AC$3,0) -> 0 | AD46: 0 | AE46: 0 | AF46: =+IF(AD46<>0,AE46/AD46,0) -> 0 | AG46: =$AG$3*AD46 -> 0 | AH46: =IF(AD46<100,1,0) -> 1 | AI46: =IF(AF46<$AI$3,"1",0) -> 0 | AJ46: =IF((AH46+AI46)>0,0,AG46) -> 0 | AK46: =+H46+W46+AC46 -> 3354.4761 | AL46: =+G46+AJ46 -> 0 | AM46: =AK46+AL46 -> 3354.4761 | AN46: 0 | AO46: =+AN46+H46 -> 3225.0633 | AP46: =+AO46+G46 -> 3225.0633 | AQ46: =IF((AM46-AP46)<0,AM46-AP46,0) -> 0 | AR46: =+AM46+(AQ46*-1) -> 3354.4761
A47: 09 | B47: M243 | C47: =CONCATENATE("xx",B47) -> xxM243 | D47: 1 | E47: 0 | F47: Hatvani Városgazd. Np. Közh. Zrt. | G47: 353.9052 | H47: 6441.4824 | I47: 7238.7767 | J47: 5327.26 | K47: 3894.65 | L47: =+IF(J47<>0,K47/J47-1,0) -> -0.26892061 | M47: 11809.39 | N47: 8246.9765 | O47: =+IF(M47<>0,N47/M47-1,0) -> -0.3016594 | P47: =+IF(AND($O47<=P$2,$O47>Q$2),P$3,0)*$I47 -> 0 | Q47: =+IF(AND($O47<=Q$2,$O47>R$2),Q$3,0)*$I47 -> 0 | R47: =+IF(AND($O47<=R$2,$O47>S$2),R$3,0)*$I47 -> 0 | S47: =+IF(AND($O47<=S$2,$O47>T$2),S$3,0)*$I47 -> 0 | T47: =+IF(AND($O47<=T$2,$O47>U$2),T$3,0)*$I47 -> 361.93884 | U47: =+SUM(P47:T47) -> 361.93884 | V47: =+U47/$U$146 -> 0.0076111542 | W47: =+V47*W$3 -> 361.93884 | Y47: =+IF(X47<>"",I47,"") | AA47: =+IF($Z47>1.02,$Y47,0) -> 0 | AB47: =+IF(X47<>"",AA47/$AA$146,"") | AC47: =+IF(X47<>"",AB47*$AC$3,0) -> 0 | AD47: 434.24415 | AE47: 208.40382 | AF47: =+IF(AD47<>0,AE47/AD47,0) -> 0.47992315 | AG47: =$AG$3*AD47 -> 86.84883 | AH47: =IF(AD47<100,1,0) -> 0 | AI47: =IF(AF47<$AI$3,"1",0) -> 0 | AJ47: =IF((AH47+AI47)>0,0,AG47) -> 86.84883 | AK47: =+H47+W47+AC47 -> 6803.4212 | AL47: =+G47+AJ47 -> 440.75403 | AM47: =AK47+AL47 -> 7244.1753 | AN47: 0 | AO47: =+AN47+H47 -> 6441.4824 | AP47: =+AO47+G47 -> 6795.3876 | AQ47: =IF((AM47-AP47)<0,AM47-AP47,0) -> 0 | AR47: =+AM47+(AQ47*-1) -> 7244.1753
A48: 09 | B48: M244 | C48: =CONCATENATE("xx",B48) -> xxM244 | D48: 0 | E48: 0 | F48: Gyöngyös Bugát P. Kh Eü. Np. Kft. | G48: 0 | H48: 6358.1279 | I48: 7500.1606 | J48: 6479.81 | K48: 2957.1 | L48: =+IF(J48<>0,K48/J48-1,0) -> -0.54364403 | M48: 14253.11 | N48: 8246.3792 | O48: =+IF(M48<>0,N48/M48-1,0) -> -0.42143299 | P48: =+IF(AND($O48<=P$2,$O48>Q$2),P$3,0)*$I48 -> 0 | Q48: =+IF(AND($O48<=Q$2,$O48>R$2),Q$3,0)*$I48 -> 0 | R48: =+IF(AND($O48<=R$2,$O48>S$2),R$3,0)*$I48 -> 0 | S48: =+IF(AND($O48<=S$2,$O48>T$2),S$3,0)*$I48 -> 0 | T48: =+IF(AND($O48<=T$2,$O48>U$2),T$3,0)*$I48 -> 375.00803 | U48: =+SUM(P48:T48) -> 375.00803 | V48: =+U48/$U$146 -> 0.0078859842 | W48: =+V48*W$3 -> 375.00803 | Y48: =+IF(X48<>"",I48,"") | AA48: =+IF($Z48>1.02,$Y48,0) -> 0 | AB48: =+IF(X48<>"",AA48/$AA$146,"") | AC48: =+IF(X48<>"",AB48*$AC$3,0) -> 0 | AD48: 790.37719 | AE48: 286.79486 | AF48: =+IF(AD48<>0,AE48/AD48,0) -> 0.36285822 | AG48: =$AG$3*AD48 -> 158.07544 | AH48: =IF(AD48<100,1,0) -> 0 | AI48: =IF(AF48<$AI$3,"1",0) -> 0 | AJ48: =IF((AH48+AI48)>0,0,AG48) -> 158.07544 | AK48: =+H48+W48+AC48 -> 6733.136 | AL48: =+G48+AJ48 -> 158.07544 | AM48: =AK48+AL48 -> 6891.2114 | AN48: 1351.785 | AO48: =+AN48+H48 -> 7709.9129 | AP48: =+AO48+G48 -> 7709.9129 | AQ48: =IF((AM48-AP48)<0,AM48-AP48,0) -> -818.70153 | AR48: =+AM48+(AQ48*-1) -> 7709.9129
A49: 09 | B49: M245 | C49: =CONCATENATE("xx",B49) -> xxM245 | D49: 0 | E49: 0 | F49: Markhot Ferenc Np.K.Kh.Kft. | G49: 0 | H49: 23689.121 | I49: 25883.673 | J49: 15299.04 | K49: 13197.9 | L49: =+IF(J49<>0,K49/J49-1,0) -> -0.13733803 | M49: 33085.21 | N49: 27962.002 | O49: =+IF(M49<>0,N49/M49-1,0) -> -0.15484889 | P49: =+IF(AND($O49<=P$2,$O49>Q$2),P$3,0)*$I49 -> 0 | Q49: =+IF(AND($O49<=Q$2,$O49>R$2),Q$3,0)*$I49 -> 0 | R49: =+IF(AND($O49<=R$2,$O49>S$2),R$3,0)*$I49 -> 0 | S49: =+IF(AND($O49<=S$2,$O49>T$2),S$3,0)*$I49 -> 1035.3469 | T49: =+IF(AND($O49<=T$2,$O49>U$2),T$3,0)*$I49 -> 0 | U49: =+SUM(P49:T49) -> 1035.3469 | V49: =+U49/$U$146 -> 0.021772146 | W49: =+V49*W$3 -> 1035.3469 | X49: megyei | Y49: =+IF(X49<>"",I49,"") -> 25883.673 | Z49: =I49/H49 -> 1.0926396 | AA49: =+IF($Z49>1.02,$Y49,0) -> 25883.673 | AB49: =+IF(X49<>"",AA49/$AA$146,"") -> 0.018601347 | AC49: =+IF(X49<>"",AB49*$AC$3,0) -> 688.24982 | AD49: 1674.7263 | AE49: 500.90937 | AF49: =+IF(AD49<>0,AE49/AD49,0) -> 0.29909924 | AG49: =$AG$3*AD49 -> 334.94527 | AH49: =IF(AD49<100,1,0) -> 0 | AI49: =IF(AF49<$AI$3,"1",0) -> 0 | AJ49: =IF((AH49+AI49)>0,0,AG49) -> 334.94527 | AK49: =+H49+W49+AC49 -> 25412.718 | AL49: =+G49+AJ49 -> 334.94527 | AM49: =AK49+AL49 -> 25747.663 | AN49: 510 | AO49: =+AN49+H49 -> 24199.121 | AP49: =+AO49+G49 -> 24199.121 | AQ49: =IF((AM49-AP49)<0,AM49-AP49,0) -> 0 | AR49: =+AM49+(AQ49*-1) -> 25747.663
A50: 10 | B50: 1865 | C50: =CONCATENATE("xx",B50) -> xx1865 | D50: 0 | E50: 0 | F50: Esztergom,Vaszary Kolos Kórház | G50: 0 | H50: 12554.696 | I50: 13175.817 | J50: 7688.55 | K50: 7162.8 | L50: =+IF(J50<>0,K50/J50-1,0) -> -0.068380904 | M50: 16814.02 | N50: 15425.695 | O50: =+IF(M50<>0,N50/M50-1,0) -> -0.082569475 | P50: =+IF(AND($O50<=P$2,$O50>Q$2),P$3,0)*$I50 -> 0 | Q50: =+IF(AND($O50<=Q$2,$O50>R$2),Q$3,0)*$I50 -> 263.51635 | R50: =+IF(AND($O50<=R$2,$O50>S$2),R$3,0)*$I50 -> 0 | S50: =+IF(AND($O50<=S$2,$O50>T$2),S$3,0)*$I50 -> 0 | T50: =+IF(AND($O50<=T$2,$O50>U$2),T$3,0)*$I50 -> 0 | U50: =+SUM(P50:T50) -> 263.51635 | V50: =+U50/$U$146 -> 0.0055414433 | W50: =+V50*W$3 -> 263.51635 | Y50: =+IF(X50<>"",I50,"") | AA50: =+IF($Z50>1.02,$Y50,0) -> 0 | AB50: =+IF(X50<>"",AA50/$AA$146,"") | AC50: =+IF(X50<>"",AB50*$AC$3,0) -> 0 | AD50: 1266.5654 | AE50: 116.63751 | AF50: =+IF(AD50<>0,AE50/AD50,0) -> 0.092089609 | AG50: =$AG$3*AD50 -> 253.31307 | AH50: =IF(AD50<100,1,0) -> 0 | AI50: =IF(AF50<$AI$3,"1",0) -> 0 | AJ50: =IF((AH50+AI50)>0,0,AG50) -> 253.31307 | AK50: =+H50+W50+AC50 -> 12818.212 | AL50: =+G50+AJ50 -> 253.31307 | AM50: =AK50+AL50 -> 13071.525 | AN50: 0 | AO50: =+AN50+H50 -> 12554.696 | AP50: =+AO50+G50 -> 12554.696 | AQ50: =IF((AM50-AP50)<0,AM50-AP50,0) -> 0 | AR50: =+AM50+(AQ50*-1) -> 13071.525
A51: 10 | B51: 1869 | C51: =CONCATENATE("xx",B51) -> xx1869 | D51: 0 | E51: 0 | F51: Kisbér, Batthyány Szakkórház | G51: 0 | H51: 768.12855 | I51: 899.38638 | J51: 508.46 | K51: 404.24 | L51: =+IF(J51<>0,K51/J51-1,0) -> -0.20497188 | M51: 1104.43 | N51: 825.25071 | O51: =+IF(M51<>0,N51/M51-1,0) -> -0.25278134 | P51: =+IF(AND($O51<=P$2,$O51>Q$2),P$3,0)*$I51 -> 0 | Q51: =+IF(AND($O51<=Q$2,$O51>R$2),Q$3,0)*$I51 -> 0 | R51: =+IF(AND($O51<=R$2,$O51>S$2),R$3,0)*$I51 -> 0 | S51: =+IF(AND($O51<=S$2,$O51>T$2),S$3,0)*$I51 -> 35.975455 | T51: =+IF(AND($O51<=T$2,$O51>U$2),T$3,0)*$I51 -> 0 | U51: =+SUM(P51:T51) -> 35.975455 | V51: =+U51/$U$146 -> 0.00075652212 | W51: =+V51*W$3 -> 35.975455 | Y51: =+IF(X51<>"",I51,"") | AA51: =+IF($Z51>1.02,$Y51,0) -> 0 | AB51: =+IF(X51<>"",AA51/$AA$146,"") | AC51: =+IF(X51<>"",AB51*$AC$3,0) -> 0 | AD51: 1.91325 | AE51: 0 | AF51: =+IF(AD51<>0,AE51/AD51,0) -> 0 | AG51: =$AG$3*AD51 -> 0.38265 | AH51: =IF(AD51<100,1,0) -> 1 | AI51: =IF(AF51<$AI$3,"1",0) -> 0 | AJ51: =IF((AH51+AI51)>0,0,AG51) -> 0 | AK51: =+H51+W51+AC51 -> 804.10401 | AL51: =+G51+AJ51 -> 0 | AM51: =AK51+AL51 -> 804.10401 | AN51: 0 | AO51: =+AN51+H51 -> 768.12855 | AP51: =+AO51+G51 -> 768.12855 | AQ51: =IF((AM51-AP51)<0,AM51-AP51,0) -> 0 | AR51: =+AM51+(AQ51*-1) -> 804.10401
A52: 10 | B52: 1871 | C52: =CONCATENATE("xx",B52) -> xx1871 | D52: 0 | E52: 0 | F52: Komárom, Selye János Kh. | G52: 0 | H52: 2877.4253 | I52: 3047.5544 | J52: 2162.69 | K52: 1639.67 | L52: =+IF(J52<>0,K52/J52-1,0) -> -0.24183771 | M52: 4663.99 | N52: 3543.5969 | O52: =+IF(M52<>0,N52/M52-1,0) -> -0.24022202 | P52: =+IF(AND($O52<=P$2,$O52>Q$2),P$3,0)*$I52 -> 0 | Q52: =+IF(AND($O52<=Q$2,$O52>R$2),Q$3,0)*$I52 -> 0 | R52: =+IF(AND($O52<=R$2,$O52>S$2),R$3,0)*$I52 -> 0 | S52: =+IF(AND($O52<=S$2,$O52>T$2),S$3,0)*$I52 -> 121.90218 | T52: =+IF(AND($O52<=T$2,$O52>U$2),T$3,0)*$I52 -> 0 | U52: =+SUM(P52:T52) -> 121.90218 | V52: =+U52/$U$146 -> 0.0025634615 | W52: =+V52*W$3 -> 121.90218 | Y52: =+IF(X52<>"",I52,"") | AA52: =+IF($Z52>1.02,$Y52,0) -> 0 | AB52: =+IF(X52<>"",AA52/$AA$146,"") | AC52: =+IF(X52<>"",AB52*$AC$3,0) -> 0 | AD52: 231.36017 | AE52: 0 | AF52: =+IF(AD52<>0,AE52/AD52,0) -> 0 | AG52: =$AG$3*AD52 -> 46.272034 | AH52: =IF(AD52<100,1,0) -> 0 | AI52: =IF(AF52<$AI$3,"1",0) -> 0 | AJ52: =IF((AH52+AI52)>0,0,AG52) -> 46.272034 | AK52: =+H52+W52+AC52 -> 2999.3274 | AL52: =+G52+AJ52 -> 46.272034 | AM52: =AK52+AL52 -> 3045.5995 | AN52: 0 | AO52: =+AN52+H52 -> 2877.4253 | AP52: =+AO52+G52 -> 2877.4253 | AQ52: =IF((AM52-AP52)<0,AM52-AP52,0) -> 0 | AR52: =+AM52+(AQ52*-1) -> 3045.5995
A53: 10 | B53: 1876 | C53: =CONCATENATE("xx",B53) -> xx1876 | D53: 0 | E53: 0 | F53: Tatabánya, Szt. Borbála Kórház | G53: 0 | H53: 24230.134 | I53: 27154.837 | J53: 12829.04 | K53: 12924.69 | L53: =+IF(J53<>0,K53/J53-1,0) -> 0.007455741 | M53: 28034.88 | N53: 26950.834 | O53: =+IF(M53<>0,N53/M53-1,0) -> -0.038667775 | P53: =+IF(AND($O53<=P$2,$O53>Q$2),P$3,0)*$I53 -> 271.54837 | Q53: =+IF(AND($O53<=Q$2,$O53>R$2),Q$3,0)*$I53 -> 0 | R53: =+IF(AND($O53<=R$2,$O53>S$2),R$3,0)*$I53 -> 0 | S53: =+IF(AND($O53<=S$2,$O53>T$2),S$3,0)*$I53 -> 0 | T53: =+IF(AND($O53<=T$2,$O53>U$2),T$3,0)*$I53 -> 0 | U53: =+SUM(P53:T53) -> 271.54837 | V53: =+U53/$U$146 -> 0.0057103474 | W53: =+V53*W$3 -> 271.54837 | X53: megyei | Y53: =+IF(X53<>"",I53,"") -> 27154.837 | Z53: =I53/H53 -> 1.1207052 | AA53: =+IF($Z53>1.02,$Y53,0) -> 27154.837 | AB53: =+IF(X53<>"",AA53/$AA$146,"") -> 0.019514871 | AC53: =+IF(X53<>"",AB53*$AC$3,0) -> 722.05022 | AD53: 2228.3655 | AE53: 1189.6024 | AF53: =+IF(AD53<>0,AE53/AD53,0) -> 0.53384529 | AG53: =$AG$3*AD53 -> 445.6731 | AH53: =IF(AD53<100,1,0) -> 0 | AI53: =IF(AF53<$AI$3,"1",0) -> 0 | AJ53: =IF((AH53+AI53)>0,0,AG53) -> 445.6731 | AK53: =+H53+W53+AC53 -> 25223.732 | AL53: =+G53+AJ53 -> 445.6731 | AM53: =AK53+AL53 -> 25669.406 | AN53: 1775.3333 | AO53: =+AN53+H53 -> 26005.467 | AP53: =+AO53+G53 -> 26005.467 | AQ53: =IF((AM53-AP53)<0,AM53-AP53,0) -> -336.06165 | AR53: =+AM53+(AQ53*-1) -> 26005.467
A54: 10 | B54: 1894 | C54: =CONCATENATE("xx",B54) -> xx1894 | D54: 0 | E54: 0 | F54: Tata,Árpád-házi Sz.E.Szakkh.Ri | G54: 0 | H54: 827.99541 | I54: 902.90859 | J54: 733.72 | K54: 540.22 | L54: =+IF(J54<>0,K54/J54-1,0) -> -0.26372458 | M54: 1537.38 | N54: 1072.2449 | O54: =+IF(M54<>0,N54/M54-1,0) -> -0.30255051 | P54: =+IF(AND($O54<=P$2,$O54>Q$2),P$3,0)*$I54 -> 0 | Q54: =+IF(AND($O54<=Q$2,$O54>R$2),Q$3,0)*$I54 -> 0 | R54: =+IF(AND($O54<=R$2,$O54>S$2),R$3,0)*$I54 -> 0 | S54: =+IF(AND($O54<=S$2,$O54>T$2),S$3,0)*$I54 -> 0 | T54: =+IF(AND($O54<=T$2,$O54>U$2),T$3,0)*$I54 -> 45.145429 | U54: =+SUM(P54:T54) -> 45.145429 | V54: =+U54/$U$146 -> 0.00094935605 | W54: =+V54*W$3 -> 45.145429 | Y54: =+IF(X54<>"",I54,"") | AA54: =+IF($Z54>1.02,$Y54,0) -> 0 | AB54: =+IF(X54<>"",AA54/$AA$146,"") | AC54: =+IF(X54<>"",AB54*$AC$3,0) -> 0 | AD54: 0.7653 | AE54: 0 | AF54: =+IF(AD54<>0,AE54/AD54,0) -> 0 | AG54: =$AG$3*AD54 -> 0.15306 | AH54: =IF(AD54<100,1,0) -> 1 | AI54: =IF(AF54<$AI$3,"1",0) -> 0 | AJ54: =IF((AH54+AI54)>0,0,AG54) -> 0 | AK54: =+H54+W54+AC54 -> 873.14084 | AL54: =+G54+AJ54 -> 0 | AM54: =AK54+AL54 -> 873.14084 | AN54: 0 | AO54: =+AN54+H54 -> 827.99541 | AP54: =+AO54+G54 -> 827.99541 | AQ54: =IF((AM54-AP54)<0,AM54-AP54,0) -> 0 | AR54: =+AM54+(AQ54*-1) -> 873.14084
A55: 10 | B55: K404 | C55: =CONCATENATE("xx",B55) -> xxK404 | D55: 1 | E55: 0 | F55: Kastélypark Klinika Eü.Sz.Kft. | G55: 381.17352 | H55: 0 | I55: 0 | J55: 0 | K55: 0 | L55: =+IF(J55<>0,K55/J55-1,0) -> 0 | M55: 0 | N55: 0 | O55: =+IF(M55<>0,N55/M55-1,0) -> 0 | P55: =+IF(AND($O55<=P$2,$O55>Q$2),P$3,0)*$I55 -> 0 | Q55: =+IF(AND($O55<=Q$2,$O55>R$2),Q$3,0)*$I55 -> 0 | R55: =+IF(AND($O55<=R$2,$O55>S$2),R$3,0)*$I55 -> 0 | S55: =+IF(AND($O55<=S$2,$O55>T$2),S$3,0)*$I55 -> 0 | T55: =+IF(AND($O55<=T$2,$O55>U$2),T$3,0)*$I55 -> 0 | U55: =+SUM(P55:T55) -> 0 | V55: =+U55/$U$146 -> 0 | W55: =+V55*W$3 -> 0 | Y55: =+IF(X55<>"",I55,"") | AA55: =+IF($Z55>1.02,$Y55,0) -> 0 | AB55: =+IF(X55<>"",AA55/$AA$146,"") | AC55: =+IF(X55<>"",AB55*$AC$3,0) -> 0 | AD55: 5.34375 | AE55: 0 | AF55: =+IF(AD55<>0,AE55/AD55,0) -> 0 | AG55: =$AG$3*AD55 -> 1.06875 | AH55: =IF(AD55<100,1,0) -> 1 | AI55: =IF(AF55<$AI$3,"1",0) -> 0 | AJ55: =IF((AH55+AI55)>0,0,AG55) -> 0 | AK55: =+H55+W55+AC55 -> 0 | AL55: =+G55+AJ55 -> 381.17352 | AM55: =AK55+AL55 -> 381.17352 | AN55: 0 | AO55: =+AN55+H55 -> 0 | AP55: =+AO55+G55 -> 381.17352 | AQ55: =IF((AM55-AP55)<0,AM55-AP55,0) -> 0 | AR55: =+AM55+(AQ55*-1) -> 381.17352
A56: 11 | B56: 1903 | C56: =CONCATENATE("xx",B56) -> xx1903 | D56: 1 | E56: 0 | F56: Balassagyarmat,Dr.Kenessey Vkh | G56: 481.49771 | H56: 8050.9185 | I56: 10178.391 | J56: 6141.72 | K56: 4451.51 | L56: =+IF(J56<>0,K56/J56-1,0) -> -0.27520141 | M56: 12679.78 | N56: 9889.2053 | O56: =+IF(M56<>0,N56/M56-1,0) -> -0.22008069 | P56: =+IF(AND($O56<=P$2,$O56>Q$2),P$3,0)*$I56 -> 0 | Q56: =+IF(AND($O56<=Q$2,$O56>R$2),Q$3,0)*$I56 -> 0 | R56: =+IF(AND($O56<=R$2,$O56>S$2),R$3,0)*$I56 -> 0 | S56: =+IF(AND($O56<=S$2,$O56>T$2),S$3,0)*$I56 -> 407.13563 | T56: =+IF(AND($O56<=T$2,$O56>U$2),T$3,0)*$I56 -> 0 | U56: =+SUM(P56:T56) -> 407.13563 | V56: =+U56/$U$146 -> 0.0085615905 | W56: =+V56*W$3 -> 407.13563 | Y56: =+IF(X56<>"",I56,"") | AA56: =+IF($Z56>1.02,$Y56,0) -> 0 | AB56: =+IF(X56<>"",AA56/$AA$146,"") | AC56: =+IF(X56<>"",AB56*$AC$3,0) -> 0 | AD56: 117.68152 | AE56: 0 | AF56: =+IF(AD56<>0,AE56/AD56,0) -> 0 | AG56: =$AG$3*AD56 -> 23.536304 | AH56: =IF(AD56<100,1,0) -> 0 | AI56: =IF(AF56<$AI$3,"1",0) -> 0 | AJ56: =IF((AH56+AI56)>0,0,AG56) -> 23.536304 | AK56: =+H56+W56+AC56 -> 8458.0542 | AL56: =+G56+AJ56 -> 505.03402 | AM56: =AK56+AL56 -> 8963.0882 | AN56: 0 | AO56: =+AN56+H56 -> 8050.9185 | AP56: =+AO56+G56 -> 8532.4162 | AQ56: =IF((AM56-AP56)<0,AM56-AP56,0) -> 0 | AR56: =+AM56+(AQ56*-1) -> 8963.0882
A57: 11 | B57: 1928 | C57: =CONCATENATE("xx",B57) -> xx1928 | D57: 0 | E57: 0 | F57: Salgótarján,Szent Lázár M.Kh. | G57: 0 | H57: 16717.517 | I57: 18867.573 | J57: 8677.49 | K57: 9085.98 | L57: =+IF(J57<>0,K57/J57-1,0) -> 0.047074673 | M57: 20743.7 | N57: 19294.298 | O57: =+IF(M57<>0,N57/M57-1,0) -> -0.069871916 | P57: =+IF(AND($O57<=P$2,$O57>Q$2),P$3,0)*$I57 -> 0 | Q57: =+IF(AND($O57<=Q$2,$O57>R$2),Q$3,0)*$I57 -> 377.35146 | R57: =+IF(AND($O57<=R$2,$O57>S$2),R$3,0)*$I57 -> 0 | S57: =+IF(AND($O57<=S$2,$O57>T$2),S$3,0)*$I57 -> 0 | T57: =+IF(AND($O57<=T$2,$O57>U$2),T$3,0)*$I57 -> 0 | U57: =+SUM(P57:T57) -> 377.35146 | V57: =+U57/$U$146 -> 0.0079352638 | W57: =+V57*W$3 -> 377.35146 | X57: megyei | Y57: =+IF(X57<>"",I57,"") -> 18867.573 | Z57: =I57/H57 -> 1.128611 | AA57: =+IF($Z57>1.02,$Y57,0) -> 18867.573 | AB57: =+IF(X57<>"",AA57/$AA$146,"") -> 0.013559214 | AC57: =+IF(X57<>"",AB57*$AC$3,0) -> 501.69092 | AD57: 965.1758 | AE57: 163.47806 | AF57: =+IF(AD57<>0,AE57/AD57,0) -> 0.16937646 | AG57: =$AG$3*AD57 -> 193.03516 | AH57: =IF(AD57<100,1,0) -> 0 | AI57: =IF(AF57<$AI$3,"1",0) -> 0 | AJ57: =IF((AH57+AI57)>0,0,AG57) -> 193.03516 | AK57: =+H57+W57+AC57 -> 17596.559 | AL57: =+G57+AJ57 -> 193.03516 | AM57: =AK57+AL57 -> 17789.594 | AN57: 359 | AO57: =+AN57+H57 -> 17076.517 | AP57: =+AO57+G57 -> 17076.517 | AQ57: =IF((AM57-AP57)<0,AM57-AP57,0) -> 0 | AR57: =+AM57+(AQ57*-1) -> 17789.594
A58: 11 | B58: 1945 | C58: =CONCATENATE("xx",B58) -> xx1945 | D58: 1 | E58: 0 | F58: Pásztó, Margit Kórház | G58: 378.33991 | H58: 574.64828 | I58: 621.15412 | J58: 1886.71 | K58: 384.77 | L58: =+IF(J58<>0,K58/J58-1,0) -> -0.79606299 | M58: 4325.23 | N58: 1065.7805 | O58: =+IF(M58<>0,N58/M58-1,0) -> -0.75358987 | P58: =+IF(AND($O58<=P$2,$O58>Q$2),P$3,0)*$I58 -> 0 | Q58: =+IF(AND($O58<=Q$2,$O58>R$2),Q$3,0)*$I58 -> 0 | R58: =+IF(AND($O58<=R$2,$O58>S$2),R$3,0)*$I58 -> 0 | S58: =+IF(AND($O58<=S$2,$O58>T$2),S$3,0)*$I58 -> 0 | T58: =+IF(AND($O58<=T$2,$O58>U$2),T$3,0)*$I58 -> 31.057706 | U58: =+SUM(P58:T58) -> 31.057706 | V58: =+U58/$U$146 -> 0.00065310756 | W58: =+V58*W$3 -> 31.057706 | Y58: =+IF(X58<>"",I58,"") | AA58: =+IF($Z58>1.02,$Y58,0) -> 0 | AB58: =+IF(X58<>"",AA58/$AA$146,"") | AC58: =+IF(X58<>"",AB58*$AC$3,0) -> 0 | AD58: 0 | AE58: 0 | AF58: =+IF(AD58<>0,AE58/AD58,0) -> 0 | AG58: =$AG$3*AD58 -> 0 | AH58: =IF(AD58<100,1,0) -> 1 | AI58: =IF(AF58<$AI$3,"1",0) -> 0 | AJ58: =IF((AH58+AI58)>0,0,AG58) -> 0 | AK58: =+H58+W58+AC58 -> 605.70598 | AL58: =+G58+AJ58 -> 378.33991 | AM58: =AK58+AL58 -> 984.04589 | AN58: 0 | AO58: =+AN58+H58 -> 574.64828 | AP58: =+AO58+G58 -> 952.98818 | AQ58: =IF((AM58-AP58)<0,AM58-AP58,0) -> 0 | AR58: =+AM58+(AQ58*-1) -> 984.04589
A59: 12 | B59: 1980 | C59: =CONCATENATE("xx",B59) -> xx1980 | D59: 1 | E59: 0 | F59: Dr. Halász G.Szakorv.RI. Dabas | G59: 342.97253 | H59: 0 | I59: 0 | J59: 0 | K59: 0 | L59: =+IF(J59<>0,K59/J59-1,0) -> 0 | M59: 0 | N59: 0 | O59: =+IF(M59<>0,N59/M59-1,0) -> 0 | P59: =+IF(AND($O59<=P$2,$O59>Q$2),P$3,0)*$I59 -> 0 | Q59: =+IF(AND($O59<=Q$2,$O59>R$2),Q$3,0)*$I59 -> 0 | R59: =+IF(AND($O59<=R$2,$O59>S$2),R$3,0)*$I59 -> 0 | S59: =+IF(AND($O59<=S$2,$O59>T$2),S$3,0)*$I59 -> 0 | T59: =+IF(AND($O59<=T$2,$O59>U$2),T$3,0)*$I59 -> 0 | U59: =+SUM(P59:T59) -> 0 | V59: =+U59/$U$146 -> 0 | W59: =+V59*W$3 -> 0 | Y59: =+IF(X59<>"",I59,"") | AA59: =+IF($Z59>1.02,$Y59,0) -> 0 | AB59: =+IF(X59<>"",AA59/$AA$146,"") | AC59: =+IF(X59<>"",AB59*$AC$3,0) -> 0 | AD59: 1.75015 | AE59: 0 | AF59: =+IF(AD59<>0,AE59/AD59,0) -> 0 | AG59: =$AG$3*AD59 -> 0.35003 | AH59: =IF(AD59<100,1,0) -> 1 | AI59: =IF(AF59<$AI$3,"1",0) -> 0 | AJ59: =IF((AH59+AI59)>0,0,AG59) -> 0 | AK59: =+H59+W59+AC59 -> 0 | AL59: =+G59+AJ59 -> 342.97253 | AM59: =AK59+AL59 -> 342.97253 | AN59: 0 | AO59: =+AN59+H59 -> 0 | AP59: =+AO59+G59 -> 342.97253 | AQ59: =IF((AM59-AP59)<0,AM59-AP59,0) -> 0 | AR59: =+AM59+(AQ59*-1) -> 342.97253
A60: 12 | B60: 2010 | C60: =CONCATENATE("xx",B60) -> xx2010 | D60: 0 | E60: 0 | F60: Pest Megyei Flór Ferenc Kórház | G60: 0 | H60: 23269.299 | I60: 25795.185 | J60: 10946.49 | K60: 14282.05 | L60: =+IF(J60<>0,K60/J60-1,0) -> 0.30471503 | M60: 23696.94 | N60: 28745.191 | O60: =+IF(M60<>0,N60/M60-1,0) -> 0.21303387 | P60: =+IF(AND($O60<=P$2,$O60>Q$2),P$3,0)*$I60 -> 0 | Q60: =+IF(AND($O60<=Q$2,$O60>R$2),Q$3,0)*$I60 -> 0 | R60: =+IF(AND($O60<=R$2,$O60>S$2),R$3,0)*$I60 -> 0 | S60: =+IF(AND($O60<=S$2,$O60>T$2),S$3,0)*$I60 -> 0 | T60: =+IF(AND($O60<=T$2,$O60>U$2),T$3,0)*$I60 -> 0 | U60: =+SUM(P60:T60) -> 0 | V60: =+U60/$U$146 -> 0 | W60: =+V60*W$3 -> 0 | X60: megyei | Y60: =+IF(X60<>"",I60,"") -> 25795.185 | Z60: =I60/H60 -> 1.1085501 | AA60: =+IF($Z60>1.02,$Y60,0) -> 25795.185 | AB60: =+IF(X60<>"",AA60/$AA$146,"") -> 0.018537754 | AC60: =+IF(X60<>"",AB60*$AC$3,0) -> 685.89691 | AD60: 1942.2557 | AE60: 592.26579 | AF60: =+IF(AD60<>0,AE60/AD60,0) -> 0.30493708 | AG60: =$AG$3*AD60 -> 388.45114 | AH60: =IF(AD60<100,1,0) -> 0 | AI60: =IF(AF60<$AI$3,"1",0) -> 0 | AJ60: =IF((AH60+AI60)>0,0,AG60) -> 388.45114 | AK60: =+H60+W60+AC60 -> 23955.196 | AL60: =+G60+AJ60 -> 388.45114 | AM60: =AK60+AL60 -> 24343.647 | AN60: 508 | AO60: =+AN60+H60 -> 23777.299 | AP60: =+AO60+G60 -> 23777.299 | AQ60: =IF((AM60-AP60)<0,AM60-AP60,0) -> 0 | AR60: =+AM60+(AQ60*-1) -> 24343.647
A61: 12 | B61: 2049 | C61: =CONCATENATE("xx",B61) -> xx2049 | D61: 1 | E61: 0 | F61: Szent Rókus Kórház, Bp. | G61: 1696.0877 | H61: 0 | I61: 0 | J61: 0 | K61: 0 | L61: =+IF(J61<>0,K61/J61-1,0) -> 0 | M61: 0 | N61: 0 | O61: =+IF(M61<>0,N61/M61-1,0) -> 0 | P61: =+IF(AND($O61<=P$2,$O61>Q$2),P$3,0)*$I61 -> 0 | Q61: =+IF(AND($O61<=Q$2,$O61>R$2),Q$3,0)*$I61 -> 0 | R61: =+IF(AND($O61<=R$2,$O61>S$2),R$3,0)*$I61 -> 0 | S61: =+IF(AND($O61<=S$2,$O61>T$2),S$3,0)*$I61 -> 0 | T61: =+IF(AND($O61<=T$2,$O61>U$2),T$3,0)*$I61 -> 0 | U61: =+SUM(P61:T61) -> 0 | V61: =+U61/$U$146 -> 0 | W61: =+V61*W$3 -> 0 | Y61: =+IF(X61<>"",I61,"") | AA61: =+IF($Z61>1.02,$Y61,0) -> 0 | AB61: =+IF(X61<>"",AA61/$AA$146,"") | AC61: =+IF(X61<>"",AB61*$AC$3,0) -> 0 | AD61: 2.90892 | AE61: 0 | AF61: =+IF(AD61<>0,AE61/AD61,0) -> 0 | AG61: =$AG$3*AD61 -> 0.581784 | AH61: =IF(AD61<100,1,0) -> 1 | AI61: =IF(AF61<$AI$3,"1",0) -> 0 | AJ61: =IF((AH61+AI61)>0,0,AG61) -> 0 | AK61: =+H61+W61+AC61 -> 0 | AL61: =+G61+AJ61 -> 1696.0877 | AM61: =AK61+AL61 -> 1696.0877 | AN61: 0 | AO61: =+AN61+H61 -> 0 | AP61: =+AO61+G61 -> 1696.0877 | AQ61: =IF((AM61-AP61)<0,AM61-AP61,0) -> 0 | AR61: =+AM61+(AQ61*-1) -> 1696.0877
A62: 12 | B62: 2073 | C62: =CONCATENATE("xx",B62) -> xx2073 | D62: 0 | E62: 0 | F62: Tüdőgyógyintézet Törökbálint | G62: 0 | H62: 7151.2499 | I62: 8112.5055 | J62: 3748.9 | K62: 4092.81 | L62: =+IF(J62<>0,K62/J62-1,0) -> 0.091736243 | M62: 7332.84 | N62: 8661.5859 | O62: =+IF(M62<>0,N62/M62-1,0) -> 0.18120481 | P62: =+IF(AND($O62<=P$2,$O62>Q$2),P$3,0)*$I62 -> 0 | Q62: =+IF(AND($O62<=Q$2,$O62>R$2),Q$3,0)*$I62 -> 0 | R62: =+IF(AND($O62<=R$2,$O62>S$2),R$3,0)*$I62 -> 0 | S62: =+IF(AND($O62<=S$2,$O62>T$2),S$3,0)*$I62 -> 0 | T62: =+IF(AND($O62<=T$2,$O62>U$2),T$3,0)*$I62 -> 0 | U62: =+SUM(P62:T62) -> 0 | V62: =+U62/$U$146 -> 0 | W62: =+V62*W$3 -> 0 | X62: szakkórház | Y62: =+IF(X62<>"",I62,"") -> 8112.5055 | Z62: =I62/H62 -> 1.1344178 | AA62: =+IF($Z62>1.02,$Y62,0) -> 8112.5055 | AB62: =+IF(X62<>"",AA62/$AA$146,"") -> 0.0058300662 | AC62: =+IF(X62<>"",AB62*$AC$3,0) -> 215.71245 | AD62: 0 | AE62: 0 | AF62: =+IF(AD62<>0,AE62/AD62,0) -> 0 | AG62: =$AG$3*AD62 -> 0 | AH62: =IF(AD62<100,1,0) -> 1 | AI62: =IF(AF62<$AI$3,"1",0) -> 0 | AJ62: =IF((AH62+AI62)>0,0,AG62) -> 0 | AK62: =+H62+W62+AC62 -> 7366.9624 | AL62: =+G62+AJ62 -> 0 | AM62: =AK62+AL62 -> 7366.9624 | AN62: 600 | AO62: =+AN62+H62 -> 7751.2499 | AP62: =+AO62+G62 -> 7751.2499 | AQ62: =IF((AM62-AP62)<0,AM62-AP62,0) -> -384.28755 | AR62: =+AM62+(AQ62*-1) -> 7751.2499
A63: 12 | B63: 2090 | C63: =CONCATENATE("xx",B63) -> xx2090 | D63: 1 | E63: 0 | F63: Vecsési Egészségügyi Szolgálat | G63: 346.69218 | H63: 0 | I63: 0 | J63: 0 | K63: 0 | L63: =+IF(J63<>0,K63/J63-1,0) -> 0 | M63: 0 | N63: 0 | O63: =+IF(M63<>0,N63/M63-1,0) -> 0 | P63: =+IF(AND($O63<=P$2,$O63>Q$2),P$3,0)*$I63 -> 0 | Q63: =+IF(AND($O63<=Q$2,$O63>R$2),Q$3,0)*$I63 -> 0 | R63: =+IF(AND($O63<=R$2,$O63>S$2),R$3,0)*$I63 -> 0 | S63: =+IF(AND($O63<=S$2,$O63>T$2),S$3,0)*$I63 -> 0 | T63: =+IF(AND($O63<=T$2,$O63>U$2),T$3,0)*$I63 -> 0 | U63: =+SUM(P63:T63) -> 0 | V63: =+U63/$U$146 -> 0 | W63: =+V63*W$3 -> 0 | Y63: =+IF(X63<>"",I63,"") | AA63: =+IF($Z63>1.02,$Y63,0) -> 0 | AB63: =+IF(X63<>"",AA63/$AA$146,"") | AC63: =+IF(X63<>"",AB63*$AC$3,0) -> 0 | AD63: 0 | AE63: 0 | AF63: =+IF(AD63<>0,AE63/AD63,0) -> 0 | AG63: =$AG$3*AD63 -> 0 | AH63: =IF(AD63<100,1,0) -> 1 | AI63: =IF(AF63<$AI$3,"1",0) -> 0 | AJ63: =IF((AH63+AI63)>0,0,AG63) -> 0 | AK63: =+H63+W63+AC63 -> 0 | AL63: =+G63+AJ63 -> 346.69218 | AM63: =AK63+AL63 -> 346.69218 | AN63: 0 | AO63: =+AN63+H63 -> 0 | AP63: =+AO63+G63 -> 346.69218 | AQ63: =IF((AM63-AP63)<0,AM63-AP63,0) -> 0 | AR63: =+AM63+(AQ63*-1) -> 346.69218
A64: 12 | B64: 2095 | C64: =CONCATENATE("xx",B64) -> xx2095 | D64: 0 | E64: 0 | F64: Vác, Jávorszky Ödön Városi Kh. | G64: 0 | H64: 15563.713 | I64: 17038.785 | J64: 8471 | K64: 8629.2 | L64: =+IF(J64<>0,K64/J64-1,0) -> 0.018675481 | M64: 18360.25 | N64: 18462.333 | O64: =+IF(M64<>0,N64/M64-1,0) -> 0.0055599867 | P64: =+IF(AND($O64<=P$2,$O64>Q$2),P$3,0)*$I64 -> 0 | Q64: =+IF(AND($O64<=Q$2,$O64>R$2),Q$3,0)*$I64 -> 0 | R64: =+IF(AND($O64<=R$2,$O64>S$2),R$3,0)*$I64 -> 0 | S64: =+IF(AND($O64<=S$2,$O64>T$2),S$3,0)*$I64 -> 0 | T64: =+IF(AND($O64<=T$2,$O64>U$2),T$3,0)*$I64 -> 0 | U64: =+SUM(P64:T64) -> 0 | V64: =+U64/$U$146 -> 0 | W64: =+V64*W$3 -> 0 | Y64: =+IF(X64<>"",I64,"") | AA64: =+IF($Z64>1.02,$Y64,0) -> 0 | AB64: =+IF(X64<>"",AA64/$AA$146,"") | AC64: =+IF(X64<>"",AB64*$AC$3,0) -> 0 | AD64: 622.03998 | AE64: 200.42631 | AF64: =+IF(AD64<>0,AE64/AD64,0) -> 0.32220808 | AG64: =$AG$3*AD64 -> 124.408 | AH64: =IF(AD64<100,1,0) -> 0 | AI64: =IF(AF64<$AI$3,"1",0) -> 0 | AJ64: =IF((AH64+AI64)>0,0,AG64) -> 124.408 | AK64: =+H64+W64+AC64 -> 15563.713 | AL64: =+G64+AJ64 -> 124.408 | AM64: =AK64+AL64 -> 15688.121 | AN64: 331 | AO64: =+AN64+H64 -> 15894.713 | AP64: =+AO64+G64 -> 15894.713 | AQ64: =IF((AM64-AP64)<0,AM64-AP64,0) -> -206.592 | AR64: =+AM64+(AQ64*-1) -> 15894.713
A65: 12 | B65: 2911 | C65: =CONCATENATE("xx",B65) -> xx2911 | D65: 0 | E65: 0 | F65: POMÁZ, Gálfi Béla KHT | G65: 0 | H65: 642.08429 | I65: 577.47999 | J65: 280.11 | K65: 328.43 | L65: =+IF(J65<>0,K65/J65-1,0) -> 0.17250366 | M65: 569.73 | N65: 622.98094 | O65: =+IF(M65<>0,N65/M65-1,0) -> 0.093466976 | P65: =+IF(AND($O65<=P$2,$O65>Q$2),P$3,0)*$I65 -> 0 | Q65: =+IF(AND($O65<=Q$2,$O65>R$2),Q$3,0)*$I65 -> 0 | R65: =+IF(AND($O65<=R$2,$O65>S$2),R$3,0)*$I65 -> 0 | S65: =+IF(AND($O65<=S$2,$O65>T$2),S$3,0)*$I65 -> 0 | T65: =+IF(AND($O65<=T$2,$O65>U$2),T$3,0)*$I65 -> 0 | U65: =+SUM(P65:T65) -> 0 | V65: =+U65/$U$146 -> 0 | W65: =+V65*W$3 -> 0 | Y65: =+IF(X65<>"",I65,"") | AA65: =+IF($Z65>1.02,$Y65,0) -> 0 | AB65: =+IF(X65<>"",AA65/$AA$146,"") | AC65: =+IF(X65<>"",AB65*$AC$3,0) -> 0 | AD65: 0 | AE65: 0 | AF65: =+IF(AD65<>0,AE65/AD65,0) -> 0 | AG65: =$AG$3*AD65 -> 0 | AH65: =IF(AD65<100,1,0) -> 1 | AI65: =IF(AF65<$AI$3,"1",0) -> 0 | AJ65: =IF((AH65+AI65)>0,0,AG65) -> 0 | AK65: =+H65+W65+AC65 -> 642.08429 | AL65: =+G65+AJ65 -> 0 | AM65: =AK65+AL65 -> 642.08429 | AN65: 0 | AO65: =+AN65+H65 -> 642.08429 | AP65: =+AO65+G65 -> 642.08429 | AQ65: =IF((AM65-AP65)<0,AM65-AP65,0) -> 0 | AR65: =+AM65+(AQ65*-1) -> 642.08429
A66: 12 | B66: B305 | C66: =CONCATENATE("xx",B66) -> xxB305 | D66: 1 | E66: 0 | F66: Veresegyház, Misszió Eü.Kp.KHT | G66: 345.06348 | H66: 0 | I66: 0 | J66: 0 | K66: 0 | L66: =+IF(J66<>0,K66/J66-1,0) -> 0 | M66: 0 | N66: 0 | O66: =+IF(M66<>0,N66/M66-1,0) -> 0 | P66: =+IF(AND($O66<=P$2,$O66>Q$2),P$3,0)*$I66 -> 0 | Q66: =+IF(AND($O66<=Q$2,$O66>R$2),Q$3,0)*$I66 -> 0 | R66: =+IF(AND($O66<=R$2,$O66>S$2),R$3,0)*$I66 -> 0 | S66: =+IF(AND($O66<=S$2,$O66>T$2),S$3,0)*$I66 -> 0 | T66: =+IF(AND($O66<=T$2,$O66>U$2),T$3,0)*$I66 -> 0 | U66: =+SUM(P66:T66) -> 0 | V66: =+U66/$U$146 -> 0 | W66: =+V66*W$3 -> 0 | Y66: =+IF(X66<>"",I66,"") | AA66: =+IF($Z66>1.02,$Y66,0) -> 0 | AB66: =+IF(X66<>"",AA66/$AA$146,"") | AC66: =+IF(X66<>"",AB66*$AC$3,0) -> 0 | AD66: 0.97141 | AE66: 0 | AF66: =+IF(AD66<>0,AE66/AD66,0) -> 0 | AG66: =$AG$3*AD66 -> 0.194282 | AH66: =IF(AD66<100,1,0) -> 1 | AI66: =IF(AF66<$AI$3,"1",0) -> 0 | AJ66: =IF((AH66+AI66)>0,0,AG66) -> 0 | AK66: =+H66+W66+AC66 -> 0 | AL66: =+G66+AJ66 -> 345.06348 | AM66: =AK66+AL66 -> 345.06348 | AN66: 0 | AO66: =+AN66+H66 -> 0 | AP66: =+AO66+G66 -> 345.06348 | AQ66: =IF((AM66-AP66)<0,AM66-AP66,0) -> 0 | AR66: =+AM66+(AQ66*-1) -> 345.06348
A67: 12 | B67: C613 | C67: =CONCATENATE("xx",B67) -> xxC613 | D67: 1 | E67: 0 | F67: Europ-Med KFT, Budaörs | G67: 1743.5384 | H67: 0 | I67: 0 | J67: 0 | K67: 0 | L67: =+IF(J67<>0,K67/J67-1,0) -> 0 | M67: 0 | N67: 0 | O67: =+IF(M67<>0,N67/M67-1,0) -> 0 | P67: =+IF(AND($O67<=P$2,$O67>Q$2),P$3,0)*$I67 -> 0 | Q67: =+IF(AND($O67<=Q$2,$O67>R$2),Q$3,0)*$I67 -> 0 | R67: =+IF(AND($O67<=R$2,$O67>S$2),R$3,0)*$I67 -> 0 | S67: =+IF(AND($O67<=S$2,$O67>T$2),S$3,0)*$I67 -> 0 | T67: =+IF(AND($O67<=T$2,$O67>U$2),T$3,0)*$I67 -> 0 | U67: =+SUM(P67:T67) -> 0 | V67: =+U67/$U$146 -> 0 | W67: =+V67*W$3 -> 0 | Y67: =+IF(X67<>"",I67,"") | AA67: =+IF($Z67>1.02,$Y67,0) -> 0 | AB67: =+IF(X67<>"",AA67/$AA$146,"") | AC67: =+IF(X67<>"",AB67*$AC$3,0) -> 0 | AD67: 0 | AE67: 0 | AF67: =+IF(AD67<>0,AE67/AD67,0) -> 0 | AG67: =$AG$3*AD67 -> 0 | AH67: =IF(AD67<100,1,0) -> 1 | AI67: =IF(AF67<$AI$3,"1",0) -> 0 | AJ67: =IF((AH67+AI67)>0,0,AG67) -> 0 | AK67: =+H67+W67+AC67 -> 0 | AL67: =+G67+AJ67 -> 1743.5384 | AM67: =AK67+AL67 -> 1743.5384 | AN67: 0 | AO67: =+AN67+H67 -> 0 | AP67: =+AO67+G67 -> 1743.5384 | AQ67: =IF((AM67-AP67)<0,AM67-AP67,0) -> 0 | AR67: =+AM67+(AQ67*-1) -> 1743.5384
A68: 12 | B68: H199 | C68: =CONCATENATE("xx",B68) -> xxH199 | D68: 1 | E68: 0 | F68: Men For Care KFT | G68: 680.33105 | H68: 0 | I68: 0 | J68: 0 | K68: 0 | L68: =+IF(J68<>0,K68/J68-1,0) -> 0 | M68: 0 | N68: 0 | O68: =+IF(M68<>0,N68/M68-1,0) -> 0 | P68: =+IF(AND($O68<=P$2,$O68>Q$2),P$3,0)*$I68 -> 0 | Q68: =+IF(AND($O68<=Q$2,$O68>R$2),Q$3,0)*$I68 -> 0 | R68: =+IF(AND($O68<=R$2,$O68>S$2),R$3,0)*$I68 -> 0 | S68: =+IF(AND($O68<=S$2,$O68>T$2),S$3,0)*$I68 -> 0 | T68: =+IF(AND($O68<=T$2,$O68>U$2),T$3,0)*$I68 -> 0 | U68: =+SUM(P68:T68) -> 0 | V68: =+U68/$U$146 -> 0 | W68: =+V68*W$3 -> 0 | Y68: =+IF(X68<>"",I68,"") | AA68: =+IF($Z68>1.02,$Y68,0) -> 0 | AB68: =+IF(X68<>"",AA68/$AA$146,"") | AC68: =+IF(X68<>"",AB68*$AC$3,0) -> 0 | AD68: 0.91808 | AE68: 0 | AF68: =+IF(AD68<>0,AE68/AD68,0) -> 0 | AG68: =$AG$3*AD68 -> 0.183616 | AH68: =IF(AD68<100,1,0) -> 1 | AI68: =IF(AF68<$AI$3,"1",0) -> 0 | AJ68: =IF((AH68+AI68)>0,0,AG68) -> 0 | AK68: =+H68+W68+AC68 -> 0 | AL68: =+G68+AJ68 -> 680.33105 | AM68: =AK68+AL68 -> 680.33105 | AN68: 0 | AO68: =+AN68+H68 -> 0 | AP68: =+AO68+G68 -> 680.33105 | AQ68: =IF((AM68-AP68)<0,AM68-AP68,0) -> 0 | AR68: =+AM68+(AQ68*-1) -> 680.33105
A69: 12 | B69: K560 | C69: =CONCATENATE("xx",B69) -> xxK560 | D69: 0 | E69: 0 | F69: Cegléd,Toldy F.Kh-Ri.Np.Kh.Kft | G69: 0 | H69: 15527.772 | I69: 17787.418 | J69: 8458.36 | K69: 7876.2 | L69: =+IF(J69<>0,K69/J69-1,0) -> -0.068826581 | M69: 17872.04 | N69: 13431.411 | O69: =+IF(M69<>0,N69/M69-1,0) -> -0.24846797 | P69: =+IF(AND($O69<=P$2,$O69>Q$2),P$3,0)*$I69 -> 0 | Q69: =+IF(AND($O69<=Q$2,$O69>R$2),Q$3,0)*$I69 -> 0 | R69: =+IF(AND($O69<=R$2,$O69>S$2),R$3,0)*$I69 -> 0 | S69: =+IF(AND($O69<=S$2,$O69>T$2),S$3,0)*$I69 -> 711.49672 | T69: =+IF(AND($O69<=T$2,$O69>U$2),T$3,0)*$I69 -> 0 | U69: =+SUM(P69:T69) -> 711.49672 | V69: =+U69/$U$146 -> 0.014961951 | W69: =+V69*W$3 -> 711.49672 | Y69: =+IF(X69<>"",I69,"") | AA69: =+IF($Z69>1.02,$Y69,0) -> 0 | AB69: =+IF(X69<>"",AA69/$AA$146,"") | AC69: =+IF(X69<>"",AB69*$AC$3,0) -> 0 | AD69: 1700.8287 | AE69: 269.71714 | AF69: =+IF(AD69<>0,AE69/AD69,0) -> 0.15857984 | AG69: =$AG$3*AD69 -> 340.16574 | AH69: =IF(AD69<100,1,0) -> 0 | AI69: =IF(AF69<$AI$3,"1",0) -> 0 | AJ69: =IF((AH69+AI69)>0,0,AG69) -> 340.16574 | AK69: =+H69+W69+AC69 -> 16239.269 | AL69: =+G69+AJ69 -> 340.16574 | AM69: =AK69+AL69 -> 16579.435 | AN69: 0 | AO69: =+AN69+H69 -> 15527.772 | AP69: =+AO69+G69 -> 15527.772 | AQ69: =IF((AM69-AP69)<0,AM69-AP69,0) -> 0 | AR69: =+AM69+(AQ69*-1) -> 16579.435
A70: 13 | B70: 2137 | C70: =CONCATENATE("xx",B70) -> xx2137 | D70: 0 | E70: 0 | F70: Kaposvár, Kaposi Mór Oktató Kh | G70: 0 | H70: 34829.941 | I70: 38650.351 | J70: 18017.78 | K70: 19507.36 | L70: =+IF(J70<>0,K70/J70-1,0) -> 0.082672782 | M70: 41606 | N70: 42914.797 | O70: =+IF(M70<>0,N70/M70-1,0) -> 0.03145692 | P70: =+IF(AND($O70<=P$2,$O70>Q$2),P$3,0)*$I70 -> 0 | Q70: =+IF(AND($O70<=Q$2,$O70>R$2),Q$3,0)*$I70 -> 0 | R70: =+IF(AND($O70<=R$2,$O70>S$2),R$3,0)*$I70 -> 0 | S70: =+IF(AND($O70<=S$2,$O70>T$2),S$3,0)*$I70 -> 0 | T70: =+IF(AND($O70<=T$2,$O70>U$2),T$3,0)*$I70 -> 0 | U70: =+SUM(P70:T70) -> 0 | V70: =+U70/$U$146 -> 0 | W70: =+V70*W$3 -> 0 | X70: megyei | Y70: =+IF(X70<>"",I70,"") -> 38650.351 | Z70: =I70/H70 -> 1.1096875 | AA70: =+IF($Z70>1.02,$Y70,0) -> 38650.351 | AB70: =+IF(X70<>"",AA70/$AA$146,"") -> 0.027776142 | AC70: =+IF(X70<>"",AB70*$AC$3,0) -> 1027.7173 | AD70: 2034.8613 | AE70: 467.39029 | AF70: =+IF(AD70<>0,AE70/AD70,0) -> 0.22969147 | AG70: =$AG$3*AD70 -> 406.97227 | AH70: =IF(AD70<100,1,0) -> 0 | AI70: =IF(AF70<$AI$3,"1",0) -> 0 | AJ70: =IF((AH70+AI70)>0,0,AG70) -> 406.97227 | AK70: =+H70+W70+AC70 -> 35857.658 | AL70: =+G70+AJ70 -> 406.97227 | AM70: =AK70+AL70 -> 36264.631 | AN70: 2172 | AO70: =+AN70+H70 -> 37001.941 | AP70: =+AO70+G70 -> 37001.941 | AQ70: =IF((AM70-AP70)<0,AM70-AP70,0) -> -737.31048 | AR70: =+AM70+(AQ70*-1) -> 37001.941
A71: 13 | B71: 2146 | C71: =CONCATENATE("xx",B71) -> xx2146 | D71: 0 | E71: 0 | F71: Marcali, VKh. | G71: 0 | H71: 4823.9868 | I71: 5570.635 | J71: 3133.71 | K71: 2440.61 | L71: =+IF(J71<>0,K71/J71-1,0) -> -0.22117554 | M71: 6746.45 | N71: 5627.8436 | O71: =+IF(M71<>0,N71/M71-1,0) -> -0.16580667 | P71: =+IF(AND($O71<=P$2,$O71>Q$2),P$3,0)*$I71 -> 0 | Q71: =+IF(AND($O71<=Q$2,$O71>R$2),Q$3,0)*$I71 -> 0 | R71: =+IF(AND($O71<=R$2,$O71>S$2),R$3,0)*$I71 -> 0 | S71: =+IF(AND($O71<=S$2,$O71>T$2),S$3,0)*$I71 -> 222.8254 | T71: =+IF(AND($O71<=T$2,$O71>U$2),T$3,0)*$I71 -> 0 | U71: =+SUM(P71:T71) -> 222.8254 | V71: =+U71/$U$146 -> 0.0046857599 | W71: =+V71*W$3 -> 222.8254 | Y71: =+IF(X71<>"",I71,"") | AA71: =+IF($Z71>1.02,$Y71,0) -> 0 | AB71: =+IF(X71<>"",AA71/$AA$146,"") | AC71: =+IF(X71<>"",AB71*$AC$3,0) -> 0 | AD71: 214.53868 | AE71: 52.22194 | AF71: =+IF(AD71<>0,AE71/AD71,0) -> 0.24341503 | AG71: =$AG$3*AD71 -> 42.907736 | AH71: =IF(AD71<100,1,0) -> 0 | AI71: =IF(AF71<$AI$3,"1",0) -> 0 | AJ71: =IF((AH71+AI71)>0,0,AG71) -> 42.907736 | AK71: =+H71+W71+AC71 -> 5046.8122 | AL71: =+G71+AJ71 -> 42.907736 | AM71: =AK71+AL71 -> 5089.72 | AN71: 267.99944 | AO71: =+AN71+H71 -> 5091.9863 | AP71: =+AO71+G71 -> 5091.9863 | AQ71: =IF((AM71-AP71)<0,AM71-AP71,0) -> -2.2663072 | AR71: =+AM71+(AQ71*-1) -> 5091.9863
A72: 13 | B72: 2162 | C72: =CONCATENATE("xx",B72) -> xx2162 | D72: 0 | E72: 0 | F72: Siófok, VKh. | G72: 0 | H72: 10626.457 | I72: 11977.428 | J72: 5444.38 | K72: 5532.72 | L72: =+IF(J72<>0,K72/J72-1,0) -> 0.016225906 | M72: 11859.8 | N72: 11749.802 | O72: =+IF(M72<>0,N72/M72-1,0) -> -0.0092748219 | P72: =+IF(AND($O72<=P$2,$O72>Q$2),P$3,0)*$I72 -> 119.77428 | Q72: =+IF(AND($O72<=Q$2,$O72>R$2),Q$3,0)*$I72 -> 0 | R72: =+IF(AND($O72<=R$2,$O72>S$2),R$3,0)*$I72 -> 0 | S72: =+IF(AND($O72<=S$2,$O72>T$2),S$3,0)*$I72 -> 0 | T72: =+IF(AND($O72<=T$2,$O72>U$2),T$3,0)*$I72 -> 0 | U72: =+SUM(P72:T72) -> 119.77428 | V72: =+U72/$U$146 -> 0.0025187143 | W72: =+V72*W$3 -> 119.77428 | Y72: =+IF(X72<>"",I72,"") | AA72: =+IF($Z72>1.02,$Y72,0) -> 0 | AB72: =+IF(X72<>"",AA72/$AA$146,"") | AC72: =+IF(X72<>"",AB72*$AC$3,0) -> 0 | AD72: 998.77943 | AE72: 197.20127 | AF72: =+IF(AD72<>0,AE72/AD72,0) -> 0.19744226 | AG72: =$AG$3*AD72 -> 199.75589 | AH72: =IF(AD72<100,1,0) -> 0 | AI72: =IF(AF72<$AI$3,"1",0) -> 0 | AJ72: =IF((AH72+AI72)>0,0,AG72) -> 199.75589 | AK72: =+H72+W72+AC72 -> 10746.231 | AL72: =+G72+AJ72 -> 199.75589 | AM72: =AK72+AL72 -> 10945.987 | AN72: 227 | AO72: =+AN72+H72 -> 10853.457 | AP72: =+AO72+G72 -> 10853.457 | AQ72: =IF((AM72-AP72)<0,AM72-AP72,0) -> 0 | AR72: =+AM72+(AQ72*-1) -> 10945.987
A73: 13 | B73: H275 | C73: =CONCATENATE("xx",B73) -> xxH275 | D73: 0 | E73: 0 | F73: Kaposvári Egyetem Eü-i Centrum | G73: 0 | H73: 5350.7778 | I73: 4919.2889 | J73: 2067.77 | K73: 2124.45 | L73: =+IF(J73<>0,K73/J73-1,0) -> 0.027411172 | M73: 3822.79 | N73: 4513.0279 | O73: =+IF(M73<>0,N73/M73-1,0) -> 0.18055868 | P73: =+IF(AND($O73<=P$2,$O73>Q$2),P$3,0)*$I73 -> 0 | Q73: =+IF(AND($O73<=Q$2,$O73>R$2),Q$3,0)*$I73 -> 0 | R73: =+IF(AND($O73<=R$2,$O73>S$2),R$3,0)*$I73 -> 0 | S73: =+IF(AND($O73<=S$2,$O73>T$2),S$3,0)*$I73 -> 0 | T73: =+IF(AND($O73<=T$2,$O73>U$2),T$3,0)*$I73 -> 0 | U73: =+SUM(P73:T73) -> 0 | V73: =+U73/$U$146 -> 0 | W73: =+V73*W$3 -> 0 | Y73: =+IF(X73<>"",I73,"") | AA73: =+IF($Z73>1.02,$Y73,0) -> 0 | AB73: =+IF(X73<>"",AA73/$AA$146,"") | AC73: =+IF(X73<>"",AB73*$AC$3,0) -> 0 | AD73: 0 | AE73: 0 | AF73: =+IF(AD73<>0,AE73/AD73,0) -> 0 | AG73: =$AG$3*AD73 -> 0 | AH73: =IF(AD73<100,1,0) -> 1 | AI73: =IF(AF73<$AI$3,"1",0) -> 0 | AJ73: =IF((AH73+AI73)>0,0,AG73) -> 0 | AK73: =+H73+W73+AC73 -> 5350.7778 | AL73: =+G73+AJ73 -> 0 | AM73: =AK73+AL73 -> 5350.7778 | AN73: 0 | AO73: =+AN73+H73 -> 5350.7778 | AP73: =+AO73+G73 -> 5350.7778 | AQ73: =IF((AM73-AP73)<0,AM73-AP73,0) -> 0 | AR73: =+AM73+(AQ73*-1) -> 5350.7778
A74: 13 | B74: K795 | C74: =CONCATENATE("xx",B74) -> xxK795 | D74: 0 | E74: 0 | F74: NagyatádMed Eü. szolg. Kft. | G74: 0 | H74: 5238.7663 | I74: 5687.1516 | J74: 4000.89 | K74: 2766.75 | L74: =+IF(J74<>0,K74/J74-1,0) -> -0.30846637 | M74: 9218.65 | N74: 6069.6755 | O74: =+IF(M74<>0,N74/M74-1,0) -> -0.34158738 | P74: =+IF(AND($O74<=P$2,$O74>Q$2),P$3,0)*$I74 -> 0 | Q74: =+IF(AND($O74<=Q$2,$O74>R$2),Q$3,0)*$I74 -> 0 | R74: =+IF(AND($O74<=R$2,$O74>S$2),R$3,0)*$I74 -> 0 | S74: =+IF(AND($O74<=S$2,$O74>T$2),S$3,0)*$I74 -> 0 | T74: =+IF(AND($O74<=T$2,$O74>U$2),T$3,0)*$I74 -> 284.35758 | U74: =+SUM(P74:T74) -> 284.35758 | V74: =+U74/$U$146 -> 0.0059797103 | W74: =+V74*W$3 -> 284.35758 | Y74: =+IF(X74<>"",I74,"") | AA74: =+IF($Z74>1.02,$Y74,0) -> 0 | AB74: =+IF(X74<>"",AA74/$AA$146,"") | AC74: =+IF(X74<>"",AB74*$AC$3,0) -> 0 | AD74: 165.07131 | AE74: 0.39614 | AF74: =+IF(AD74<>0,AE74/AD74,0) -> 0.0023998113 | AG74: =$AG$3*AD74 -> 33.014262 | AH74: =IF(AD74<100,1,0) -> 0 | AI74: =IF(AF74<$AI$3,"1",0) -> 0 | AJ74: =IF((AH74+AI74)>0,0,AG74) -> 33.014262 | AK74: =+H74+W74+AC74 -> 5523.1238 | AL74: =+G74+AJ74 -> 33.014262 | AM74: =AK74+AL74 -> 5556.1381 | AN74: 0 | AO74: =+AN74+H74 -> 5238.7663 | AP74: =+AO74+G74 -> 5238.7663 | AQ74: =IF((AM74-AP74)<0,AM74-AP74,0) -> 0 | AR74: =+AM74+(AQ74*-1) -> 5556.1381
A75: 14 | B75: 2230 | C75: =CONCATENATE("xx",B75) -> xx2230 | D75: 0 | E75: 0 | F75: Kisvárda, Felső-Szabolcsi Kh. | G75: 0 | H75: 13640.842 | I75: 14979.952 | J75: 8497.95 | K75: 7244.8 | L75: =+IF(J75<>0,K75/J75-1,0) -> -0.14746498 | M75: 18472.33 | N75: 15014.014 | O75: =+IF(M75<>0,N75/M75-1,0) -> -0.18721604 | P75: =+IF(AND($O75<=P$2,$O75>Q$2),P$3,0)*$I75 -> 0 | Q75: =+IF(AND($O75<=Q$2,$O75>R$2),Q$3,0)*$I75 -> 0 | R75: =+IF(AND($O75<=R$2,$O75>S$2),R$3,0)*$I75 -> 0 | S75: =+IF(AND($O75<=S$2,$O75>T$2),S$3,0)*$I75 -> 599.19807 | T75: =+IF(AND($O75<=T$2,$O75>U$2),T$3,0)*$I75 -> 0 | U75: =+SUM(P75:T75) -> 599.19807 | V75: =+U75/$U$146 -> 0.012600441 | W75: =+V75*W$3 -> 599.19807 | Y75: =+IF(X75<>"",I75,"") | AA75: =+IF($Z75>1.02,$Y75,0) -> 0 | AB75: =+IF(X75<>"",AA75/$AA$146,"") | AC75: =+IF(X75<>"",AB75*$AC$3,0) -> 0 | AD75: 826.98301 | AE75: 0.23418 | AF75: =+IF(AD75<>0,AE75/AD75,0) -> 0.00028317389 | AG75: =$AG$3*AD75 -> 165.3966 | AH75: =IF(AD75<100,1,0) -> 0 | AI75: =IF(AF75<$AI$3,"1",0) -> 0 | AJ75: =IF((AH75+AI75)>0,0,AG75) -> 165.3966 | AK75: =+H75+W75+AC75 -> 14240.04 | AL75: =+G75+AJ75 -> 165.3966 | AM75: =AK75+AL75 -> 14405.436 | AN75: 0 | AO75: =+AN75+H75 -> 13640.842 | AP75: =+AO75+G75 -> 13640.842 | AQ75: =IF((AM75-AP75)<0,AM75-AP75,0) -> 0 | AR75: =+AM75+(AQ75*-1) -> 14405.436
A76: 14 | B76: M289 | C76: =CONCATENATE("xx",B76) -> xxM289 | D76: 0 | E76: 0 | F76: Nyíregyháza, Jósa A.Oktató Kh. Np. Kft. | G76: 0 | H76: 56309.722 | I76: 71297.165 | J76: 36082.58 | K76: 31712.68 | L76: =+IF(J76<>0,K76/J76-1,0) -> -0.1211083 | M76: 77310.08 | N76: 68011.157 | O76: =+IF(M76<>0,N76/M76-1,0) -> -0.12028087 | P76: =+IF(AND($O76<=P$2,$O76>Q$2),P$3,0)*$I76 -> 0 | Q76: =+IF(AND($O76<=Q$2,$O76>R$2),Q$3,0)*$I76 -> 0 | R76: =+IF(AND($O76<=R$2,$O76>S$2),R$3,0)*$I76 -> 2138.915 | S76: =+IF(AND($O76<=S$2,$O76>T$2),S$3,0)*$I76 -> 0 | T76: =+IF(AND($O76<=T$2,$O76>U$2),T$3,0)*$I76 -> 0 | U76: =+SUM(P76:T76) -> 2138.915 | V76: =+U76/$U$146 -> 0.044978902 | W76: =+V76*W$3 -> 2138.915 | X76: megyei | Y76: =+IF(X76<>"",I76,"") -> 71297.165 | Z76: =I76/H76 -> 1.2661608 | AA76: =+IF($Z76>1.02,$Y76,0) -> 71297.165 | AB76: =+IF(X76<>"",AA76/$AA$146,"") -> 0.051237832 | AC76: =+IF(X76<>"",AB76*$AC$3,0) -> 1895.7998 | AD76: 4068.7419 | AE76: 1469.8491 | AF76: =+IF(AD76<>0,AE76/AD76,0) -> 0.36125396 | AG76: =$AG$3*AD76 -> 813.74838 | AH76: =IF(AD76<100,1,0) -> 0 | AI76: =IF(AF76<$AI$3,"1",0) -> 0 | AJ76: =IF((AH76+AI76)>0,0,AG76) -> 813.74838 | AK76: =+H76+W76+AC76 -> 60344.437 | AL76: =+G76+AJ76 -> 813.74838 | AM76: =AK76+AL76 -> 61158.185 | AN76: 4760 | AO76: =+AN76+H76 -> 61069.722 | AP76: =+AO76+G76 -> 61069.722 | AQ76: =IF((AM76-AP76)<0,AM76-AP76,0) -> 0 | AR76: =+AM76+(AQ76*-1) -> 61158.185
A77: 14 | B77: M290 | C77: =CONCATENATE("xx",B77) -> xxM290 | D77: 0 | E77: 0 | F77: Fehérgyarmat,Szatmár-Beregi Kh és Gyf. Np. Kft. | G77: 0 | H77: 8778.7709 | I77: 9669.7689 | J77: 5113.75 | K77: 4710.79 | L77: =+IF(J77<>0,K77/J77-1,0) -> -0.078799316 | M77: 11785.38 | N77: 10182.899 | O77: =+IF(M77<>0,N77/M77-1,0) -> -0.13597191 | P77: =+IF(AND($O77<=P$2,$O77>Q$2),P$3,0)*$I77 -> 0 | Q77: =+IF(AND($O77<=Q$2,$O77>R$2),Q$3,0)*$I77 -> 0 | R77: =+IF(AND($O77<=R$2,$O77>S$2),R$3,0)*$I77 -> 290.09307 | S77: =+IF(AND($O77<=S$2,$O77>T$2),S$3,0)*$I77 -> 0 | T77: =+IF(AND($O77<=T$2,$O77>U$2),T$3,0)*$I77 -> 0 | U77: =+SUM(P77:T77) -> 290.09307 | V77: =+U77/$U$146 -> 0.0061003209 | W77: =+V77*W$3 -> 290.09307 | Y77: =+IF(X77<>"",I77,"") | AA77: =+IF($Z77>1.02,$Y77,0) -> 0 | AB77: =+IF(X77<>"",AA77/$AA$146,"") | AC77: =+IF(X77<>"",AB77*$AC$3,0) -> 0 | AD77: 358.48637 | AE77: 3.69605 | AF77: =+IF(AD77<>0,AE77/AD77,0) -> 0.010310155 | AG77: =$AG$3*AD77 -> 71.697274 | AH77: =IF(AD77<100,1,0) -> 0 | AI77: =IF(AF77<$AI$3,"1",0) -> 0 | AJ77: =IF((AH77+AI77)>0,0,AG77) -> 71.697274 | AK77: =+H77+W77+AC77 -> 9068.8639 | AL77: =+G77+AJ77 -> 71.697274 | AM77: =AK77+AL77 -> 9140.5612 | AN77: 188 | AO77: =+AN77+H77 -> 8966.7709 | AP77: =+AO77+G77 -> 8966.7709 | AQ77: =IF((AM77-AP77)<0,AM77-AP77,0) -> 0 | AR77: =+AM77+(AQ77*-1) -> 9140.5612
A78: 14 | B78: M291 | C78: =CONCATENATE("xx",B78) -> xxM291 | D78: 0 | E78: 0 | F78: Nagykálló Sántha K. Szkkh. Np. Kft. | G78: 0 | H78: 4212.3701 | I78: 4586.9733 | J78: 3224.09 | K78: 2495.37 | L78: =+IF(J78<>0,K78/J78-1,0) -> -0.22602347 | M78: 6344.16 | N78: 5292.5331 | O78: =+IF(M78<>0,N78/M78-1,0) -> -0.16576299 | P78: =+IF(AND($O78<=P$2,$O78>Q$2),P$3,0)*$I78 -> 0 | Q78: =+IF(AND($O78<=Q$2,$O78>R$2),Q$3,0)*$I78 -> 0 | R78: =+IF(AND($O78<=R$2,$O78>S$2),R$3,0)*$I78 -> 0 | S78: =+IF(AND($O78<=S$2,$O78>T$2),S$3,0)*$I78 -> 183.47893 | T78: =+IF(AND($O78<=T$2,$O78>U$2),T$3,0)*$I78 -> 0 | U78: =+SUM(P78:T78) -> 183.47893 | V78: =+U78/$U$146 -> 0.0038583493 | W78: =+V78*W$3 -> 183.47893 | X78: szakkórház | Y78: =+IF(X78<>"",I78,"") -> 4586.9733 | Z78: =I78/H78 -> 1.0889293 | AA78: =+IF($Z78>1.02,$Y78,0) -> 4586.9733 | AB78: =+IF(X78<>"",AA78/$AA$146,"") -> 0.0032964364 | AC78: =+IF(X78<>"",AB78*$AC$3,0) -> 121.96815 | AD78: 0 | AE78: 0 | AF78: =+IF(AD78<>0,AE78/AD78,0) -> 0 | AG78: =$AG$3*AD78 -> 0 | AH78: =IF(AD78<100,1,0) -> 1 | AI78: =IF(AF78<$AI$3,"1",0) -> 0 | AJ78: =IF((AH78+AI78)>0,0,AG78) -> 0 | AK78: =+H78+W78+AC78 -> 4517.8172 | AL78: =+G78+AJ78 -> 0 | AM78: =AK78+AL78 -> 4517.8172 | AN78: 234.02056 | AO78: =+AN78+H78 -> 4446.3907 | AP78: =+AO78+G78 -> 4446.3907 | AQ78: =IF((AM78-AP78)<0,AM78-AP78,0) -> 0 | AR78: =+AM78+(AQ78*-1) -> 4517.8172
A79: 14 | B79: M570 | C79: =CONCATENATE("xx",B79) -> xxM570 | D79: 0 | E79: 0 | F79: Mátészalka, Területi Kórház Nonprofit Kft. | G79: 0 | H79: 10688.96 | I79: 11672.858 | J79: 6661.16 | K79: 5428.38 | L79: =+IF(J79<>0,K79/J79-1,0) -> -0.18506987 | M79: 14479.59 | N79: 11581.206 | O79: =+IF(M79<>0,N79/M79-1,0) -> -0.2001703 | P79: =+IF(AND($O79<=P$2,$O79>Q$2),P$3,0)*$I79 -> 0 | Q79: =+IF(AND($O79<=Q$2,$O79>R$2),Q$3,0)*$I79 -> 0 | R79: =+IF(AND($O79<=R$2,$O79>S$2),R$3,0)*$I79 -> 0 | S79: =+IF(AND($O79<=S$2,$O79>T$2),S$3,0)*$I79 -> 466.91432 | T79: =+IF(AND($O79<=T$2,$O79>U$2),T$3,0)*$I79 -> 0 | U79: =+SUM(P79:T79) -> 466.91432 | V79: =+U79/$U$146 -> 0.009818667 | W79: =+V79*W$3 -> 466.91432 | Y79: =+IF(X79<>"",I79,"") | AA79: =+IF($Z79>1.02,$Y79,0) -> 0 | AB79: =+IF(X79<>"",AA79/$AA$146,"") | AC79: =+IF(X79<>"",AB79*$AC$3,0) -> 0 | AD79: 509.57813 | AE79: 128.30404 | AF79: =+IF(AD79<>0,AE79/AD79,0) -> 0.25178482 | AG79: =$AG$3*AD79 -> 101.91563 | AH79: =IF(AD79<100,1,0) -> 0 | AI79: =IF(AF79<$AI$3,"1",0) -> 0 | AJ79: =IF((AH79+AI79)>0,0,AG79) -> 101.91563 | AK79: =+H79+W79+AC79 -> 11155.875 | AL79: =+G79+AJ79 -> 101.91563 | AM79: =AK79+AL79 -> 11257.79 | AN79: 0 | AO79: =+AN79+H79 -> 10688.96 | AP79: =+AO79+G79 -> 10688.96 | AQ79: =IF((AM79-AP79)<0,AM79-AP79,0) -> 0 | AR79: =+AM79+(AQ79*-1) -> 11257.79
A80: 15 | B80: 2324 | C80: =CONCATENATE("xx",B80) -> xx2324 | D80: 0 | E80: 0 | F80: Szolnok, Hetényi G. MKh. | G80: 0 | H80: 35805.938 | I80: 39479.021 | J80: 18587.03 | K80: 19420.53 | L80: =+IF(J80<>0,K80/J80-1,0) -> 0.044843098 | M80: 39672.99 | N80: 41215.79 | O80: =+IF(M80<>0,N80/M80-1,0) -> 0.038887924 | P80: =+IF(AND($O80<=P$2,$O80>Q$2),P$3,0)*$I80 -> 0 | Q80: =+IF(AND($O80<=Q$2,$O80>R$2),Q$3,0)*$I80 -> 0 | R80: =+IF(AND($O80<=R$2,$O80>S$2),R$3,0)*$I80 -> 0 | S80: =+IF(AND($O80<=S$2,$O80>T$2),S$3,0)*$I80 -> 0 | T80: =+IF(AND($O80<=T$2,$O80>U$2),T$3,0)*$I80 -> 0 | U80: =+SUM(P80:T80) -> 0 | V80: =+U80/$U$146 -> 0 | W80: =+V80*W$3 -> 0 | X80: megyei | Y80: =+IF(X80<>"",I80,"") -> 39479.021 | Z80: =I80/H80 -> 1.1025831 | AA80: =+IF($Z80>1.02,$Y80,0) -> 39479.021 | AB80: =+IF(X80<>"",AA80/$AA$146,"") -> 0.028371667 | AC80: =+IF(X80<>"",AB80*$AC$3,0) -> 1049.7517 | AD80: 2982.5122 | AE80: 776.66361 | AF80: =+IF(AD80<>0,AE80/AD80,0) -> 0.26040585 | AG80: =$AG$3*AD80 -> 596.50243 | AH80: =IF(AD80<100,1,0) -> 0 | AI80: =IF(AF80<$AI$3,"1",0) -> 0 | AJ80: =IF((AH80+AI80)>0,0,AG80) -> 596.50243 | AK80: =+H80+W80+AC80 -> 36855.69 | AL80: =+G80+AJ80 -> 596.50243 | AM80: =AK80+AL80 -> 37452.192 | AN80: 775 | AO80: =+AN80+H80 -> 36580.938 | AP80: =+AO80+G80 -> 36580.938 | AQ80: =IF((AM80-AP80)<0,AM80-AP80,0) -> 0 | AR80: =+AM80+(AQ80*-1) -> 37452.192
A81: 15 | B81: 2378 | C81: =CONCATENATE("xx",B81) -> xx2378 | D81: 0 | E81: 0 | F81: Karcag, Kátai Gábor Kh.-Ri. | G81: 0 | H81: 7714.7153 | I81: 8592.3558 | J81: 5293.98 | K81: 4286.03 | L81: =+IF(J81<>0,K81/J81-1,0) -> -0.19039551 | M81: 11280.06 | N81: 9261.981 | O81: =+IF(M81<>0,N81/M81-1,0) -> -0.17890676 | P81: =+IF(AND($O81<=P$2,$O81>Q$2),P$3,0)*$I81 -> 0 | Q81: =+IF(AND($O81<=Q$2,$O81>R$2),Q$3,0)*$I81 -> 0 | R81: =+IF(AND($O81<=R$2,$O81>S$2),R$3,0)*$I81 -> 0 | S81: =+IF(AND($O81<=S$2,$O81>T$2),S$3,0)*$I81 -> 343.69423 | T81: =+IF(AND($O81<=T$2,$O81>U$2),T$3,0)*$I81 -> 0 | U81: =+SUM(P81:T81) -> 343.69423 | V81: =+U81/$U$146 -> 0.0072274913 | W81: =+V81*W$3 -> 343.69423 | Y81: =+IF(X81<>"",I81,"") | AA81: =+IF($Z81>1.02,$Y81,0) -> 0 | AB81: =+IF(X81<>"",AA81/$AA$146,"") | AC81: =+IF(X81<>"",AB81*$AC$3,0) -> 0 | AD81: 528.23923 | AE81: 188.70485 | AF81: =+IF(AD81<>0,AE81/AD81,0) -> 0.35723369 | AG81: =$AG$3*AD81 -> 105.64785 | AH81: =IF(AD81<100,1,0) -> 0 | AI81: =IF(AF81<$AI$3,"1",0) -> 0 | AJ81: =IF((AH81+AI81)>0,0,AG81) -> 105.64785 | AK81: =+H81+W81+AC81 -> 8058.4095 | AL81: =+G81+AJ81 -> 105.64785 | AM81: =AK81+AL81 -> 8164.0574 | AN81: 165 | AO81: =+AN81+H81 -> 7879.7153 | AP81: =+AO81+G81 -> 7879.7153 | AQ81: =IF((AM81-AP81)<0,AM81-AP81,0) -> 0 | AR81: =+AM81+(AQ81*-1) -> 8164.0574
A82: 15 | B82: 8002 | C82: =CONCATENATE("xx",B82) -> xx8002 | D82: 0 | E82: 0 | F82: MÁV Kórház és Rendint.,Szolnok | G82: 0 | H82: 2985.5096 | I82: 3476.2483 | J82: 3610.42 | K82: 1281.81 | L82: =+IF(J82<>0,K82/J82-1,0) -> -0.64496928 | M82: 8415.6 | N82: 3215.8237 | O82: =+IF(M82<>0,N82/M82-1,0) -> -0.61787351 | P82: =+IF(AND($O82<=P$2,$O82>Q$2),P$3,0)*$I82 -> 0 | Q82: =+IF(AND($O82<=Q$2,$O82>R$2),Q$3,0)*$I82 -> 0 | R82: =+IF(AND($O82<=R$2,$O82>S$2),R$3,0)*$I82 -> 0 | S82: =+IF(AND($O82<=S$2,$O82>T$2),S$3,0)*$I82 -> 0 | T82: =+IF(AND($O82<=T$2,$O82>U$2),T$3,0)*$I82 -> 173.81242 | U82: =+SUM(P82:T82) -> 173.81242 | V82: =+U82/$U$146 -> 0.0036550737 | W82: =+V82*W$3 -> 173.81242 | Y82: =+IF(X82<>"",I82,"") | AA82: =+IF($Z82>1.02,$Y82,0) -> 0 | AB82: =+IF(X82<>"",AA82/$AA$146,"") | AC82: =+IF(X82<>"",AB82*$AC$3,0) -> 0 | AD82: 132.64672 | AE82: 0 | AF82: =+IF(AD82<>0,AE82/AD82,0) -> 0 | AG82: =$AG$3*AD82 -> 26.529344 | AH82: =IF(AD82<100,1,0) -> 0 | AI82: =IF(AF82<$AI$3,"1",0) -> 0 | AJ82: =IF((AH82+AI82)>0,0,AG82) -> 26.529344 | AK82: =+H82+W82+AC82 -> 3159.322 | AL82: =+G82+AJ82 -> 26.529344 | AM82: =AK82+AL82 -> 3185.8513 | AN82: 0 | AO82: =+AN82+H82 -> 2985.5096 | AP82: =+AO82+G82 -> 2985.5096 | AQ82: =IF((AM82-AP82)<0,AM82-AP82,0) -> 0 | AR82: =+AM82+(AQ82*-1) -> 3185.8513
A83: 15 | B83: K126 | C83: =CONCATENATE("xx",B83) -> xxK126 | D83: 0 | E83: 0 | F83: Mezőtúr Városi Kh.-Ri. KFT | G83: 0 | H83: 2421.4405 | I83: 2666.9256 | J83: 1245.21 | K83: 1272.59 | L83: =+IF(J83<>0,K83/J83-1,0) -> 0.021988259 | M83: 4110.8 | N83: 2791.2768 | O83: =+IF(M83<>0,N83/M83-1,0) -> -0.32098939 | P83: =+IF(AND($O83<=P$2,$O83>Q$2),P$3,0)*$I83 -> 0 | Q83: =+IF(AND($O83<=Q$2,$O83>R$2),Q$3,0)*$I83 -> 0 | R83: =+IF(AND($O83<=R$2,$O83>S$2),R$3,0)*$I83 -> 0 | S83: =+IF(AND($O83<=S$2,$O83>T$2),S$3,0)*$I83 -> 0 | T83: =+IF(AND($O83<=T$2,$O83>U$2),T$3,0)*$I83 -> 133.34628 | U83: =+SUM(P83:T83) -> 133.34628 | V83: =+U83/$U$146 -> 0.0028041177 | W83: =+V83*W$3 -> 133.34628 | Y83: =+IF(X83<>"",I83,"") | AA83: =+IF($Z83>1.02,$Y83,0) -> 0 | AB83: =+IF(X83<>"",AA83/$AA$146,"") | AC83: =+IF(X83<>"",AB83*$AC$3,0) -> 0 | AD83: 128.39751 | AE83: 20.46228 | AF83: =+IF(AD83<>0,AE83/AD83,0) -> 0.15936664 | AG83: =$AG$3*AD83 -> 25.679502 | AH83: =IF(AD83<100,1,0) -> 0 | AI83: =IF(AF83<$AI$3,"1",0) -> 0 | AJ83: =IF((AH83+AI83)>0,0,AG83) -> 25.679502 | AK83: =+H83+W83+AC83 -> 2554.7867 | AL83: =+G83+AJ83 -> 25.679502 | AM83: =AK83+AL83 -> 2580.4662 | AN83: 0 | AO83: =+AN83+H83 -> 2421.4405 | AP83: =+AO83+G83 -> 2421.4405 | AQ83: =IF((AM83-AP83)<0,AM83-AP83,0) -> 0 | AR83: =+AM83+(AQ83*-1) -> 2580.4662
A84: 15 | B84: K892 | C84: =CONCATENATE("xx",B84) -> xxK892 | D84: 0 | E84: 0 | F84: Jászberény,Szent Erzsébet Np. Kft. | G84: 0 | H84: 6363.5217 | I84: 6869.309 | J84: 3804.16 | K84: 3524.62 | L84: =+IF(J84<>0,K84/J84-1,0) -> -0.073482714 | M84: 8952.78 | N84: 7457.9653 | O84: =+IF(M84<>0,N84/M84-1,0) -> -0.16696654 | P84: =+IF(AND($O84<=P$2,$O84>Q$2),P$3,0)*$I84 -> 0 | Q84: =+IF(AND($O84<=Q$2,$O84>R$2),Q$3,0)*$I84 -> 0 | R84: =+IF(AND($O84<=R$2,$O84>S$2),R$3,0)*$I84 -> 0 | S84: =+IF(AND($O84<=S$2,$O84>T$2),S$3,0)*$I84 -> 274.77236 | T84: =+IF(AND($O84<=T$2,$O84>U$2),T$3,0)*$I84 -> 0 | U84: =+SUM(P84:T84) -> 274.77236 | V84: =+U84/$U$146 -> 0.0057781442 | W84: =+V84*W$3 -> 274.77236 | Y84: =+IF(X84<>"",I84,"") | AA84: =+IF($Z84>1.02,$Y84,0) -> 0 | AB84: =+IF(X84<>"",AA84/$AA$146,"") | AC84: =+IF(X84<>"",AB84*$AC$3,0) -> 0 | AD84: 322.65754 | AE84: 17.39412 | AF84: =+IF(AD84<>0,AE84/AD84,0) -> 0.053908922 | AG84: =$AG$3*AD84 -> 64.531508 | AH84: =IF(AD84<100,1,0) -> 0 | AI84: =IF(AF84<$AI$3,"1",0) -> 0 | AJ84: =IF((AH84+AI84)>0,0,AG84) -> 64.531508 | AK84: =+H84+W84+AC84 -> 6638.294 | AL84: =+G84+AJ84 -> 64.531508 | AM84: =AK84+AL84 -> 6702.8255 | AN84: 0 | AO84: =+AN84+H84 -> 6363.5217 | AP84: =+AO84+G84 -> 6363.5217 | AQ84: =IF((AM84-AP84)<0,AM84-AP84,0) -> 0 | AR84: =+AM84+(AQ84*-1) -> 6702.8255
A85: 16 | B85: 2392 | C85: =CONCATENATE("xx",B85) -> xx2392 | D85: 1 | E85: 0 | F85: Bonyhád, V.Kh.Ri. | G85: 379.0829 | H85: 490.19278 | I85: 489.29263 | J85: 1210.28 | K85: 392.97 | L85: =+IF(J85<>0,K85/J85-1,0) -> -0.67530654 | M85: 2916.03 | N85: 952.56279 | O85: =+IF(M85<>0,N85/M85-1,0) -> -0.67333574 | P85: =+IF(AND($O85<=P$2,$O85>Q$2),P$3,0)*$I85 -> 0 | Q85: =+IF(AND($O85<=Q$2,$O85>R$2),Q$3,0)*$I85 -> 0 | R85: =+IF(AND($O85<=R$2,$O85>S$2),R$3,0)*$I85 -> 0 | S85: =+IF(AND($O85<=S$2,$O85>T$2),S$3,0)*$I85 -> 0 | T85: =+IF(AND($O85<=T$2,$O85>U$2),T$3,0)*$I85 -> 24.464631 | U85: =+SUM(P85:T85) -> 24.464631 | V85: =+U85/$U$146 -> 0.00051446284 | W85: =+V85*W$3 -> 24.464631 | Y85: =+IF(X85<>"",I85,"") | AA85: =+IF($Z85>1.02,$Y85,0) -> 0 | AB85: =+IF(X85<>"",AA85/$AA$146,"") | AC85: =+IF(X85<>"",AB85*$AC$3,0) -> 0 | AD85: 1.74999 | AE85: 0 | AF85: =+IF(AD85<>0,AE85/AD85,0) -> 0 | AG85: =$AG$3*AD85 -> 0.349998 | AH85: =IF(AD85<100,1,0) -> 1 | AI85: =IF(AF85<$AI$3,"1",0) -> 0 | AJ85: =IF((AH85+AI85)>0,0,AG85) -> 0 | AK85: =+H85+W85+AC85 -> 514.65741 | AL85: =+G85+AJ85 -> 379.0829 | AM85: =AK85+AL85 -> 893.74032 | AN85: 0 | AO85: =+AN85+H85 -> 490.19278 | AP85: =+AO85+G85 -> 869.27568 | AQ85: =IF((AM85-AP85)<0,AM85-AP85,0) -> 0 | AR85: =+AM85+(AQ85*-1) -> 893.74032
A86: 16 | B86: 2425 | C86: =CONCATENATE("xx",B86) -> xx2425 | D86: 0 | E86: 0 | F86: Szekszárd, Balassa J. M.-i Kh. | G86: 0 | H86: 23457.078 | I86: 24672.718 | J86: 14345.13 | K86: 13749.92 | L86: =+IF(J86<>0,K86/J86-1,0) -> -0.04149213 | M86: 31389.1 | N86: 28781.006 | O86: =+IF(M86<>0,N86/M86-1,0) -> -0.083089156 | P86: =+IF(AND($O86<=P$2,$O86>Q$2),P$3,0)*$I86 -> 0 | Q86: =+IF(AND($O86<=Q$2,$O86>R$2),Q$3,0)*$I86 -> 493.45436 | R86: =+IF(AND($O86<=R$2,$O86>S$2),R$3,0)*$I86 -> 0 | S86: =+IF(AND($O86<=S$2,$O86>T$2),S$3,0)*$I86 -> 0 | T86: =+IF(AND($O86<=T$2,$O86>U$2),T$3,0)*$I86 -> 0 | U86: =+SUM(P86:T86) -> 493.45436 | V86: =+U86/$U$146 -> 0.010376773 | W86: =+V86*W$3 -> 493.45436 | X86: megyei | Y86: =+IF(X86<>"",I86,"") -> 24672.718 | Z86: =I86/H86 -> 1.051824 | AA86: =+IF($Z86>1.02,$Y86,0) -> 24672.718 | AB86: =+IF(X86<>"",AA86/$AA$146,"") -> 0.017731092 | AC86: =+IF(X86<>"",AB86*$AC$3,0) -> 656.05039 | AD86: 1659.3862 | AE86: 639.45737 | AF86: =+IF(AD86<>0,AE86/AD86,0) -> 0.38535778 | AG86: =$AG$3*AD86 -> 331.87723 | AH86: =IF(AD86<100,1,0) -> 0 | AI86: =IF(AF86<$AI$3,"1",0) -> 0 | AJ86: =IF((AH86+AI86)>0,0,AG86) -> 331.87723 | AK86: =+H86+W86+AC86 -> 24606.583 | AL86: =+G86+AJ86 -> 331.87723 | AM86: =AK86+AL86 -> 24938.46 | AN86: 508 | AO86: =+AN86+H86 -> 23965.078 | AP86: =+AO86+G86 -> 23965.078 | AQ86: =IF((AM86-AP86)<0,AM86-AP86,0) -> 0 | AR86: =+AM86+(AQ86*-1) -> 24938.46
A87: 16 | B87: 2436 | C87: =CONCATENATE("xx",B87) -> xx2436 | D87: 1 | E87: 0 | F87: Paks, Rendelőintézet | G87: 370.16615 | H87: 0 | I87: 0 | J87: 0 | K87: 0 | L87: =+IF(J87<>0,K87/J87-1,0) -> 0 | M87: 0 | N87: 0 | O87: =+IF(M87<>0,N87/M87-1,0) -> 0 | P87: =+IF(AND($O87<=P$2,$O87>Q$2),P$3,0)*$I87 -> 0 | Q87: =+IF(AND($O87<=Q$2,$O87>R$2),Q$3,0)*$I87 -> 0 | R87: =+IF(AND($O87<=R$2,$O87>S$2),R$3,0)*$I87 -> 0 | S87: =+IF(AND($O87<=S$2,$O87>T$2),S$3,0)*$I87 -> 0 | T87: =+IF(AND($O87<=T$2,$O87>U$2),T$3,0)*$I87 -> 0 | U87: =+SUM(P87:T87) -> 0 | V87: =+U87/$U$146 -> 0 | W87: =+V87*W$3 -> 0 | Y87: =+IF(X87<>"",I87,"") | AA87: =+IF($Z87>1.02,$Y87,0) -> 0 | AB87: =+IF(X87<>"",AA87/$AA$146,"") | AC87: =+IF(X87<>"",AB87*$AC$3,0) -> 0 | AD87: 0 | AE87: 0 | AF87: =+IF(AD87<>0,AE87/AD87,0) -> 0 | AG87: =$AG$3*AD87 -> 0 | AH87: =IF(AD87<100,1,0) -> 1 | AI87: =IF(AF87<$AI$3,"1",0) -> 0 | AJ87: =IF((AH87+AI87)>0,0,AG87) -> 0 | AK87: =+H87+W87+AC87 -> 0 | AL87: =+G87+AJ87 -> 370.16615 | AM87: =AK87+AL87 -> 370.16615 | AN87: 0 | AO87: =+AN87+H87 -> 0 | AP87: =+AO87+G87 -> 370.16615 | AQ87: =IF((AM87-AP87)<0,AM87-AP87,0) -> 0 | AR87: =+AM87+(AQ87*-1) -> 370.16615
A88: 16 | B88: 4712 | C88: =CONCATENATE("xx",B88) -> xx4712 | D88: 1 | E88: 0 | F88: Dombóvári Szent Lukács Eü. KHT | G88: 375.32759 | H88: 4884.4836 | I88: 4894.3134 | J88: 3051.16 | K88: 3234.76 | L88: =+IF(J88<>0,K88/J88-1,0) -> 0.060173836 | M88: 8758.72 | N88: 6366.5208 | O88: =+IF(M88<>0,N88/M88-1,0) -> -0.27312201 | P88: =+IF(AND($O88<=P$2,$O88>Q$2),P$3,0)*$I88 -> 0 | Q88: =+IF(AND($O88<=Q$2,$O88>R$2),Q$3,0)*$I88 -> 0 | R88: =+IF(AND($O88<=R$2,$O88>S$2),R$3,0)*$I88 -> 0 | S88: =+IF(AND($O88<=S$2,$O88>T$2),S$3,0)*$I88 -> 195.77254 | T88: =+IF(AND($O88<=T$2,$O88>U$2),T$3,0)*$I88 -> 0 | U88: =+SUM(P88:T88) -> 195.77254 | V88: =+U88/$U$146 -> 0.0041168695 | W88: =+V88*W$3 -> 195.77254 | Y88: =+IF(X88<>"",I88,"") | AA88: =+IF($Z88>1.02,$Y88,0) -> 0 | AB88: =+IF(X88<>"",AA88/$AA$146,"") | AC88: =+IF(X88<>"",AB88*$AC$3,0) -> 0 | AD88: 188.799 | AE88: 2.33835 | AF88: =+IF(AD88<>0,AE88/AD88,0) -> 0.012385394 | AG88: =$AG$3*AD88 -> 37.7598 | AH88: =IF(AD88<100,1,0) -> 0 | AI88: =IF(AF88<$AI$3,"1",0) -> 0 | AJ88: =IF((AH88+AI88)>0,0,AG88) -> 37.7598 | AK88: =+H88+W88+AC88 -> 5080.2561 | AL88: =+G88+AJ88 -> 413.08739 | AM88: =AK88+AL88 -> 5493.3435 | AN88: 0 | AO88: =+AN88+H88 -> 4884.4836 | AP88: =+AO88+G88 -> 5259.8112 | AQ88: =IF((AM88-AP88)<0,AM88-AP88,0) -> 0 | AR88: =+AM88+(AQ88*-1) -> 5493.3435
A89: 17 | B89: 2524 | C89: =CONCATENATE("xx",B89) -> xx2524 | D89: 0 | E89: 0 | F89: Celldömölk, Kemenesaljai Kh. | G89: 0 | H89: 2368.1679 | I89: 2120.8992 | J89: 1274.25 | K89: 733.64 | L89: =+IF(J89<>0,K89/J89-1,0) -> -0.42425741 | M89: 2789.1 | N89: 1444.7379 | O89: =+IF(M89<>0,N89/M89-1,0) -> -0.48200569 | P89: =+IF(AND($O89<=P$2,$O89>Q$2),P$3,0)*$I89 -> 0 | Q89: =+IF(AND($O89<=Q$2,$O89>R$2),Q$3,0)*$I89 -> 0 | R89: =+IF(AND($O89<=R$2,$O89>S$2),R$3,0)*$I89 -> 0 | S89: =+IF(AND($O89<=S$2,$O89>T$2),S$3,0)*$I89 -> 0 | T89: =+IF(AND($O89<=T$2,$O89>U$2),T$3,0)*$I89 -> 106.04496 | U89: =+SUM(P89:T89) -> 106.04496 | V89: =+U89/$U$146 -> 0.0022300026 | W89: =+V89*W$3 -> 106.04496 | Y89: =+IF(X89<>"",I89,"") | AA89: =+IF($Z89>1.02,$Y89,0) -> 0 | AB89: =+IF(X89<>"",AA89/$AA$146,"") | AC89: =+IF(X89<>"",AB89*$AC$3,0) -> 0 | AD89: 218.90191 | AE89: 46.80382 | AF89: =+IF(AD89<>0,AE89/AD89,0) -> 0.21381184 | AG89: =$AG$3*AD89 -> 43.780382 | AH89: =IF(AD89<100,1,0) -> 0 | AI89: =IF(AF89<$AI$3,"1",0) -> 0 | AJ89: =IF((AH89+AI89)>0,0,AG89) -> 43.780382 | AK89: =+H89+W89+AC89 -> 2474.2129 | AL89: =+G89+AJ89 -> 43.780382 | AM89: =AK89+AL89 -> 2517.9932 | AN89: 0 | AO89: =+AN89+H89 -> 2368.1679 | AP89: =+AO89+G89 -> 2368.1679 | AQ89: =IF((AM89-AP89)<0,AM89-AP89,0) -> 0 | AR89: =+AM89+(AQ89*-1) -> 2517.9932
A90: 17 | B90: 2531 | C90: =CONCATENATE("xx",B90) -> xx2531 | D90: 1 | E90: 0 | F90: Sárvár, V.Kh.Ri. | G90: 456.65301 | H90: 0 | I90: 0 | J90: 0 | K90: 0 | L90: =+IF(J90<>0,K90/J90-1,0) -> 0 | M90: 0 | N90: 0 | O90: =+IF(M90<>0,N90/M90-1,0) -> 0 | P90: =+IF(AND($O90<=P$2,$O90>Q$2),P$3,0)*$I90 -> 0 | Q90: =+IF(AND($O90<=Q$2,$O90>R$2),Q$3,0)*$I90 -> 0 | R90: =+IF(AND($O90<=R$2,$O90>S$2),R$3,0)*$I90 -> 0 | S90: =+IF(AND($O90<=S$2,$O90>T$2),S$3,0)*$I90 -> 0 | T90: =+IF(AND($O90<=T$2,$O90>U$2),T$3,0)*$I90 -> 0 | U90: =+SUM(P90:T90) -> 0 | V90: =+U90/$U$146 -> 0 | W90: =+V90*W$3 -> 0 | Y90: =+IF(X90<>"",I90,"") | AA90: =+IF($Z90>1.02,$Y90,0) -> 0 | AB90: =+IF(X90<>"",AA90/$AA$146,"") | AC90: =+IF(X90<>"",AB90*$AC$3,0) -> 0 | AD90: 18.12914 | AE90: 0 | AF90: =+IF(AD90<>0,AE90/AD90,0) -> 0 | AG90: =$AG$3*AD90 -> 3.625828 | AH90: =IF(AD90<100,1,0) -> 1 | AI90: =IF(AF90<$AI$3,"1",0) -> 0 | AJ90: =IF((AH90+AI90)>0,0,AG90) -> 0 | AK90: =+H90+W90+AC90 -> 0 | AL90: =+G90+AJ90 -> 456.65301 | AM90: =AK90+AL90 -> 456.65301 | AN90: 0 | AO90: =+AN90+H90 -> 0 | AP90: =+AO90+G90 -> 456.65301 | AQ90: =IF((AM90-AP90)<0,AM90-AP90,0) -> 0 | AR90: =+AM90+(AQ90*-1) -> 456.65301
A91: 17 | B91: K472 | C91: =CONCATENATE("xx",B91) -> xxK472 | D91: 0 | E91: 0 | F91: Markusovszky Kórház Zrt. | G91: 0 | H91: 38917.475 | I91: 41868 | J91: 21759.79 | K91: 19657.69 | L91: =+IF(J91<>0,K91/J91-1,0) -> -0.096604793 | M91: 45947.61 | N91: 44281.37 | O91: =+IF(M91<>0,N91/M91-1,0) -> -0.0362639 | P91: =+IF(AND($O91<=P$2,$O91>Q$2),P$3,0)*$I91 -> 418.68 | Q91: =+IF(AND($O91<=Q$2,$O91>R$2),Q$3,0)*$I91 -> 0 | R91: =+IF(AND($O91<=R$2,$O91>S$2),R$3,0)*$I91 -> 0 | S91: =+IF(AND($O91<=S$2,$O91>T$2),S$3,0)*$I91 -> 0 | T91: =+IF(AND($O91<=T$2,$O91>U$2),T$3,0)*$I91 -> 0 | U91: =+SUM(P91:T91) -> 418.68 | V91: =+U91/$U$146 -> 0.008804355 | W91: =+V91*W$3 -> 418.68 | X91: megyei | Y91: =+IF(X91<>"",I91,"") -> 41868 | Z91: =I91/H91 -> 1.0758149 | AA91: =+IF($Z91>1.02,$Y91,0) -> 41868 | AB91: =+IF(X91<>"",AA91/$AA$146,"") -> 0.030088511 | AC91: =+IF(X91<>"",AB91*$AC$3,0) -> 1113.2749 | AD91: 2796.6805 | AE91: 1292.7048 | AF91: =+IF(AD91<>0,AE91/AD91,0) -> 0.46222826 | AG91: =$AG$3*AD91 -> 559.3361 | AH91: =IF(AD91<100,1,0) -> 0 | AI91: =IF(AF91<$AI$3,"1",0) -> 0 | AJ91: =IF((AH91+AI91)>0,0,AG91) -> 559.3361 | AK91: =+H91+W91+AC91 -> 40449.43 | AL91: =+G91+AJ91 -> 559.3361 | AM91: =AK91+AL91 -> 41008.766 | AN91: 823 | AO91: =+AN91+H91 -> 39740.475 | AP91: =+AO91+G91 -> 39740.475 | AQ91: =IF((AM91-AP91)<0,AM91-AP91,0) -> 0 | AR91: =+AM91+(AQ91*-1) -> 41008.766
A92: 17 | B92: M436 | C92: =CONCATENATE("xx",B92) -> xxM436 | D92: 0 | E92: 0 | F92: Körmendi Egészségügyi Nonprofit Kft. | G92: 0 | H92: 2214.2934 | I92: 2234.7402 | J92: 1420.51 | K92: 1145.66 | L92: =+IF(J92<>0,K92/J92-1,0) -> -0.19348685 | M92: 3488.29 | N92: 2617.3154 | O92: =+IF(M92<>0,N92/M92-1,0) -> -0.24968525 | P92: =+IF(AND($O92<=P$2,$O92>Q$2),P$3,0)*$I92 -> 0 | Q92: =+IF(AND($O92<=Q$2,$O92>R$2),Q$3,0)*$I92 -> 0 | R92: =+IF(AND($O92<=R$2,$O92>S$2),R$3,0)*$I92 -> 0 | S92: =+IF(AND($O92<=S$2,$O92>T$2),S$3,0)*$I92 -> 89.38961 | T92: =+IF(AND($O92<=T$2,$O92>U$2),T$3,0)*$I92 -> 0 | U92: =+SUM(P92:T92) -> 89.38961 | V92: =+U92/$U$146 -> 0.0018797599 | W92: =+V92*W$3 -> 89.38961 | Y92: =+IF(X92<>"",I92,"") | AA92: =+IF($Z92>1.02,$Y92,0) -> 0 | AB92: =+IF(X92<>"",AA92/$AA$146,"") | AC92: =+IF(X92<>"",AB92*$AC$3,0) -> 0 | AD92: 249.14536 | AE92: 38.47729 | AF92: =+IF(AD92<>0,AE92/AD92,0) -> 0.15443711 | AG92: =$AG$3*AD92 -> 49.829072 | AH92: =IF(AD92<100,1,0) -> 0 | AI92: =IF(AF92<$AI$3,"1",0) -> 0 | AJ92: =IF((AH92+AI92)>0,0,AG92) -> 49.829072 | AK92: =+H92+W92+AC92 -> 2303.683 | AL92: =+G92+AJ92 -> 49.829072 | AM92: =AK92+AL92 -> 2353.5121 | AN92: 0 | AO92: =+AN92+H92 -> 2214.2934 | AP92: =+AO92+G92 -> 2214.2934 | AQ92: =IF((AM92-AP92)<0,AM92-AP92,0) -> 0 | AR92: =+AM92+(AQ92*-1) -> 2353.5121
A93: 18 | B93: 2535 | C93: =CONCATENATE("xx",B93) -> xx2535 | D93: 1 | E93: 0 | F93: Ajka, Magyar Imre Kórház | G93: 477.16919 | H93: 8372.876 | I93: 8546.4931 | J93: 4761.47 | K93: 4728.5 | L93: =+IF(J93<>0,K93/J93-1,0) -> -0.0069243322 | M93: 10339.65 | N93: 10563.205 | O93: =+IF(M93<>0,N93/M93-1,0) -> 0.021621114 | P93: =+IF(AND($O93<=P$2,$O93>Q$2),P$3,0)*$I93 -> 0 | Q93: =+IF(AND($O93<=Q$2,$O93>R$2),Q$3,0)*$I93 -> 0 | R93: =+IF(AND($O93<=R$2,$O93>S$2),R$3,0)*$I93 -> 0 | S93: =+IF(AND($O93<=S$2,$O93>T$2),S$3,0)*$I93 -> 0 | T93: =+IF(AND($O93<=T$2,$O93>U$2),T$3,0)*$I93 -> 0 | U93: =+SUM(P93:T93) -> 0 | V93: =+U93/$U$146 -> 0 | W93: =+V93*W$3 -> 0 | Y93: =+IF(X93<>"",I93,"") | AA93: =+IF($Z93>1.02,$Y93,0) -> 0 | AB93: =+IF(X93<>"",AA93/$AA$146,"") | AC93: =+IF(X93<>"",AB93*$AC$3,0) -> 0 | AD93: 521.87201 | AE93: 1.09451 | AF93: =+IF(AD93<>0,AE93/AD93,0) -> 0.0020972767 | AG93: =$AG$3*AD93 -> 104.3744 | AH93: =IF(AD93<100,1,0) -> 0 | AI93: =IF(AF93<$AI$3,"1",0) -> 0 | AJ93: =IF((AH93+AI93)>0,0,AG93) -> 104.3744 | AK93: =+H93+W93+AC93 -> 8372.876 | AL93: =+G93+AJ93 -> 581.5436 | AM93: =AK93+AL93 -> 8954.4196 | AN93: 0 | AO93: =+AN93+H93 -> 8372.876 | AP93: =+AO93+G93 -> 8850.0452 | AQ93: =IF((AM93-AP93)<0,AM93-AP93,0) -> 0 | AR93: =+AM93+(AQ93*-1) -> 8954.4196
A94: 18 | B94: 2586 | C94: =CONCATENATE("xx",B94) -> xx2586 | D94: 0 | E94: 0 | F94: Pápa, Gr.Esterházy Kh.-Szakamb | G94: 0 | H94: 5244.1145 | I94: 5399.7895 | J94: 3599.91 | K94: 2986.75 | L94: =+IF(J94<>0,K94/J94-1,0) -> -0.17032648 | M94: 8763.94 | N94: 5997.6534 | O94: =+IF(M94<>0,N94/M94-1,0) -> -0.31564418 | P94: =+IF(AND($O94<=P$2,$O94>Q$2),P$3,0)*$I94 -> 0 | Q94: =+IF(AND($O94<=Q$2,$O94>R$2),Q$3,0)*$I94 -> 0 | R94: =+IF(AND($O94<=R$2,$O94>S$2),R$3,0)*$I94 -> 0 | S94: =+IF(AND($O94<=S$2,$O94>T$2),S$3,0)*$I94 -> 0 | T94: =+IF(AND($O94<=T$2,$O94>U$2),T$3,0)*$I94 -> 269.98947 | U94: =+SUM(P94:T94) -> 269.98947 | V94: =+U94/$U$146 -> 0.0056775657 | W94: =+V94*W$3 -> 269.98947 | Y94: =+IF(X94<>"",I94,"") | AA94: =+IF($Z94>1.02,$Y94,0) -> 0 | AB94: =+IF(X94<>"",AA94/$AA$146,"") | AC94: =+IF(X94<>"",AB94*$AC$3,0) -> 0 | AD94: 691.37623 | AE94: 22.37236 | AF94: =+IF(AD94<>0,AE94/AD94,0) -> 0.032359169 | AG94: =$AG$3*AD94 -> 138.27525 | AH94: =IF(AD94<100,1,0) -> 0 | AI94: =IF(AF94<$AI$3,"1",0) -> 0 | AJ94: =IF((AH94+AI94)>0,0,AG94) -> 138.27525 | AK94: =+H94+W94+AC94 -> 5514.1039 | AL94: =+G94+AJ94 -> 138.27525 | AM94: =AK94+AL94 -> 5652.3792 | AN94: 0 | AO94: =+AN94+H94 -> 5244.1145 | AP94: =+AO94+G94 -> 5244.1145 | AQ94: =IF((AM94-AP94)<0,AM94-AP94,0) -> 0 | AR94: =+AM94+(AQ94*-1) -> 5652.3792
A95: 18 | B95: 2601 | C95: =CONCATENATE("xx",B95) -> xx2601 | D95: 0 | E95: 0 | F95: Farkasgyepű, M.Tüdőgyógyint. | G95: 0 | H95: 2592.1812 | I95: 2798.7549 | J95: 1420.94 | K95: 1221.79 | L95: =+IF(J95<>0,K95/J95-1,0) -> -0.1401537 | M95: 3003.72 | N95: 2485.3071 | O95: =+IF(M95<>0,N95/M95-1,0) -> -0.1725903 | P95: =+IF(AND($O95<=P$2,$O95>Q$2),P$3,0)*$I95 -> 0 | Q95: =+IF(AND($O95<=Q$2,$O95>R$2),Q$3,0)*$I95 -> 0 | R95: =+IF(AND($O95<=R$2,$O95>S$2),R$3,0)*$I95 -> 0 | S95: =+IF(AND($O95<=S$2,$O95>T$2),S$3,0)*$I95 -> 111.95019 | T95: =+IF(AND($O95<=T$2,$O95>U$2),T$3,0)*$I95 -> 0 | U95: =+SUM(P95:T95) -> 111.95019 | V95: =+U95/$U$146 -> 0.0023541828 | W95: =+V95*W$3 -> 111.95019 | X95: szakkórház | Y95: =+IF(X95<>"",I95,"") -> 2798.7549 | Z95: =I95/H95 -> 1.079691 | AA95: =+IF($Z95>1.02,$Y95,0) -> 2798.7549 | AB95: =+IF(X95<>"",AA95/$AA$146,"") -> 0.0020113301 | AC95: =+IF(X95<>"",AB95*$AC$3,0) -> 74.419212 | AD95: 0 | AE95: 0 | AF95: =+IF(AD95<>0,AE95/AD95,0) -> 0 | AG95: =$AG$3*AD95 -> 0 | AH95: =IF(AD95<100,1,0) -> 1 | AI95: =IF(AF95<$AI$3,"1",0) -> 0 | AJ95: =IF((AH95+AI95)>0,0,AG95) -> 0 | AK95: =+H95+W95+AC95 -> 2778.5506 | AL95: =+G95+AJ95 -> 0 | AM95: =AK95+AL95 -> 2778.5506 | AN95: 0 | AO95: =+AN95+H95 -> 2592.1812 | AP95: =+AO95+G95 -> 2592.1812 | AQ95: =IF((AM95-AP95)<0,AM95-AP95,0) -> 0 | AR95: =+AM95+(AQ95*-1) -> 2778.5506
A96: 18 | B96: 2611 | C96: =CONCATENATE("xx",B96) -> xx2611 | D96: 1 | E96: 0 | F96: Zirc Városi Erzsébet Kh.-Ri. | G96: 343.63402 | H96: 0 | I96: 0 | J96: 0 | K96: 0 | L96: =+IF(J96<>0,K96/J96-1,0) -> 0 | M96: 0 | N96: 0 | O96: =+IF(M96<>0,N96/M96-1,0) -> 0 | P96: =+IF(AND($O96<=P$2,$O96>Q$2),P$3,0)*$I96 -> 0 | Q96: =+IF(AND($O96<=Q$2,$O96>R$2),Q$3,0)*$I96 -> 0 | R96: =+IF(AND($O96<=R$2,$O96>S$2),R$3,0)*$I96 -> 0 | S96: =+IF(AND($O96<=S$2,$O96>T$2),S$3,0)*$I96 -> 0 | T96: =+IF(AND($O96<=T$2,$O96>U$2),T$3,0)*$I96 -> 0 | U96: =+SUM(P96:T96) -> 0 | V96: =+U96/$U$146 -> 0 | W96: =+V96*W$3 -> 0 | Y96: =+IF(X96<>"",I96,"") | AA96: =+IF($Z96>1.02,$Y96,0) -> 0 | AB96: =+IF(X96<>"",AA96/$AA$146,"") | AC96: =+IF(X96<>"",AB96*$AC$3,0) -> 0 | AD96: 4.6614 | AE96: 0 | AF96: =+IF(AD96<>0,AE96/AD96,0) -> 0 | AG96: =$AG$3*AD96 -> 0.93228 | AH96: =IF(AD96<100,1,0) -> 1 | AI96: =IF(AF96<$AI$3,"1",0) -> 0 | AJ96: =IF((AH96+AI96)>0,0,AG96) -> 0 | AK96: =+H96+W96+AC96 -> 0 | AL96: =+G96+AJ96 -> 343.63402 | AM96: =AK96+AL96 -> 343.63402 | AN96: 0 | AO96: =+AN96+H96 -> 0 | AP96: =+AO96+G96 -> 343.63402 | AQ96: =IF((AM96-AP96)<0,AM96-AP96,0) -> 0 | AR96: =+AM96+(AQ96*-1) -> 343.63402
A97: 18 | B97: 2893 | C97: =CONCATENATE("xx",B97) -> xx2893 | D97: 0 | E97: 0 | F97: Balatonfüred Állami Kórház | G97: 0 | H97: 5579.4535 | I97: 5801.7657 | J97: 3077.58 | K97: 3284.7 | L97: =+IF(J97<>0,K97/J97-1,0) -> 0.067299632 | M97: 6510.9 | N97: 6425.7046 | O97: =+IF(M97<>0,N97/M97-1,0) -> -0.013085044 | P97: =+IF(AND($O97<=P$2,$O97>Q$2),P$3,0)*$I97 -> 58.017657 | Q97: =+IF(AND($O97<=Q$2,$O97>R$2),Q$3,0)*$I97 -> 0 | R97: =+IF(AND($O97<=R$2,$O97>S$2),R$3,0)*$I97 -> 0 | S97: =+IF(AND($O97<=S$2,$O97>T$2),S$3,0)*$I97 -> 0 | T97: =+IF(AND($O97<=T$2,$O97>U$2),T$3,0)*$I97 -> 0 | U97: =+SUM(P97:T97) -> 58.017657 | V97: =+U97/$U$146 -> 0.0012200441 | W97: =+V97*W$3 -> 58.017657 | X97: országos | Y97: =+IF(X97<>"",I97,"") -> 5801.7657 | Z97: =I97/H97 -> 1.0398448 | AA97: =+IF($Z97>1.02,$Y97,0) -> 5801.7657 | AB97: =+IF(X97<>"",AA97/$AA$146,"") -> 0.004169449 | AC97: =+IF(X97<>"",AB97*$AC$3,0) -> 154.26961 | AD97: 822.88608 | AE97: 0 | AF97: =+IF(AD97<>0,AE97/AD97,0) -> 0 | AG97: =$AG$3*AD97 -> 164.57722 | AH97: =IF(AD97<100,1,0) -> 0 | AI97: =IF(AF97<$AI$3,"1",0) -> 0 | AJ97: =IF((AH97+AI97)>0,0,AG97) -> 164.57722 | AK97: =+H97+W97+AC97 -> 5791.7408 | AL97: =+G97+AJ97 -> 164.57722 | AM97: =AK97+AL97 -> 5956.318 | AN97: 119 | AO97: =+AN97+H97 -> 5698.4535 | AP97: =+AO97+G97 -> 5698.4535 | AQ97: =IF((AM97-AP97)<0,AM97-AP97,0) -> 0 | AR97: =+AM97+(AQ97*-1) -> 5956.318
A98: 18 | B98: C149 | C98: =CONCATENATE("xx",B98) -> xxC149 | D98: 0 | E98: 0 | F98: Pannon Reprodukciós Int. KFT | G98: 0 | H98: 961.62653 | I98: 1532.9216 | J98: 510.39 | K98: 491.95 | L98: =+IF(J98<>0,K98/J98-1,0) -> -0.036129235 | M98: 1042.43 | N98: 987.92537 | O98: =+IF(M98<>0,N98/M98-1,0) -> -0.052286128 | P98: =+IF(AND($O98<=P$2,$O98>Q$2),P$3,0)*$I98 -> 0 | Q98: =+IF(AND($O98<=Q$2,$O98>R$2),Q$3,0)*$I98 -> 30.658432 | R98: =+IF(AND($O98<=R$2,$O98>S$2),R$3,0)*$I98 -> 0 | S98: =+IF(AND($O98<=S$2,$O98>T$2),S$3,0)*$I98 -> 0 | T98: =+IF(AND($O98<=T$2,$O98>U$2),T$3,0)*$I98 -> 0 | U98: =+SUM(P98:T98) -> 30.658432 | V98: =+U98/$U$146 -> 0.00064471129 | W98: =+V98*W$3 -> 30.658432 | Y98: =+IF(X98<>"",I98,"") | AA98: =+IF($Z98>1.02,$Y98,0) -> 0 | AB98: =+IF(X98<>"",AA98/$AA$146,"") | AC98: =+IF(X98<>"",AB98*$AC$3,0) -> 0 | AD98: 0 | AE98: 0 | AF98: =+IF(AD98<>0,AE98/AD98,0) -> 0 | AG98: =$AG$3*AD98 -> 0 | AH98: =IF(AD98<100,1,0) -> 1 | AI98: =IF(AF98<$AI$3,"1",0) -> 0 | AJ98: =IF((AH98+AI98)>0,0,AG98) -> 0 | AK98: =+H98+W98+AC98 -> 992.28496 | AL98: =+G98+AJ98 -> 0 | AM98: =AK98+AL98 -> 992.28496 | AN98: 21 | AO98: =+AN98+H98 -> 982.62653 | AP98: =+AO98+G98 -> 982.62653 | AQ98: =IF((AM98-AP98)<0,AM98-AP98,0) -> 0 | AR98: =+AM98+(AQ98*-1) -> 992.28496
A99: 18 | B99: H505 | C99: =CONCATENATE("xx",B99) -> xxH505 | D99: 1 | E99: 0 | F99: Palotahosp KFT., Várpalota | G99: 578.58069 | H99: 0 | I99: 0 | J99: 0 | K99: 0 | L99: =+IF(J99<>0,K99/J99-1,0) -> 0 | M99: 0 | N99: 0 | O99: =+IF(M99<>0,N99/M99-1,0) -> 0 | P99: =+IF(AND($O99<=P$2,$O99>Q$2),P$3,0)*$I99 -> 0 | Q99: =+IF(AND($O99<=Q$2,$O99>R$2),Q$3,0)*$I99 -> 0 | R99: =+IF(AND($O99<=R$2,$O99>S$2),R$3,0)*$I99 -> 0 | S99: =+IF(AND($O99<=S$2,$O99>T$2),S$3,0)*$I99 -> 0 | T99: =+IF(AND($O99<=T$2,$O99>U$2),T$3,0)*$I99 -> 0 | U99: =+SUM(P99:T99) -> 0 | V99: =+U99/$U$146 -> 0 | W99: =+V99*W$3 -> 0 | Y99: =+IF(X99<>"",I99,"") | AA99: =+IF($Z99>1.02,$Y99,0) -> 0 | AB99: =+IF(X99<>"",AA99/$AA$146,"") | AC99: =+IF(X99<>"",AB99*$AC$3,0) -> 0 | AD99: 0 | AE99: 0 | AF99: =+IF(AD99<>0,AE99/AD99,0) -> 0 | AG99: =$AG$3*AD99 -> 0 | AH99: =IF(AD99<100,1,0) -> 1 | AI99: =IF(AF99<$AI$3,"1",0) -> 0 | AJ99: =IF((AH99+AI99)>0,0,AG99) -> 0 | AK99: =+H99+W99+AC99 -> 0 | AL99: =+G99+AJ99 -> 578.58069 | AM99: =AK99+AL99 -> 578.58069 | AN99: 0 | AO99: =+AN99+H99 -> 0 | AP99: =+AO99+G99 -> 578.58069 | AQ99: =IF((AM99-AP99)<0,AM99-AP99,0) -> 0 | AR99: =+AM99+(AQ99*-1) -> 578.58069
A100: 18 | B100: K676 | C100: =CONCATENATE("xx",B100) -> xxK676 | D100: 0 | E100: 0 | F100: Veszprém, Csolnoky F.Kh.Np.Zrt | G100: 0 | H100: 27521.575 | I100: 29041.345 | J100: 15144.25 | K100: 15603.41 | L100: =+IF(J100<>0,K100/J100-1,0) -> 0.030319098 | M100: 30852.82 | N100: 33261.92 | O100: =+IF(M100<>0,N100/M100-1,0) -> 0.078083608 | P100: =+IF(AND($O100<=P$2,$O100>Q$2),P$3,0)*$I100 -> 0 | Q100: =+IF(AND($O100<=Q$2,$O100>R$2),Q$3,0)*$I100 -> 0 | R100: =+IF(AND($O100<=R$2,$O100>S$2),R$3,0)*$I100 -> 0 | S100: =+IF(AND($O100<=S$2,$O100>T$2),S$3,0)*$I100 -> 0 | T100: =+IF(AND($O100<=T$2,$O100>U$2),T$3,0)*$I100 -> 0 | U100: =+SUM(P100:T100) -> 0 | V100: =+U100/$U$146 -> 0 | W100: =+V100*W$3 -> 0 | X100: megyei | Y100: =+IF(X100<>"",I100,"") -> 29041.345 | Z100: =I100/H100 -> 1.055221 | AA100: =+IF($Z100>1.02,$Y100,0) -> 29041.345 | AB100: =+IF(X100<>"",AA100/$AA$146,"") -> 0.020870613 | AC100: =+IF(X100<>"",AB100*$AC$3,0) -> 772.21268 | AD100: 2089.4873 | AE100: 43.4684 | AF100: =+IF(AD100<>0,AE100/AD100,0) -> 0.02080338 | AG100: =$AG$3*AD100 -> 417.89747 | AH100: =IF(AD100<100,1,0) -> 0 | AI100: =IF(AF100<$AI$3,"1",0) -> 0 | AJ100: =IF((AH100+AI100)>0,0,AG100) -> 417.89747 | AK100: =+H100+W100+AC100 -> 28293.788 | AL100: =+G100+AJ100 -> 417.89747 | AM100: =AK100+AL100 -> 28711.685 | AN100: 599 | AO100: =+AN100+H100 -> 28120.575 | AP100: =+AO100+G100 -> 28120.575 | AQ100: =IF((AM100-AP100)<0,AM100-AP100,0) -> 0 | AR100: =+AM100+(AQ100*-1) -> 28711.685
...

Sheet FEKVO_TVK
A1: FEKVŐ | G1: felső | H1: 0 | I1: -0.05 | J1: -0.1 | K1: -0.15 | L1: -0.28 | M1: -1 | N1: 58000 | T1: 37000 | Y1: 19000
G2: többlet | H2: 0.01 | I2: 0.02 | J2: 0.03 | K2: 0.04 | L2: 0.05 | N2: =+MIN(N1,SUM($H$145:$L$145)) -> 42023.501 | T2: =+MIN(T1,P145) -> 37000 | X2: 0.2 | Y2: =+Y145 -> 26172.575
A3: megye | B3: intkod | C3: nev | D3: A szolgáltató 2010. évi TVK-ja az évközi változások (struktúra, feladat, finanszírozási szabály) átvezetésével, miniszteri tartalék nélkül(súlyszám) a Kr. 27. § (3) bek. szerint | E3: A szolgáltató 2006. évi TVK kerete súlyszámban | F3: A szolgáltató 2008. évi TVK kerete súlyszámban | G3: A struktúra változás hatása TVK2008/TVK2006 a Kr. 27.§ (3b) bek. a) pont | H3: [0-5%[ | I3: [5-10%[ | J3: [10-15%[ | K3: [15-28%[ | L3: [28- %[ | M3: A szolgáltató részesedési aránya az összes figyelembe vehető többlet TVK-ból | N3: A struktúra változás hatásának kompenzálására, a Kr. 27. § (3b) bek. a) pont szerint megállapított többlet TVK | O3: A progresszív és speciális feladatokat ellátó intézmény besorolása, a Kr. 28/A melléklete szerint | P3: A szolgáltató 2010. évi TVK-ja az évközi változások (struktúra, feladat, finanszírozási szabály) átvezetésével, miniszteri tartalék nélkül(súlyszám) a Kr. 27. § (3) bek. szerint | Q3: A szolgáltató 2010 finanszírozási évre vonatkozó TVK kihasználtsága %-ban | R3: Figyelembe vehető 2010. évi TVK, amennyiben a szolgáltató éves TVK kihasználtsága meghaladta a 102%-ot | S3: A szolgáltató részesedési aránya az összes figyelembe vehető 2010-es TVK-ból | T3: A progresszív ellátások kiemelt támogatására, a Kr. 27. § (3b) bek. b) pont szerint megállapított többlet TVK | U3: A szolgálató elszámolt teljesítményéből egynapos formában is ellátható esetek súlyszám összege (*) | V3: A szolgáltató által egynapos formában teljesített és elszámolt szolgáltatások súlyszám összege | W3: Az egynapos formában ellátható esetekből egynapos formában teljesített ellátások aránya | X3: A bázis időszakban egynaposként ellátható teljesítmény súlyszám összegének 20%-a | Y3: Az egtynapos ellátások bővítésére, a Kr. 27. § (3e) bek.szerint megállapított többlet TVK | Z3: A szolgáltató 2011. évi korlátozás nélkül felhasználható TVK kerete | AA3: Pályázat keretében elnyert egynapos TVK 2010. évben (súlyszám) | AB3: A szolgáltató által kizárólag egynapos ellátási formában felhasználható TVK kerete | AC3: A szolgáltató számára megállapított 2011. évi TVK keret összesen | AD3: TVK2010 miniszteri keret | AE3: TVK2010 miniszteri kerettel | AF3: TVK2010 miniszeri kerettel és pályázati egynapossal | AG3: A megállapított TVK eltérése a 2010. évi TVK-tól | AH3: A Kr. 27. § (3c) bek. szerint korrigált, kiközölt TVK 2011. évre
A4: 01 | B4: 1049 | C4: Pécs, Baranya megyei Kórház | D4: 0 | E4: 0 | F4: 0 | G4: =+IF(E4<>0,F4/E4-1,0) -> 0 | H4: =+IF(AND($G4<=H$1,$G4>I$1),H$2,0)*$D4 -> 0 | I4: =+IF(AND($G4<=I$1,$G4>J$1),I$2,0)*$D4 -> 0 | J4: =+IF(AND($G4<=J$1,$G4>K$1),J$2,0)*$D4 -> 0 | K4: =+IF(AND($G4<=K$1,$G4>L$1),K$2,0)*$D4 -> 0 | L4: =+IF(AND($G4<=L$1,$G4>M$1),L$2,0)*$D4 -> 0 | M4: =+SUM(H4:L4)/SUM($H$145:$L$145) -> 0 | N4: =+M4*N$2 -> 0 | P4: =+IF(O4<>"",D4,"") | R4: =+IF($Q4>1.02,$P4,0) -> 0 | S4: =+IF(O4<>"",R4/$R$145,"") | T4: =+IF(O4<>"",S4*$T$2,0) -> 0 | U4: 0 | V4: 0 | W4: =+IF(U4<>0,V4/U4,0) -> 0 | X4: =$X$2*U4 -> 0 | Y4: =IF((U4)<100,0,X4) -> 0 | Z4: =+D4+N4+T4 -> 0 | AA4: 0 | AB4: =+Y4 -> 0 | AC4: =+SUM(Z4:AB4) -> 0 | AD4: 0 | AE4: =+AD4+D4 -> 0 | AF4: =+AE4+AA4 -> 0 | AG4: =IF((AC4-AF4)<0,AC4-AF4,0) -> 0 | AH4: =+AC4+(AG4*-1) -> 0
A5: 01 | B5: 1052 | C5: Mohács, VKh.Ri | D5: 6410.9591 | E5: 10328.44 | F5: 8270.8805 | G5: =+IF(E5<>0,F5/E5-1,0) -> -0.199213 | H5: =+IF(AND($G5<=H$1,$G5>I$1),H$2,0)*$D5 -> 0 | I5: =+IF(AND($G5<=I$1,$G5>J$1),I$2,0)*$D5 -> 0 | J5: =+IF(AND($G5<=J$1,$G5>K$1),J$2,0)*$D5 -> 0 | K5: =+IF(AND($G5<=K$1,$G5>L$1),K$2,0)*$D5 -> 256.43837 | L5: =+IF(AND($G5<=L$1,$G5>M$1),L$2,0)*$D5 -> 0 | M5: =+SUM(H5:L5)/SUM($H$145:$L$145) -> 0.0061022609 | N5: =+M5*N$2 -> 256.43837 | P5: =+IF(O5<>"",D5,"") | R5: =+IF($Q5>1.02,$P5,0) -> 0 | S5: =+IF(O5<>"",R5/$R$145,"") | T5: =+IF(O5<>"",S5*$T$2,0) -> 0 | U5: 198.5443 | V5: 19.67586 | W5: =+IF(U5<>0,V5/U5,0) -> 0.099100604 | X5: =$X$2*U5 -> 39.70886 | Y5: =IF((U5)<100,0,X5) -> 39.70886 | Z5: =+D5+N5+T5 -> 6667.3975 | AA5: 481.69039 | AB5: =+Y5 -> 39.70886 | AC5: =+SUM(Z5:AB5) -> 7188.7967 | AD5: 0 | AE5: =+AD5+D5 -> 6410.9591 | AF5: =+AE5+AA5 -> 6892.6495 | AG5: =IF((AC5-AF5)<0,AC5-AF5,0) -> 0 | AH5: =+AC5+(AG5*-1) -> 7188.7967
A6: 01 | B6: 2912 | C6: Pécsi Tudományegyetem OEKK | D6: 96250.176 | E6: 127893.28 | F6: 113385.33 | G6: =+IF(E6<>0,F6/E6-1,0) -> -0.11343794 | H6: =+IF(AND($G6<=H$1,$G6>I$1),H$2,0)*$D6 -> 0 | I6: =+IF(AND($G6<=I$1,$G6>J$1),I$2,0)*$D6 -> 0 | J6: =+IF(AND($G6<=J$1,$G6>K$1),J$2,0)*$D6 -> 2887.5053 | K6: =+IF(AND($G6<=K$1,$G6>L$1),K$2,0)*$D6 -> 0 | L6: =+IF(AND($G6<=L$1,$G6>M$1),L$2,0)*$D6 -> 0 | M6: =+SUM(H6:L6)/SUM($H$145:$L$145) -> 0.068711679 | N6: =+M6*N$2 -> 2887.5053 | O6: egyetem | P6: =+IF(O6<>"",D6,"") -> 96250.176 | Q6: 1.1480579 | R6: =+IF($Q6>1.02,$P6,0) -> 96250.176 | S6: =+IF(O6<>"",R6/$R$145,"") -> 0.078898589 | T6: =+IF(O6<>"",S6*$T$2,0) -> 2919.2478 | U6: 6093.1813 | V6: 1197.5706 | W6: =+IF(U6<>0,V6/U6,0) -> 0.19654275 | X6: =$X$2*U6 -> 1218.6363 | Y6: =IF((U6)<100,0,X6) -> 1218.6363 | Z6: =+D6+N6+T6 -> 102056.93 | AA6: 0 | AB6: =+Y6 -> 1218.6363 | AC6: =+SUM(Z6:AB6) -> 103275.57 | AD6: 5301 | AE6: =+AD6+D6 -> 101551.18 | AF6: =+AE6+AA6 -> 101551.18 | AG6: =IF((AC6-AF6)<0,AC6-AF6,0) -> 0 | AH6: =+AC6+(AG6*-1) -> 103275.57
A7: 01 | B7: A316 | C7: Siklósi Kh. Hum.Eü.Nonprof.Kft | D7: 530.8309 | E7: 2705.97 | F7: 1089.8968 | G7: =+IF(E7<>0,F7/E7-1,0) -> -0.59722511 | H7: =+IF(AND($G7<=H$1,$G7>I$1),H$2,0)*$D7 -> 0 | I7: =+IF(AND($G7<=I$1,$G7>J$1),I$2,0)*$D7 -> 0 | J7: =+IF(AND($G7<=J$1,$G7>K$1),J$2,0)*$D7 -> 0 | K7: =+IF(AND($G7<=K$1,$G7>L$1),K$2,0)*$D7 -> 0 | L7: =+IF(AND($G7<=L$1,$G7>M$1),L$2,0)*$D7 -> 26.541545 | M7: =+SUM(H7:L7)/SUM($H$145:$L$145) -> 0.00063158814 | N7: =+M7*N$2 -> 26.541545 | P7: =+IF(O7<>"",D7,"") | R7: =+IF($Q7>1.02,$P7,0) -> 0 | S7: =+IF(O7<>"",R7/$R$145,"") | T7: =+IF(O7<>"",S7*$T$2,0) -> 0 | U7: 0 | V7: 0 | W7: =+IF(U7<>0,V7/U7,0) -> 0 | X7: =$X$2*U7 -> 0 | Y7: =IF((U7)<100,0,X7) -> 0 | Z7: =+D7+N7+T7 -> 557.37244 | AA7: 345.33598 | AB7: =+Y7 -> 0 | AC7: =+SUM(Z7:AB7) -> 902.70842 | AD7: 0 | AE7: =+AD7+D7 -> 530.8309 | AF7: =+AE7+AA7 -> 876.16687 | AG7: =IF((AC7-AF7)<0,AC7-AF7,0) -> 0 | AH7: =+AC7+(AG7*-1) -> 902.70842
A8: 01 | B8: C353 | C8: Uro Clin KFT, Pécs | D8: 0 | E8: 0 | F8: 0 | G8: =+IF(E8<>0,F8/E8-1,0) -> 0 | H8: =+IF(AND($G8<=H$1,$G8>I$1),H$2,0)*$D8 -> 0 | I8: =+IF(AND($G8<=I$1,$G8>J$1),I$2,0)*$D8 -> 0 | J8: =+IF(AND($G8<=J$1,$G8>K$1),J$2,0)*$D8 -> 0 | K8: =+IF(AND($G8<=K$1,$G8>L$1),K$2,0)*$D8 -> 0 | L8: =+IF(AND($G8<=L$1,$G8>M$1),L$2,0)*$D8 -> 0 | M8: =+SUM(H8:L8)/SUM($H$145:$L$145) -> 0 | N8: =+M8*N$2 -> 0 | P8: =+IF(O8<>"",D8,"") | R8: =+IF($Q8>1.02,$P8,0) -> 0 | S8: =+IF(O8<>"",R8/$R$145,"") | T8: =+IF(O8<>"",S8*$T$2,0) -> 0 | U8: 1.82472 | V8: 0 | W8: =+IF(U8<>0,V8/U8,0) -> 0 | X8: =$X$2*U8 -> 0.364944 | Y8: =IF((U8)<100,0,X8) -> 0 | Z8: =+D8+N8+T8 -> 0 | AA8: 840 | AB8: =+Y8 -> 0 | AC8: =+SUM(Z8:AB8) -> 840 | AD8: 0 | AE8: =+AD8+D8 -> 0 | AF8: =+AE8+AA8 -> 840 | AG8: =IF((AC8-AF8)<0,AC8-AF8,0) -> 0 | AH8: =+AC8+(AG8*-1) -> 840
A9: 01 | B9: K327 | C9: Szigetvári Eü. Kft. | D9: 4526.2428 | E9: 6983.7 | F9: 5501.2287 | G9: =+IF(E9<>0,F9/E9-1,0) -> -0.21227592 | H9: =+IF(AND($G9<=H$1,$G9>I$1),H$2,0)*$D9 -> 0 | I9: =+IF(AND($G9<=I$1,$G9>J$1),I$2,0)*$D9 -> 0 | J9: =+IF(AND($G9<=J$1,$G9>K$1),J$2,0)*$D9 -> 0 | K9: =+IF(AND($G9<=K$1,$G9>L$1),K$2,0)*$D9 -> 181.04971 | L9: =+IF(AND($G9<=L$1,$G9>M$1),L$2,0)*$D9 -> 0 | M9: =+SUM(H9:L9)/SUM($H$145:$L$145) -> 0.0043082968 | N9: =+M9*N$2 -> 181.04971 | P9: =+IF(O9<>"",D9,"") | R9: =+IF($Q9>1.02,$P9,0) -> 0 | S9: =+IF(O9<>"",R9/$R$145,"") | T9: =+IF(O9<>"",S9*$T$2,0) -> 0 | U9: 214.81698 | V9: 1.92194 | W9: =+IF(U9<>0,V9/U9,0) -> 0.0089468719 | X9: =$X$2*U9 -> 42.963396 | Y9: =IF((U9)<100,0,X9) -> 42.963396 | Z9: =+D9+N9+T9 -> 4707.2926 | AA9: 0 | AB9: =+Y9 -> 42.963396 | AC9: =+SUM(Z9:AB9) -> 4750.2559 | AD9: 0 | AE9: =+AD9+D9 -> 4526.2428 | AF9: =+AE9+AA9 -> 4526.2428 | AG9: =IF((AC9-AF9)<0,AC9-AF9,0) -> 0 | AH9: =+AC9+(AG9*-1) -> 4750.2559
A10: 01 | B10: K526 | C10: Komlói Egészségcentrum Kft. | D10: 1708.3099 | E10: 4886.57 | F10: 2315.8413 | G10: =+IF(E10<>0,F10/E10-1,0) -> -0.5260804 | H10: =+IF(AND($G10<=H$1,$G10>I$1),H$2,0)*$D10 -> 0 | I10: =+IF(AND($G10<=I$1,$G10>J$1),I$2,0)*$D10 -> 0 | J10: =+IF(AND($G10<=J$1,$G10>K$1),J$2,0)*$D10 -> 0 | K10: =+IF(AND($G10<=K$1,$G10>L$1),K$2,0)*$D10 -> 0 | L10: =+IF(AND($G10<=L$1,$G10>M$1),L$2,0)*$D10 -> 85.415495 | M10: =+SUM(H10:L10)/SUM($H$145:$L$145) -> 0.002032565 | N10: =+M10*N$2 -> 85.415495 | P10: =+IF(O10<>"",D10,"") | R10: =+IF($Q10>1.02,$P10,0) -> 0 | S10: =+IF(O10<>"",R10/$R$145,"") | T10: =+IF(O10<>"",S10*$T$2,0) -> 0 | U10: 72.24561 | V10: 0.37552 | W10: =+IF(U10<>0,V10/U10,0) -> 0.0051978245 | X10: =$X$2*U10 -> 14.449122 | Y10: =IF((U10)<100,0,X10) -> 0 | Z10: =+D10+N10+T10 -> 1793.7254 | AA10: 481.68302 | AB10: =+Y10 -> 0 | AC10: =+SUM(Z10:AB10) -> 2275.4084 | AD10: 47 | AE10: =+AD10+D10 -> 1755.3099 | AF10: =+AE10+AA10 -> 2236.9929 | AG10: =IF((AC10-AF10)<0,AC10-AF10,0) -> 0 | AH10: =+AC10+(AG10*-1) -> 2275.4084
A11: 02 | B11: 1084 | C11: Baja, VKh.Ri. | D11: 13353.012 | E11: 21669.6 | F11: 14221.689 | G11: =+IF(E11<>0,F11/E11-1,0) -> -0.34370322 | H11: =+IF(AND($G11<=H$1,$G11>I$1),H$2,0)*$D11 -> 0 | I11: =+IF(AND($G11<=I$1,$G11>J$1),I$2,0)*$D11 -> 0 | J11: =+IF(AND($G11<=J$1,$G11>K$1),J$2,0)*$D11 -> 0 | K11: =+IF(AND($G11<=K$1,$G11>L$1),K$2,0)*$D11 -> 0 | L11: =+IF(AND($G11<=L$1,$G11>M$1),L$2,0)*$D11 -> 667.65062 | M11: =+SUM(H11:L11)/SUM($H$145:$L$145) -> 0.015887554 | N11: =+M11*N$2 -> 667.65062 | P11: =+IF(O11<>"",D11,"") | R11: =+IF($Q11>1.02,$P11,0) -> 0 | S11: =+IF(O11<>"",R11/$R$145,"") | T11: =+IF(O11<>"",S11*$T$2,0) -> 0 | U11: 1339.7771 | V11: 29.70904 | W11: =+IF(U11<>0,V11/U11,0) -> 0.022174614 | X11: =$X$2*U11 -> 267.95542 | Y11: =IF((U11)<100,0,X11) -> 267.95542 | Z11: =+D11+N11+T11 -> 14020.663 | AA11: 0 | AB11: =+Y11 -> 267.95542 | AC11: =+SUM(Z11:AB11) -> 14288.618 | AD11: 0 | AE11: =+AD11+D11 -> 13353.012 | AF11: =+AE11+AA11 -> 13353.012 | AG11: =IF((AC11-AF11)<0,AC11-AF11,0) -> 0 | AH11: =+AC11+(AG11*-1) -> 14288.618
A12: 02 | B12: 1122 | C12: Kecskemét, BKM Önkorm. Kórháza | D12: 45824.842 | E12: 57498.61 | F12: 53955.397 | G12: =+IF(E12<>0,F12/E12-1,0) -> -0.061622593 | H12: =+IF(AND($G12<=H$1,$G12>I$1),H$2,0)*$D12 -> 0 | I12: =+IF(AND($G12<=I$1,$G12>J$1),I$2,0)*$D12 -> 916.49683 | J12: =+IF(AND($G12<=J$1,$G12>K$1),J$2,0)*$D12 -> 0 | K12: =+IF(AND($G12<=K$1,$G12>L$1),K$2,0)*$D12 -> 0 | L12: =+IF(AND($G12<=L$1,$G12>M$1),L$2,0)*$D12 -> 0 | M12: =+SUM(H12:L12)/SUM($H$145:$L$145) -> 0.02180915 | N12: =+M12*N$2 -> 916.49683 | O12: megyei | P12: =+IF(O12<>"",D12,"") -> 45824.842 | Q12: 1.1851285 | R12: =+IF($Q12>1.02,$P12,0) -> 45824.842 | S12: =+IF(O12<>"",R12/$R$145,"") -> 0.037563727 | T12: =+IF(O12<>"",S12*$T$2,0) -> 1389.8579 | U12: 2778.8808 | V12: 779.94903 | W12: =+IF(U12<>0,V12/U12,0) -> 0.2806702 | X12: =$X$2*U12 -> 555.77616 | Y12: =IF((U12)<100,0,X12) -> 555.77616 | Z12: =+D12+N12+T12 -> 48131.196 | AA12: 0 | AB12: =+Y12 -> 555.77616 | AC12: =+SUM(Z12:AB12) -> 48686.972 | AD12: 2869 | AE12: =+AD12+D12 -> 48693.842 | AF12: =+AE12+AA12 -> 48693.842 | AG12: =IF((AC12-AF12)<0,AC12-AF12,0) -> -6.8691136 | AH12: =+AC12+(AG12*-1) -> 48693.842
A13: 02 | B13: 1129 | C13: Kalocsa, VKh. Ri. | D13: 6569.9331 | E13: 9914.71 | F13: 7708.9852 | G13: =+IF(E13<>0,F13/E13-1,0) -> -0.22246993 | H13: =+IF(AND($G13<=H$1,$G13>I$1),H$2,0)*$D13 -> 0 | I13: =+IF(AND($G13<=I$1,$G13>J$1),I$2,0)*$D13 -> 0 | J13: =+IF(AND($G13<=J$1,$G13>K$1),J$2,0)*$D13 -> 0 | K13: =+IF(AND($G13<=K$1,$G13>L$1),K$2,0)*$D13 -> 262.79732 | L13: =+IF(AND($G13<=L$1,$G13>M$1),L$2,0)*$D13 -> 0 | M13: =+SUM(H13:L13)/SUM($H$145:$L$145) -> 0.00625358 | N13: =+M13*N$2 -> 262.79732 | P13: =+IF(O13<>"",D13,"") | R13: =+IF($Q13>1.02,$P13,0) -> 0 | S13: =+IF(O13<>"",R13/$R$145,"") | T13: =+IF(O13<>"",S13*$T$2,0) -> 0 | U13: 208.11854 | V13: 0 | W13: =+IF(U13<>0,V13/U13,0) -> 0 | X13: =$X$2*U13 -> 41.623708 | Y13: =IF((U13)<100,0,X13) -> 41.623708 | Z13: =+D13+N13+T13 -> 6832.7304 | AA13: 0 | AB13: =+Y13 -> 41.623708 | AC13: =+SUM(Z13:AB13) -> 6874.3541 | AD13: 0 | AE13: =+AD13+D13 -> 6569.9331 | AF13: =+AE13+AA13 -> 6569.9331 | AG13: =IF((AC13-AF13)<0,AC13-AF13,0) -> 0 | AH13: =+AC13+(AG13*-1) -> 6874.3541
A14: 02 | B14: 1135 | C14: Kiskunfélegyh.Vkh.Ri.Gyf.Re.Kp | D14: 2910.3089 | E14: 5315.3 | F14: 3318.6799 | G14: =+IF(E14<>0,F14/E14-1,0) -> -0.37563638 | H14: =+IF(AND($G14<=H$1,$G14>I$1),H$2,0)*$D14 -> 0 | I14: =+IF(AND($G14<=I$1,$G14>J$1),I$2,0)*$D14 -> 0 | J14: =+IF(AND($G14<=J$1,$G14>K$1),J$2,0)*$D14 -> 0 | K14: =+IF(AND($G14<=K$1,$G14>L$1),K$2,0)*$D14 -> 0 | L14: =+IF(AND($G14<=L$1,$G14>M$1),L$2,0)*$D14 -> 145.51545 | M14: =+SUM(H14:L14)/SUM($H$145:$L$145) -> 0.0034627159 | N14: =+M14*N$2 -> 145.51545 | P14: =+IF(O14<>"",D14,"") | R14: =+IF($Q14>1.02,$P14,0) -> 0 | S14: =+IF(O14<>"",R14/$R$145,"") | T14: =+IF(O14<>"",S14*$T$2,0) -> 0 | U14: 107.50009 | V14: 17.57077 | W14: =+IF(U14<>0,V14/U14,0) -> 0.16344889 | X14: =$X$2*U14 -> 21.500018 | Y14: =IF((U14)<100,0,X14) -> 21.500018 | Z14: =+D14+N14+T14 -> 3055.8244 | AA14: 0 | AB14: =+Y14 -> 21.500018 | AC14: =+SUM(Z14:AB14) -> 3077.3244 | AD14: 0 | AE14: =+AD14+D14 -> 2910.3089 | AF14: =+AE14+AA14 -> 2910.3089 | AG14: =IF((AC14-AF14)<0,AC14-AF14,0) -> 0 | AH14: =+AC14+(AG14*-1) -> 3077.3244
A15: 02 | B15: M280 | C15: Semmelweis Halasi Kh. Np. Kft. | D15: 14084.446 | E15: 19515.51 | F15: 17648.474 | G15: =+IF(E15<>0,F15/E15-1,0) -> -0.09566935 | H15: =+IF(AND($G15<=H$1,$G15>I$1),H$2,0)*$D15 -> 0 | I15: =+IF(AND($G15<=I$1,$G15>J$1),I$2,0)*$D15 -> 281.68891 | J15: =+IF(AND($G15<=J$1,$G15>K$1),J$2,0)*$D15 -> 0 | K15: =+IF(AND($G15<=K$1,$G15>L$1),K$2,0)*$D15 -> 0 | L15: =+IF(AND($G15<=L$1,$G15>M$1),L$2,0)*$D15 -> 0 | M15: =+SUM(H15:L15)/SUM($H$145:$L$145) -> 0.0067031282 | N15: =+M15*N$2 -> 281.68891 | P15: =+IF(O15<>"",D15,"") | R15: =+IF($Q15>1.02,$P15,0) -> 0 | S15: =+IF(O15<>"",R15/$R$145,"") | T15: =+IF(O15<>"",S15*$T$2,0) -> 0 | U15: 951.97448 | V15: 555.23057 | W15: =+IF(U15<>0,V15/U15,0) -> 0.58324102 | X15: =$X$2*U15 -> 190.3949 | Y15: =IF((U15)<100,0,X15) -> 190.3949 | Z15: =+D15+N15+T15 -> 14366.135 | AA15: 342.24 | AB15: =+Y15 -> 190.3949 | AC15: =+SUM(Z15:AB15) -> 14898.769 | AD15: 309 | AE15: =+AD15+D15 -> 14393.446 | AF15: =+AE15+AA15 -> 14735.686 | AG15: =IF((AC15-AF15)<0,AC15-AF15,0) -> 0 | AH15: =+AC15+(AG15*-1) -> 14898.769
A16: 03 | B16: 1243 | C16: Orosháza, V.Egy.Gy.-M. Int. | D16: 9001.8246 | E16: 13134.42 | F16: 10554.356 | G16: =+IF(E16<>0,F16/E16-1,0) -> -0.19643535 | H16: =+IF(AND($G16<=H$1,$G16>I$1),H$2,0)*$D16 -> 0 | I16: =+IF(AND($G16<=I$1,$G16>J$1),I$2,0)*$D16 -> 0 | J16: =+IF(AND($G16<=J$1,$G16>K$1),J$2,0)*$D16 -> 0 | K16: =+IF(AND($G16<=K$1,$G16>L$1),K$2,0)*$D16 -> 360.07298 | L16: =+IF(AND($G16<=L$1,$G16>M$1),L$2,0)*$D16 -> 0 | M16: =+SUM(H16:L16)/SUM($H$145:$L$145) -> 0.0085683719 | N16: =+M16*N$2 -> 360.07298 | P16: =+IF(O16<>"",D16,"") | R16: =+IF($Q16>1.02,$P16,0) -> 0 | S16: =+IF(O16<>"",R16/$R$145,"") | T16: =+IF(O16<>"",S16*$T$2,0) -> 0 | U16: 897.31336 | V16: 14.05664 | W16: =+IF(U16<>0,V16/U16,0) -> 0.015665252 | X16: =$X$2*U16 -> 179.46267 | Y16: =IF((U16)<100,0,X16) -> 179.46267 | Z16: =+D16+N16+T16 -> 9361.8976 | AA16: 0 | AB16: =+Y16 -> 179.46267 | AC16: =+SUM(Z16:AB16) -> 9541.3602 | AD16: 0 | AE16: =+AD16+D16 -> 9001.8246 | AF16: =+AE16+AA16 -> 9001.8246 | AG16: =IF((AC16-AF16)<0,AC16-AF16,0) -> 0 | AH16: =+AC16+(AG16*-1) -> 9541.3602
A17: 03 | B17: 1248 | C17: Gyula, Pándy Kálmán MKh.Ri. | D17: 32145.707 | E17: 46786.06 | F17: 39691.298 | G17: =+IF(E17<>0,F17/E17-1,0) -> -0.15164265 | H17: =+IF(AND($G17<=H$1,$G17>I$1),H$2,0)*$D17 -> 0 | I17: =+IF(AND($G17<=I$1,$G17>J$1),I$2,0)*$D17 -> 0 | J17: =+IF(AND($G17<=J$1,$G17>K$1),J$2,0)*$D17 -> 0 | K17: =+IF(AND($G17<=K$1,$G17>L$1),K$2,0)*$D17 -> 1285.8283 | L17: =+IF(AND($G17<=L$1,$G17>M$1),L$2,0)*$D17 -> 0 | M17: =+SUM(H17:L17)/SUM($H$145:$L$145) -> 0.030597838 | N17: =+M17*N$2 -> 1285.8283 | O17: megyei | P17: =+IF(O17<>"",D17,"") -> 32145.707 | Q17: 1.1638402 | R17: =+IF($Q17>1.02,$P17,0) -> 32145.707 | S17: =+IF(O17<>"",R17/$R$145,"") -> 0.026350611 | T17: =+IF(O17<>"",S17*$T$2,0) -> 974.97259 | U17: 2030.6175 | V17: 6.86521 | W17: =+IF(U17<>0,V17/U17,0) -> 0.0033808485 | X17: =$X$2*U17 -> 406.1235 | Y17: =IF((U17)<100,0,X17) -> 406.1235 | Z17: =+D17+N17+T17 -> 34406.508 | AA17: 0 | AB17: =+Y17 -> 406.1235 | AC17: =+SUM(Z17:AB17) -> 34812.631 | AD17: 710 | AE17: =+AD17+D17 -> 32855.707 | AF17: =+AE17+AA17 -> 32855.707 | AG17: =IF((AC17-AF17)<0,AC17-AF17,0) -> 0 | AH17: =+AC17+(AG17*-1) -> 34812.631
A18: 03 | B18: 1249 | C18: Békéscsaba, Réthy Pál VKh.Ri. | D18: 11530.342 | E18: 18281.9 | F18: 14009.356 | G18: =+IF(E18<>0,F18/E18-1,0) -> -0.23370348 | H18: =+IF(AND($G18<=H$1,$G18>I$1),H$2,0)*$D18 -> 0 | I18: =+IF(AND($G18<=I$1,$G18>J$1),I$2,0)*$D18 -> 0 | J18: =+IF(AND($G18<=J$1,$G18>K$1),J$2,0)*$D18 -> 0 | K18: =+IF(AND($G18<=K$1,$G18>L$1),K$2,0)*$D18 -> 461.21366 | L18: =+IF(AND($G18<=L$1,$G18>M$1),L$2,0)*$D18 -> 0 | M18: =+SUM(H18:L18)/SUM($H$145:$L$145) -> 0.010975137 | N18: =+M18*N$2 -> 461.21366 | P18: =+IF(O18<>"",D18,"") | R18: =+IF($Q18>1.02,$P18,0) -> 0 | S18: =+IF(O18<>"",R18/$R$145,"") | T18: =+IF(O18<>"",S18*$T$2,0) -> 0 | U18: 494.62359 | V18: 65.41669 | W18: =+IF(U18<>0,V18/U18,0) -> 0.1322555 | X18: =$X$2*U18 -> 98.924718 | Y18: =IF((U18)<100,0,X18) -> 98.924718 | Z18: =+D18+N18+T18 -> 11991.555 | AA18: 477.61351 | AB18: =+Y18 -> 98.924718 | AC18: =+SUM(Z18:AB18) -> 12568.093 | AD18: 0 | AE18: =+AD18+D18 -> 11530.342 | AF18: =+AE18+AA18 -> 12007.955 | AG18: =IF((AC18-AF18)<0,AC18-AF18,0) -> 0 | AH18: =+AC18+(AG18*-1) -> 12568.093
A19: 04 | B19: 1301 | C19: Edelény, Koch Róbert Kh.és Ri. | D19: 3991.3252 | E19: 3861.9 | F19: 3887.813 | G19: =+IF(E19<>0,F19/E19-1,0) -> 0.0067099077 | H19: =+IF(AND($G19<=H$1,$G19>I$1),H$2,0)*$D19 -> 0 | I19: =+IF(AND($G19<=I$1,$G19>J$1),I$2,0)*$D19 -> 0 | J19: =+IF(AND($G19<=J$1,$G19>K$1),J$2,0)*$D19 -> 0 | K19: =+IF(AND($G19<=K$1,$G19>L$1),K$2,0)*$D19 -> 0 | L19: =+IF(AND($G19<=L$1,$G19>M$1),L$2,0)*$D19 -> 0 | M19: =+SUM(H19:L19)/SUM($H$145:$L$145) -> 0 | N19: =+M19*N$2 -> 0 | P19: =+IF(O19<>"",D19,"") | R19: =+IF($Q19>1.02,$P19,0) -> 0 | S19: =+IF(O19<>"",R19/$R$145,"") | T19: =+IF(O19<>"",S19*$T$2,0) -> 0 | U19: 0 | V19: 0 | W19: =+IF(U19<>0,V19/U19,0) -> 0 | X19: =$X$2*U19 -> 0 | Y19: =IF((U19)<100,0,X19) -> 0 | Z19: =+D19+N19+T19 -> 3991.3252 | AA19: 0 | AB19: =+Y19 -> 0 | AC19: =+SUM(Z19:AB19) -> 3991.3252 | AD19: 0 | AE19: =+AD19+D19 -> 3991.3252 | AF19: =+AE19+AA19 -> 3991.3252 | AG19: =IF((AC19-AF19)<0,AC19-AF19,0) -> 0 | AH19: =+AC19+(AG19*-1) -> 3991.3252
A20: 04 | B20: 1349 | C20: Miskolc, BAZ.M.Kh.Egyetemi Okt | D20: 68267.412 | E20: 69888.99 | F20: 79923.199 | G20: =+IF(E20<>0,F20/E20-1,0) -> 0.14357352 | H20: =+IF(AND($G20<=H$1,$G20>I$1),H$2,0)*$D20 -> 0 | I20: =+IF(AND($G20<=I$1,$G20>J$1),I$2,0)*$D20 -> 0 | J20: =+IF(AND($G20<=J$1,$G20>K$1),J$2,0)*$D20 -> 0 | K20: =+IF(AND($G20<=K$1,$G20>L$1),K$2,0)*$D20 -> 0 | L20: =+IF(AND($G20<=L$1,$G20>M$1),L$2,0)*$D20 -> 0 | M20: =+SUM(H20:L20)/SUM($H$145:$L$145) -> 0 | N20: =+M20*N$2 -> 0 | O20: megyei | P20: =+IF(O20<>"",D20,"") -> 68267.412 | Q20: 1.1704743 | R20: =+IF($Q20>1.02,$P20,0) -> 68267.412 | S20: =+IF(O20<>"",R20/$R$145,"") -> 0.055960443 | T20: =+IF(O20<>"",S20*$T$2,0) -> 2070.5364 | U20: 3056.1358 | V20: 258.3376 | W20: =+IF(U20<>0,V20/U20,0) -> 0.084530799 | X20: =$X$2*U20 -> 611.22715 | Y20: =IF((U20)<100,0,X20) -> 611.22715 | Z20: =+D20+N20+T20 -> 70337.948 | AA20: 0 | AB20: =+Y20 -> 611.22715 | AC20: =+SUM(Z20:AB20) -> 70949.175 | AD20: 4245 | AE20: =+AD20+D20 -> 72512.412 | AF20: =+AE20+AA20 -> 72512.412 | AG20: =IF((AC20-AF20)<0,AC20-AF20,0) -> -1563.2365 | AH20: =+AC20+(AG20*-1) -> 72512.412
A21: 04 | B21: 1403 | C21: Szikszó, II. Rákóczi F. Kórház | D21: 0 | E21: 0 | F21: 0 | G21: =+IF(E21<>0,F21/E21-1,0) -> 0 | H21: =+IF(AND($G21<=H$1,$G21>I$1),H$2,0)*$D21 -> 0 | I21: =+IF(AND($G21<=I$1,$G21>J$1),I$2,0)*$D21 -> 0 | J21: =+IF(AND($G21<=J$1,$G21>K$1),J$2,0)*$D21 -> 0 | K21: =+IF(AND($G21<=K$1,$G21>L$1),K$2,0)*$D21 -> 0 | L21: =+IF(AND($G21<=L$1,$G21>M$1),L$2,0)*$D21 -> 0 | M21: =+SUM(H21:L21)/SUM($H$145:$L$145) -> 0 | N21: =+M21*N$2 -> 0 | P21: =+IF(O21<>"",D21,"") | R21: =+IF($Q21>1.02,$P21,0) -> 0 | S21: =+IF(O21<>"",R21/$R$145,"") | T21: =+IF(O21<>"",S21*$T$2,0) -> 0 | U21: 2.11228 | V21: 0 | W21: =+IF(U21<>0,V21/U21,0) -> 0 | X21: =$X$2*U21 -> 0.422456 | Y21: =IF((U21)<100,0,X21) -> 0 | Z21: =+D21+N21+T21 -> 0 | AA21: 861.42223 | AB21: =+Y21 -> 0 | AC21: =+SUM(Z21:AB21) -> 861.42223 | AD21: 0 | AE21: =+AD21+D21 -> 0 | AF21: =+AE21+AA21 -> 861.42223 | AG21: =IF((AC21-AF21)<0,AC21-AF21,0) -> 0 | AH21: =+AC21+(AG21*-1) -> 861.42223
A22: 04 | B22: 1407 | C22: Sátoraljaújhely, Erzsébet VKh. | D22: 8389.1682 | E22: 10481.15 | F22: 9605.1445 | G22: =+IF(E22<>0,F22/E22-1,0) -> -0.083579136 | H22: =+IF(AND($G22<=H$1,$G22>I$1),H$2,0)*$D22 -> 0 | I22: =+IF(AND($G22<=I$1,$G22>J$1),I$2,0)*$D22 -> 167.78336 | J22: =+IF(AND($G22<=J$1,$G22>K$1),J$2,0)*$D22 -> 0 | K22: =+IF(AND($G22<=K$1,$G22>L$1),K$2,0)*$D22 -> 0 | L22: =+IF(AND($G22<=L$1,$G22>M$1),L$2,0)*$D22 -> 0 | M22: =+SUM(H22:L22)/SUM($H$145:$L$145) -> 0.003992608 | N22: =+M22*N$2 -> 167.78336 | P22: =+IF(O22<>"",D22,"") | R22: =+IF($Q22>1.02,$P22,0) -> 0 | S22: =+IF(O22<>"",R22/$R$145,"") | T22: =+IF(O22<>"",S22*$T$2,0) -> 0 | U22: 292.67601 | V22: 0.59696 | W22: =+IF(U22<>0,V22/U22,0) -> 0.0020396615 | X22: =$X$2*U22 -> 58.535202 | Y22: =IF((U22)<100,0,X22) -> 58.535202 | Z22: =+D22+N22+T22 -> 8556.9516 | AA22: 0 | AB22: =+Y22 -> 58.535202 | AC22: =+SUM(Z22:AB22) -> 8615.4868 | AD22: 180 | AE22: =+AD22+D22 -> 8569.1682 | AF22: =+AE22+AA22 -> 8569.1682 | AG22: =IF((AC22-AF22)<0,AC22-AF22,0) -> 0 | AH22: =+AC22+(AG22*-1) -> 8615.4868
A23: 04 | B23: M058 | C23: DEOEC Kazincbarcika Kh. kft. | D23: 7410.0583 | E23: 6621.87 | F23: 6268.4204 | G23: =+IF(E23<>0,F23/E23-1,0) -> -0.053376101 | H23: =+IF(AND($G23<=H$1,$G23>I$1),H$2,0)*$D23 -> 0 | I23: =+IF(AND($G23<=I$1,$G23>J$1),I$2,0)*$D23 -> 148.20117 | J23: =+IF(AND($G23<=J$1,$G23>K$1),J$2,0)*$D23 -> 0 | K23: =+IF(AND($G23<=K$1,$G23>L$1),K$2,0)*$D23 -> 0 | L23: =+IF(AND($G23<=L$1,$G23>M$1),L$2,0)*$D23 -> 0 | M23: =+SUM(H23:L23)/SUM($H$145:$L$145) -> 0.0035266259 | N23: =+M23*N$2 -> 148.20117 | P23: =+IF(O23<>"",D23,"") | R23: =+IF($Q23>1.02,$P23,0) -> 0 | S23: =+IF(O23<>"",R23/$R$145,"") | T23: =+IF(O23<>"",S23*$T$2,0) -> 0 | U23: 426.69627 | V23: 8.78051 | W23: =+IF(U23<>0,V23/U23,0) -> 0.020577893 | X23: =$X$2*U23 -> 85.339254 | Y23: =IF((U23)<100,0,X23) -> 85.339254 | Z23: =+D23+N23+T23 -> 7558.2595 | AA23: 0 | AB23: =+Y23 -> 85.339254 | AC23: =+SUM(Z23:AB23) -> 7643.5987 | AD23: 0 | AE23: =+AD23+D23 -> 7410.0583 | AF23: =+AE23+AA23 -> 7410.0583 | AG23: =IF((AC23-AF23)<0,AC23-AF23,0) -> 0 | AH23: =+AC23+(AG23*-1) -> 7643.5987
A24: 04 | B24: M094 | C24: MISEK | D24: 27146.364 | E24: 37462.43 | F24: 33794.423 | G24: =+IF(E24<>0,F24/E24-1,0) -> -0.097911626 | H24: =+IF(AND($G24<=H$1,$G24>I$1),H$2,0)*$D24 -> 0 | I24: =+IF(AND($G24<=I$1,$G24>J$1),I$2,0)*$D24 -> 542.92729 | J24: =+IF(AND($G24<=J$1,$G24>K$1),J$2,0)*$D24 -> 0 | K24: =+IF(AND($G24<=K$1,$G24>L$1),K$2,0)*$D24 -> 0 | L24: =+IF(AND($G24<=L$1,$G24>M$1),L$2,0)*$D24 -> 0 | M24: =+SUM(H24:L24)/SUM($H$145:$L$145) -> 0.012919611 | N24: =+M24*N$2 -> 542.92729 | P24: =+IF(O24<>"",D24,"") | R24: =+IF($Q24>1.02,$P24,0) -> 0 | S24: =+IF(O24<>"",R24/$R$145,"") | T24: =+IF(O24<>"",S24*$T$2,0) -> 0 | U24: 3426.0015 | V24: 1407.37 | W24: =+IF(U24<>0,V24/U24,0) -> 0.41079082 | X24: =$X$2*U24 -> 685.2003 | Y24: =IF((U24)<100,0,X24) -> 685.2003 | Z24: =+D24+N24+T24 -> 27689.292 | AA24: 0 | AB24: =+Y24 -> 685.2003 | AC24: =+SUM(Z24:AB24) -> 28374.492 | AD24: 800 | AE24: =+AD24+D24 -> 27946.364 | AF24: =+AE24+AA24 -> 27946.364 | AG24: =IF((AC24-AF24)<0,AC24-AF24,0) -> 0 | AH24: =+AC24+(AG24*-1) -> 28374.492
A25: 04 | B25: M132 | C25: Ózd, Almási Balogh Pál Kft. | D25: 7644.0201 | E25: 9166.12 | F25: 9588.7299 | G25: =+IF(E25<>0,F25/E25-1,0) -> 0.046105653 | H25: =+IF(AND($G25<=H$1,$G25>I$1),H$2,0)*$D25 -> 0 | I25: =+IF(AND($G25<=I$1,$G25>J$1),I$2,0)*$D25 -> 0 | J25: =+IF(AND($G25<=J$1,$G25>K$1),J$2,0)*$D25 -> 0 | K25: =+IF(AND($G25<=K$1,$G25>L$1),K$2,0)*$D25 -> 0 | L25: =+IF(AND($G25<=L$1,$G25>M$1),L$2,0)*$D25 -> 0 | M25: =+SUM(H25:L25)/SUM($H$145:$L$145) -> 0 | N25: =+M25*N$2 -> 0 | P25: =+IF(O25<>"",D25,"") | R25: =+IF($Q25>1.02,$P25,0) -> 0 | S25: =+IF(O25<>"",R25/$R$145,"") | T25: =+IF(O25<>"",S25*$T$2,0) -> 0 | U25: 262.89772 | V25: 1.72387 | W25: =+IF(U25<>0,V25/U25,0) -> 0.0065571889 | X25: =$X$2*U25 -> 52.579544 | Y25: =IF((U25)<100,0,X25) -> 52.579544 | Z25: =+D25+N25+T25 -> 7644.0201 | AA25: 0 | AB25: =+Y25 -> 52.579544 | AC25: =+SUM(Z25:AB25) -> 7696.5996 | AD25: 164 | AE25: =+AD25+D25 -> 7808.0201 | AF25: =+AE25+AA25 -> 7808.0201 | AG25: =IF((AC25-AF25)<0,AC25-AF25,0) -> -111.42046 | AH25: =+AC25+(AG25*-1) -> 7808.0201
A26: 05 | B26: 1454 | C26: Hódmezővásárhely,Erzsébet KH.R | D26: 3979.9497 | E26: 10797.72 | F26: 5139.5985 | G26: =+IF(E26<>0,F26/E26-1,0) -> -0.52401077 | H26: =+IF(AND($G26<=H$1,$G26>I$1),H$2,0)*$D26 -> 0 | I26: =+IF(AND($G26<=I$1,$G26>J$1),I$2,0)*$D26 -> 0 | J26: =+IF(AND($G26<=J$1,$G26>K$1),J$2,0)*$D26 -> 0 | K26: =+IF(AND($G26<=K$1,$G26>L$1),K$2,0)*$D26 -> 0 | L26: =+IF(AND($G26<=L$1,$G26>M$1),L$2,0)*$D26 -> 198.99749 | M26: =+SUM(H26:L26)/SUM($H$145:$L$145) -> 0.0047353857 | N26: =+M26*N$2 -> 198.99749 | P26: =+IF(O26<>"",D26,"") | R26: =+IF($Q26>1.02,$P26,0) -> 0 | S26: =+IF(O26<>"",R26/$R$145,"") | T26: =+IF(O26<>"",S26*$T$2,0) -> 0 | U26: 106.39524 | V26: 0 | W26: =+IF(U26<>0,V26/U26,0) -> 0 | X26: =$X$2*U26 -> 21.279048 | Y26: =IF((U26)<100,0,X26) -> 21.279048 | Z26: =+D26+N26+T26 -> 4178.9472 | AA26: 474.55279 | AB26: =+Y26 -> 21.279048 | AC26: =+SUM(Z26:AB26) -> 4674.779 | AD26: 0 | AE26: =+AD26+D26 -> 3979.9497 | AF26: =+AE26+AA26 -> 4454.5025 | AG26: =IF((AC26-AF26)<0,AC26-AF26,0) -> 0 | AH26: =+AC26+(AG26*-1) -> 4674.779
A27: 05 | B27: 1460 | C27: Makó, Dr.Diósszilágyi S.V.Kh. | D27: 3740.862 | E27: 8301 | F27: 4755.6385 | G27: =+IF(E27<>0,F27/E27-1,0) -> -0.42710053 | H27: =+IF(AND($G27<=H$1,$G27>I$1),H$2,0)*$D27 -> 0 | I27: =+IF(AND($G27<=I$1,$G27>J$1),I$2,0)*$D27 -> 0 | J27: =+IF(AND($G27<=J$1,$G27>K$1),J$2,0)*$D27 -> 0 | K27: =+IF(AND($G27<=K$1,$G27>L$1),K$2,0)*$D27 -> 0 | L27: =+IF(AND($G27<=L$1,$G27>M$1),L$2,0)*$D27 -> 187.0431 | M27: =+SUM(H27:L27)/SUM($H$145:$L$145) -> 0.0044509167 | N27: =+M27*N$2 -> 187.0431 | P27: =+IF(O27<>"",D27,"") | R27: =+IF($Q27>1.02,$P27,0) -> 0 | S27: =+IF(O27<>"",R27/$R$145,"") | T27: =+IF(O27<>"",S27*$T$2,0) -> 0 | U27: 170.98982 | V27: 78.47082 | W27: =+IF(U27<>0,V27/U27,0) -> 0.458921 | X27: =$X$2*U27 -> 34.197964 | Y27: =IF((U27)<100,0,X27) -> 34.197964 | Z27: =+D27+N27+T27 -> 3927.9051 | AA27: 376.95129 | AB27: =+Y27 -> 34.197964 | AC27: =+SUM(Z27:AB27) -> 4339.0544 | AD27: 228.76722 | AE27: =+AD27+D27 -> 3969.6293 | AF27: =+AE27+AA27 -> 4346.5806 | AG27: =IF((AC27-AF27)<0,AC27-AF27,0) -> -7.5261565 | AH27: =+AC27+(AG27*-1) -> 4346.5806
A28: 05 | B28: 1484 | C28: Deszk, Mellkasi Betegs.Szakkh. | D28: 3359.6584 | E28: 4519.27 | F28: 3868.0141 | G28: =+IF(E28<>0,F28/E28-1,0) -> -0.14410644 | H28: =+IF(AND($G28<=H$1,$G28>I$1),H$2,0)*$D28 -> 0 | I28: =+IF(AND($G28<=I$1,$G28>J$1),I$2,0)*$D28 -> 0 | J28: =+IF(AND($G28<=J$1,$G28>K$1),J$2,0)*$D28 -> 100.78975 | K28: =+IF(AND($G28<=K$1,$G28>L$1),K$2,0)*$D28 -> 0 | L28: =+IF(AND($G28<=L$1,$G28>M$1),L$2,0)*$D28 -> 0 | M28: =+SUM(H28:L28)/SUM($H$145:$L$145) -> 0.002398414 | N28: =+M28*N$2 -> 100.78975 | O28: szakkórház | P28: =+IF(O28<>"",D28,"") -> 3359.6584 | Q28: 1.1673438 | R28: =+IF($Q28>1.02,$P28,0) -> 3359.6584 | S28: =+IF(O28<>"",R28/$R$145,"") -> 0.0027539929 | T28: =+IF(O28<>"",S28*$T$2,0) -> 101.89774 | U28: 0 | V28: 0 | W28: =+IF(U28<>0,V28/U28,0) -> 0 | X28: =$X$2*U28 -> 0 | Y28: =IF((U28)<100,0,X28) -> 0 | Z28: =+D28+N28+T28 -> 3562.3459 | AA28: 0 | AB28: =+Y28 -> 0 | AC28: =+SUM(Z28:AB28) -> 3562.3459 | AD28: 0 | AE28: =+AD28+D28 -> 3359.6584 | AF28: =+AE28+AA28 -> 3359.6584 | AG28: =IF((AC28-AF28)<0,AC28-AF28,0) -> 0 | AH28: =+AC28+(AG28*-1) -> 3562.3459
A29: 05 | B29: 1487 | C29: Szentes,Cs.M.Önk.dr.Bugyi I.Kh | D29: 11497.36 | E29: 16279.63 | F29: 14134.399 | G29: =+IF(E29<>0,F29/E29-1,0) -> -0.13177395 | H29: =+IF(AND($G29<=H$1,$G29>I$1),H$2,0)*$D29 -> 0 | I29: =+IF(AND($G29<=I$1,$G29>J$1),I$2,0)*$D29 -> 0 | J29: =+IF(AND($G29<=J$1,$G29>K$1),J$2,0)*$D29 -> 344.92081 | K29: =+IF(AND($G29<=K$1,$G29>L$1),K$2,0)*$D29 -> 0 | L29: =+IF(AND($G29<=L$1,$G29>M$1),L$2,0)*$D29 -> 0 | M29: =+SUM(H29:L29)/SUM($H$145:$L$145) -> 0.0082078075 | N29: =+M29*N$2 -> 344.92081 | P29: =+IF(O29<>"",D29,"") | R29: =+IF($Q29>1.02,$P29,0) -> 0 | S29: =+IF(O29<>"",R29/$R$145,"") | T29: =+IF(O29<>"",S29*$T$2,0) -> 0 | U29: 891.12397 | V29: 178.87141 | W29: =+IF(U29<>0,V29/U29,0) -> 0.20072562 | X29: =$X$2*U29 -> 178.22479 | Y29: =IF((U29)<100,0,X29) -> 178.22479 | Z29: =+D29+N29+T29 -> 11842.281 | AA29: 0 | AB29: =+Y29 -> 178.22479 | AC29: =+SUM(Z29:AB29) -> 12020.506 | AD29: 254 | AE29: =+AD29+D29 -> 11751.36 | AF29: =+AE29+AA29 -> 11751.36 | AG29: =IF((AC29-AF29)<0,AC29-AF29,0) -> 0 | AH29: =+AC29+(AG29*-1) -> 12020.506
A30: 05 | B30: 2917 | C30: SZTE Szent-Györgyi A. Kl.Közp. | D30: 81931.408 | E30: 103791.36 | F30: 97499.636 | G30: =+IF(E30<>0,F30/E30-1,0) -> -0.060618953 | H30: =+IF(AND($G30<=H$1,$G30>I$1),H$2,0)*$D30 -> 0 | I30: =+IF(AND($G30<=I$1,$G30>J$1),I$2,0)*$D30 -> 1638.6282 | J30: =+IF(AND($G30<=J$1,$G30>K$1),J$2,0)*$D30 -> 0 | K30: =+IF(AND($G30<=K$1,$G30>L$1),K$2,0)*$D30 -> 0 | L30: =+IF(AND($G30<=L$1,$G30>M$1),L$2,0)*$D30 -> 0 | M30: =+SUM(H30:L30)/SUM($H$145:$L$145) -> 0.038993138 | N30: =+M30*N$2 -> 1638.6282 | O30: egyetem | P30: =+IF(O30<>"",D30,"") -> 81931.408 | Q30: 1.1835475 | R30: =+IF($Q30>1.02,$P30,0) -> 81931.408 | S30: =+IF(O30<>"",R30/$R$145,"") -> 0.06716115 | T30: =+IF(O30<>"",S30*$T$2,0) -> 2484.9625 | U30: 6795.1586 | V30: 2721.9891 | W30: =+IF(U30<>0,V30/U30,0) -> 0.40057772 | X30: =$X$2*U30 -> 1359.0317 | Y30: =IF((U30)<100,0,X30) -> 1359.0317 | Z30: =+D30+N30+T30 -> 86054.999 | AA30: 0 | AB30: =+Y30 -> 1359.0317 | AC30: =+SUM(Z30:AB30) -> 87414.031 | AD30: 5112 | AE30: =+AD30+D30 -> 87043.408 | AF30: =+AE30+AA30 -> 87043.408 | AG30: =IF((AC30-AF30)<0,AC30-AF30,0) -> 0 | AH30: =+AC30+(AG30*-1) -> 87414.031
A31: 05 | B31: M226 | C31: Kisteleki Eü.Közp.Nonprofit Kft. | D31: 0 | E31: 0 | F31: 0 | G31: =+IF(E31<>0,F31/E31-1,0) -> 0 | H31: =+IF(AND($G31<=H$1,$G31>I$1),H$2,0)*$D31 -> 0 | I31: =+IF(AND($G31<=I$1,$G31>J$1),I$2,0)*$D31 -> 0 | J31: =+IF(AND($G31<=J$1,$G31>K$1),J$2,0)*$D31 -> 0 | K31: =+IF(AND($G31<=K$1,$G31>L$1),K$2,0)*$D31 -> 0 | L31: =+IF(AND($G31<=L$1,$G31>M$1),L$2,0)*$D31 -> 0 | M31: =+SUM(H31:L31)/SUM($H$145:$L$145) -> 0 | N31: =+M31*N$2 -> 0 | P31: =+IF(O31<>"",D31,"") | R31: =+IF($Q31>1.02,$P31,0) -> 0 | S31: =+IF(O31<>"",R31/$R$145,"") | T31: =+IF(O31<>"",S31*$T$2,0) -> 0 | U31: 0 | V31: 0 | W31: =+IF(U31<>0,V31/U31,0) -> 0 | X31: =$X$2*U31 -> 0 | Y31: =IF((U31)<100,0,X31) -> 0 | Z31: =+D31+N31+T31 -> 0 | AA31: 343.73628 | AB31: =+Y31 -> 0 | AC31: =+SUM(Z31:AB31) -> 343.73628 | AD31: 0 | AE31: =+AD31+D31 -> 0 | AF31: =+AE31+AA31 -> 343.73628 | AG31: =IF((AC31-AF31)<0,AC31-AF31,0) -> 0 | AH31: =+AC31+(AG31*-1) -> 343.73628
A32: 06 | B32: 1568 | C32: Székesfehérvár, Szt.György MKh | D32: 44847.593 | E32: 52064.88 | F32: 54158.115 | G32: =+IF(E32<>0,F32/E32-1,0) -> 0.04020436 | H32: =+IF(AND($G32<=H$1,$G32>I$1),H$2,0)*$D32 -> 0 | I32: =+IF(AND($G32<=I$1,$G32>J$1),I$2,0)*$D32 -> 0 | J32: =+IF(AND($G32<=J$1,$G32>K$1),J$2,0)*$D32 -> 0 | K32: =+IF(AND($G32<=K$1,$G32>L$1),K$2,0)*$D32 -> 0 | L32: =+IF(AND($G32<=L$1,$G32>M$1),L$2,0)*$D32 -> 0 | M32: =+SUM(H32:L32)/SUM($H$145:$L$145) -> 0 | N32: =+M32*N$2 -> 0 | O32: megyei | P32: =+IF(O32<>"",D32,"") -> 44847.593 | Q32: 1.1446119 | R32: =+IF($Q32>1.02,$P32,0) -> 44847.593 | S32: =+IF(O32<>"",R32/$R$145,"") -> 0.036762653 | T32: =+IF(O32<>"",S32*$T$2,0) -> 1360.2182 | U32: 3318.2927 | V32: 609.3537 | W32: =+IF(U32<>0,V32/U32,0) -> 0.1836347 | X32: =$X$2*U32 -> 663.65855 | Y32: =IF((U32)<100,0,X32) -> 663.65855 | Z32: =+D32+N32+T32 -> 46207.811 | AA32: 0 | AB32: =+Y32 -> 663.65855 | AC32: =+SUM(Z32:AB32) -> 46871.47 | AD32: 964 | AE32: =+AD32+D32 -> 45811.593 | AF32: =+AE32+AA32 -> 45811.593 | AG32: =IF((AC32-AF32)<0,AC32-AF32,0) -> 0 | AH32: =+AC32+(AG32*-1) -> 46871.47
A33: 06 | B33: 1583 | C33: Mór Városi Kórház-Rendelőint. | D33: 552.60349 | E33: 3589.95 | F33: 1054.4889 | G33: =+IF(E33<>0,F33/E33-1,0) -> -0.70626641 | H33: =+IF(AND($G33<=H$1,$G33>I$1),H$2,0)*$D33 -> 0 | I33: =+IF(AND($G33<=I$1,$G33>J$1),I$2,0)*$D33 -> 0 | J33: =+IF(AND($G33<=J$1,$G33>K$1),J$2,0)*$D33 -> 0 | K33: =+IF(AND($G33<=K$1,$G33>L$1),K$2,0)*$D33 -> 0 | L33: =+IF(AND($G33<=L$1,$G33>M$1),L$2,0)*$D33 -> 27.630175 | M33: =+SUM(H33:L33)/SUM($H$145:$L$145) -> 0.00065749341 | N33: =+M33*N$2 -> 27.630175 | P33: =+IF(O33<>"",D33,"") | R33: =+IF($Q33>1.02,$P33,0) -> 0 | S33: =+IF(O33<>"",R33/$R$145,"") | T33: =+IF(O33<>"",S33*$T$2,0) -> 0 | U33: 0.4636 | V33: 0.4636 | W33: =+IF(U33<>0,V33/U33,0) -> 1 | X33: =$X$2*U33 -> 0.09272 | Y33: =IF((U33)<100,0,X33) -> 0 | Z33: =+D33+N33+T33 -> 580.23367 | AA33: 972 | AB33: =+Y33 -> 0 | AC33: =+SUM(Z33:AB33) -> 1552.2337 | AD33: 0 | AE33: =+AD33+D33 -> 552.60349 | AF33: =+AE33+AA33 -> 1524.6035 | AG33: =IF((AC33-AF33)<0,AC33-AF33,0) -> 0 | AH33: =+AC33+(AG33*-1) -> 1552.2337
A34: 06 | B34: C975 | C34: Napfény 2001 KHT | D34: 0 | E34: 0 | F34: 0 | G34: =+IF(E34<>0,F34/E34-1,0) -> 0 | H34: =+IF(AND($G34<=H$1,$G34>I$1),H$2,0)*$D34 -> 0 | I34: =+IF(AND($G34<=I$1,$G34>J$1),I$2,0)*$D34 -> 0 | J34: =+IF(AND($G34<=J$1,$G34>K$1),J$2,0)*$D34 -> 0 | K34: =+IF(AND($G34<=K$1,$G34>L$1),K$2,0)*$D34 -> 0 | L34: =+IF(AND($G34<=L$1,$G34>M$1),L$2,0)*$D34 -> 0 | M34: =+SUM(H34:L34)/SUM($H$145:$L$145) -> 0 | N34: =+M34*N$2 -> 0 | P34: =+IF(O34<>"",D34,"") | R34: =+IF($Q34>1.02,$P34,0) -> 0 | S34: =+IF(O34<>"",R34/$R$145,"") | T34: =+IF(O34<>"",S34*$T$2,0) -> 0 | U34: 0 | V34: 0 | W34: =+IF(U34<>0,V34/U34,0) -> 0 | X34: =$X$2*U34 -> 0 | Y34: =IF((U34)<100,0,X34) -> 0 | Z34: =+D34+N34+T34 -> 0 | AA34: 668.59781 | AB34: =+Y34 -> 0 | AC34: =+SUM(Z34:AB34) -> 668.59781 | AD34: 0 | AE34: =+AD34+D34 -> 0 | AF34: =+AE34+AA34 -> 668.59781 | AG34: =IF((AC34-AF34)<0,AC34-AF34,0) -> 0 | AH34: =+AC34+(AG34*-1) -> 668.59781
A35: 06 | B35: H681 | C35: Dunaújv,Szent Pantaleon Kh.KHT | D35: 17892.706 | E35: 25985.75 | F35: 21236.404 | G35: =+IF(E35<>0,F35/E35-1,0) -> -0.18276734 | H35: =+IF(AND($G35<=H$1,$G35>I$1),H$2,0)*$D35 -> 0 | I35: =+IF(AND($G35<=I$1,$G35>J$1),I$2,0)*$D35 -> 0 | J35: =+IF(AND($G35<=J$1,$G35>K$1),J$2,0)*$D35 -> 0 | K35: =+IF(AND($G35<=K$1,$G35>L$1),K$2,0)*$D35 -> 715.70825 | L35: =+IF(AND($G35<=L$1,$G35>M$1),L$2,0)*$D35 -> 0 | M35: =+SUM(H35:L35)/SUM($H$145:$L$145) -> 0.017031143 | N35: =+M35*N$2 -> 715.70825 | P35: =+IF(O35<>"",D35,"") | R35: =+IF($Q35>1.02,$P35,0) -> 0 | S35: =+IF(O35<>"",R35/$R$145,"") | T35: =+IF(O35<>"",S35*$T$2,0) -> 0 | U35: 1260.9849 | V35: 5.01552 | W35: =+IF(U35<>0,V35/U35,0) -> 0.0039774623 | X35: =$X$2*U35 -> 252.19699 | Y35: =IF((U35)<100,0,X35) -> 252.19699 | Z35: =+D35+N35+T35 -> 18608.414 | AA35: 0 | AB35: =+Y35 -> 252.19699 | AC35: =+SUM(Z35:AB35) -> 18860.611 | AD35: 383 | AE35: =+AD35+D35 -> 18275.706 | AF35: =+AE35+AA35 -> 18275.706 | AG35: =IF((AC35-AF35)<0,AC35-AF35,0) -> 0 | AH35: =+AC35+(AG35*-1) -> 18860.611
A36: 07 | B36: 1601 | C36: Csorna, Margit Kh. | D36: 1738.335 | E36: 4645.27 | F36: 2156.0523 | G36: =+IF(E36<>0,F36/E36-1,0) -> -0.53586071 | H36: =+IF(AND($G36<=H$1,$G36>I$1),H$2,0)*$D36 -> 0 | I36: =+IF(AND($G36<=I$1,$G36>J$1),I$2,0)*$D36 -> 0 | J36: =+IF(AND($G36<=J$1,$G36>K$1),J$2,0)*$D36 -> 0 | K36: =+IF(AND($G36<=K$1,$G36>L$1),K$2,0)*$D36 -> 0 | L36: =+IF(AND($G36<=L$1,$G36>M$1),L$2,0)*$D36 -> 86.916749 | M36: =+SUM(H36:L36)/SUM($H$145:$L$145) -> 0.0020682891 | N36: =+M36*N$2 -> 86.916749 | P36: =+IF(O36<>"",D36,"") | R36: =+IF($Q36>1.02,$P36,0) -> 0 | S36: =+IF(O36<>"",R36/$R$145,"") | T36: =+IF(O36<>"",S36*$T$2,0) -> 0 | U36: 185.3783 | V36: 0 | W36: =+IF(U36<>0,V36/U36,0) -> 0 | X36: =$X$2*U36 -> 37.07566 | Y36: =IF((U36)<100,0,X36) -> 37.07566 | Z36: =+D36+N36+T36 -> 1825.2517 | AA36: 0 | AB36: =+Y36 -> 37.07566 | AC36: =+SUM(Z36:AB36) -> 1862.3274 | AD36: 0 | AE36: =+AD36+D36 -> 1738.335 | AF36: =+AE36+AA36 -> 1738.335 | AG36: =IF((AC36-AF36)<0,AC36-AF36,0) -> 0 | AH36: =+AC36+(AG36*-1) -> 1862.3274
A37: 07 | B37: 1630 | C37: Kapuvár, Lumniczer S. Kh.- Ri. | D37: 0 | E37: 0 | F37: 0 | G37: =+IF(E37<>0,F37/E37-1,0) -> 0 | H37: =+IF(AND($G37<=H$1,$G37>I$1),H$2,0)*$D37 -> 0 | I37: =+IF(AND($G37<=I$1,$G37>J$1),I$2,0)*$D37 -> 0 | J37: =+IF(AND($G37<=J$1,$G37>K$1),J$2,0)*$D37 -> 0 | K37: =+IF(AND($G37<=K$1,$G37>L$1),K$2,0)*$D37 -> 0 | L37: =+IF(AND($G37<=L$1,$G37>M$1),L$2,0)*$D37 -> 0 | M37: =+SUM(H37:L37)/SUM($H$145:$L$145) -> 0 | N37: =+M37*N$2 -> 0 | P37: =+IF(O37<>"",D37,"") | R37: =+IF($Q37>1.02,$P37,0) -> 0 | S37: =+IF(O37<>"",R37/$R$145,"") | T37: =+IF(O37<>"",S37*$T$2,0) -> 0 | U37: 1.16611 | V37: 0 | W37: =+IF(U37<>0,V37/U37,0) -> 0 | X37: =$X$2*U37 -> 0.233222 | Y37: =IF((U37)<100,0,X37) -> 0 | Z37: =+D37+N37+T37 -> 0 | AA37: 376.21209 | AB37: =+Y37 -> 0 | AC37: =+SUM(Z37:AB37) -> 376.21209 | AD37: 0 | AE37: =+AD37+D37 -> 0 | AF37: =+AE37+AA37 -> 376.21209 | AG37: =IF((AC37-AF37)<0,AC37-AF37,0) -> 0 | AH37: =+AC37+(AG37*-1) -> 376.21209
A38: 07 | B38: 1640 | C38: Győr, Petz A.Megyei Oktató Kh. | D38: 42118.297 | E38: 52908.75 | F38: 49419.939 | G38: =+IF(E38<>0,F38/E38-1,0) -> -0.065940143 | H38: =+IF(AND($G38<=H$1,$G38>I$1),H$2,0)*$D38 -> 0 | I38: =+IF(AND($G38<=I$1,$G38>J$1),I$2,0)*$D38 -> 842.36595 | J38: =+IF(AND($G38<=J$1,$G38>K$1),J$2,0)*$D38 -> 0 | K38: =+IF(AND($G38<=K$1,$G38>L$1),K$2,0)*$D38 -> 0 | L38: =+IF(AND($G38<=L$1,$G38>M$1),L$2,0)*$D38 -> 0 | M38: =+SUM(H38:L38)/SUM($H$145:$L$145) -> 0.020045116 | N38: =+M38*N$2 -> 842.36595 | O38: megyei | P38: =+IF(O38<>"",D38,"") -> 42118.297 | Q38: 1.1265806 | R38: =+IF($Q38>1.02,$P38,0) -> 42118.297 | S38: =+IF(O38<>"",R38/$R$145,"") -> 0.034525383 | T38: =+IF(O38<>"",S38*$T$2,0) -> 1277.4392 | U38: 3708.713 | V38: 1758.7046 | W38: =+IF(U38<>0,V38/U38,0) -> 0.47420886 | X38: =$X$2*U38 -> 741.74261 | Y38: =IF((U38)<100,0,X38) -> 741.74261 | Z38: =+D38+N38+T38 -> 44238.102 | AA38: 0 | AB38: =+Y38 -> 741.74261 | AC38: =+SUM(Z38:AB38) -> 44979.845 | AD38: 2605 | AE38: =+AD38+D38 -> 44723.297 | AF38: =+AE38+AA38 -> 44723.297 | AG38: =IF((AC38-AF38)<0,AC38-AF38,0) -> 0 | AH38: =+AC38+(AG38*-1) -> 44979.845
A39: 07 | B39: 1644 | C39: Mosonmagyaróvár, Karolina Kh. | D39: 5326.692 | E39: 7440.11 | F39: 6310.7801 | G39: =+IF(E39<>0,F39/E39-1,0) -> -0.15178941 | H39: =+IF(AND($G39<=H$1,$G39>I$1),H$2,0)*$D39 -> 0 | I39: =+IF(AND($G39<=I$1,$G39>J$1),I$2,0)*$D39 -> 0 | J39: =+IF(AND($G39<=J$1,$G39>K$1),J$2,0)*$D39 -> 0 | K39: =+IF(AND($G39<=K$1,$G39>L$1),K$2,0)*$D39 -> 213.06768 | L39: =+IF(AND($G39<=L$1,$G39>M$1),L$2,0)*$D39 -> 0 | M39: =+SUM(H39:L39)/SUM($H$145:$L$145) -> 0.005070203 | N39: =+M39*N$2 -> 213.06768 | P39: =+IF(O39<>"",D39,"") | R39: =+IF($Q39>1.02,$P39,0) -> 0 | S39: =+IF(O39<>"",R39/$R$145,"") | T39: =+IF(O39<>"",S39*$T$2,0) -> 0 | U39: 354.36663 | V39: 0.20241 | W39: =+IF(U39<>0,V39/U39,0) -> 0.00057118809 | X39: =$X$2*U39 -> 70.873326 | Y39: =IF((U39)<100,0,X39) -> 70.873326 | Z39: =+D39+N39+T39 -> 5539.7597 | AA39: 0 | AB39: =+Y39 -> 70.873326 | AC39: =+SUM(Z39:AB39) -> 5610.633 | AD39: 233.33333 | AE39: =+AD39+D39 -> 5560.0253 | AF39: =+AE39+AA39 -> 5560.0253 | AG39: =IF((AC39-AF39)<0,AC39-AF39,0) -> 0 | AH39: =+AC39+(AG39*-1) -> 5610.633
A40: 07 | B40: 1663 | C40: Sopron MJV. Erzsébet Kh. DEOEC | D40: 13617.977 | E40: 16350.18 | F40: 16376.629 | G40: =+IF(E40<>0,F40/E40-1,0) -> 0.001617633 | H40: =+IF(AND($G40<=H$1,$G40>I$1),H$2,0)*$D40 -> 0 | I40: =+IF(AND($G40<=I$1,$G40>J$1),I$2,0)*$D40 -> 0 | J40: =+IF(AND($G40<=J$1,$G40>K$1),J$2,0)*$D40 -> 0 | K40: =+IF(AND($G40<=K$1,$G40>L$1),K$2,0)*$D40 -> 0 | L40: =+IF(AND($G40<=L$1,$G40>M$1),L$2,0)*$D40 -> 0 | M40: =+SUM(H40:L40)/SUM($H$145:$L$145) -> 0 | N40: =+M40*N$2 -> 0 | P40: =+IF(O40<>"",D40,"") | R40: =+IF($Q40>1.02,$P40,0) -> 0 | S40: =+IF(O40<>"",R40/$R$145,"") | T40: =+IF(O40<>"",S40*$T$2,0) -> 0 | U40: 1517.5336 | V40: 387.23275 | W40: =+IF(U40<>0,V40/U40,0) -> 0.25517244 | X40: =$X$2*U40 -> 303.50672 | Y40: =IF((U40)<100,0,X40) -> 303.50672 | Z40: =+D40+N40+T40 -> 13617.977 | AA40: 0 | AB40: =+Y40 -> 303.50672 | AC40: =+SUM(Z40:AB40) -> 13921.484 | AD40: 764.00169 | AE40: =+AD40+D40 -> 14381.979 | AF40: =+AE40+AA40 -> 14381.979 | AG40: =IF((AC40-AF40)<0,AC40-AF40,0) -> -460.49497 | AH40: =+AC40+(AG40*-1) -> 14381.979
A41: 08 | B41: 1683 | C41: Berettyóújfalu, Területi Kh. | D41: 8725.3706 | E41: 14917.65 | F41: 10141.157 | G41: =+IF(E41<>0,F41/E41-1,0) -> -0.32019074 | H41: =+IF(AND($G41<=H$1,$G41>I$1),H$2,0)*$D41 -> 0 | I41: =+IF(AND($G41<=I$1,$G41>J$1),I$2,0)*$D41 -> 0 | J41: =+IF(AND($G41<=J$1,$G41>K$1),J$2,0)*$D41 -> 0 | K41: =+IF(AND($G41<=K$1,$G41>L$1),K$2,0)*$D41 -> 0 | L41: =+IF(AND($G41<=L$1,$G41>M$1),L$2,0)*$D41 -> 436.26853 | M41: =+SUM(H41:L41)/SUM($H$145:$L$145) -> 0.010381537 | N41: =+M41*N$2 -> 436.26853 | P41: =+IF(O41<>"",D41,"") | R41: =+IF($Q41>1.02,$P41,0) -> 0 | S41: =+IF(O41<>"",R41/$R$145,"") | T41: =+IF(O41<>"",S41*$T$2,0) -> 0 | U41: 641.0389 | V41: 31.17866 | W41: =+IF(U41<>0,V41/U41,0) -> 0.048637704 | X41: =$X$2*U41 -> 128.20778 | Y41: =IF((U41)<100,0,X41) -> 128.20778 | Z41: =+D41+N41+T41 -> 9161.6392 | AA41: 0 | AB41: =+Y41 -> 128.20778 | AC41: =+SUM(Z41:AB41) -> 9289.8469 | AD41: 0 | AE41: =+AD41+D41 -> 8725.3706 | AF41: =+AE41+AA41 -> 8725.3706 | AG41: =IF((AC41-AF41)<0,AC41-AF41,0) -> 0 | AH41: =+AC41+(AG41*-1) -> 9289.8469
A42: 08 | B42: 2894 | C42: DE OEC, Debrecen | D42: 111532.59 | E42: 126303.03 | F42: 112977.09 | G42: =+IF(E42<>0,F42/E42-1,0) -> -0.1055077 | H42: =+IF(AND($G42<=H$1,$G42>I$1),H$2,0)*$D42 -> 0 | I42: =+IF(AND($G42<=I$1,$G42>J$1),I$2,0)*$D42 -> 0 | J42: =+IF(AND($G42<=J$1,$G42>K$1),J$2,0)*$D42 -> 3345.9776 | K42: =+IF(AND($G42<=K$1,$G42>L$1),K$2,0)*$D42 -> 0 | L42: =+IF(AND($G42<=L$1,$G42>M$1),L$2,0)*$D42 -> 0 | M42: =+SUM(H42:L42)/SUM($H$145:$L$145) -> 0.079621582 | N42: =+M42*N$2 -> 3345.9776 | O42: egyetem | P42: =+IF(O42<>"",D42,"") -> 111532.59 | Q42: 1.105539 | R42: =+IF($Q42>1.02,$P42,0) -> 111532.59 | S42: =+IF(O42<>"",R42/$R$145,"") -> 0.091425949 | T42: =+IF(O42<>"",S42*$T$2,0) -> 3382.7601 | U42: 6268.5168 | V42: 931.43615 | W42: =+IF(U42<>0,V42/U42,0) -> 0.14858956 | X42: =$X$2*U42 -> 1253.7034 | Y42: =IF((U42)<100,0,X42) -> 1253.7034 | Z42: =+D42+N42+T42 -> 118261.32 | AA42: 0 | AB42: =+Y42 -> 1253.7034 | AC42: =+SUM(Z42:AB42) -> 119515.03 | AD42: 6899 | AE42: =+AD42+D42 -> 118431.59 | AF42: =+AE42+AA42 -> 118431.59 | AG42: =IF((AC42-AF42)<0,AC42-AF42,0) -> 0 | AH42: =+AC42+(AG42*-1) -> 119515.03
A43: 08 | B43: H049 | C43: Debrecen VESZ Eü. Szolg. KHT | D43: 0 | E43: 0 | F43: 0 | G43: =+IF(E43<>0,F43/E43-1,0) -> 0 | H43: =+IF(AND($G43<=H$1,$G43>I$1),H$2,0)*$D43 -> 0 | I43: =+IF(AND($G43<=I$1,$G43>J$1),I$2,0)*$D43 -> 0 | J43: =+IF(AND($G43<=J$1,$G43>K$1),J$2,0)*$D43 -> 0 | K43: =+IF(AND($G43<=K$1,$G43>L$1),K$2,0)*$D43 -> 0 | L43: =+IF(AND($G43<=L$1,$G43>M$1),L$2,0)*$D43 -> 0 | M43: =+SUM(H43:L43)/SUM($H$145:$L$145) -> 0 | N43: =+M43*N$2 -> 0 | P43: =+IF(O43<>"",D43,"") | R43: =+IF($Q43>1.02,$P43,0) -> 0 | S43: =+IF(O43<>"",R43/$R$145,"") | T43: =+IF(O43<>"",S43*$T$2,0) -> 0 | U43: 0.82118 | V43: 0 | W43: =+IF(U43<>0,V43/U43,0) -> 0 | X43: =$X$2*U43 -> 0.164236 | Y43: =IF((U43)<100,0,X43) -> 0 | Z43: =+D43+N43+T43 -> 0 | AA43: 410.28681 | AB43: =+Y43 -> 0 | AC43: =+SUM(Z43:AB43) -> 410.28681 | AD43: 0 | AE43: =+AD43+D43 -> 0 | AF43: =+AE43+AA43 -> 410.28681 | AG43: =IF((AC43-AF43)<0,AC43-AF43,0) -> 0 | AH43: =+AC43+(AG43*-1) -> 410.28681
A44: 08 | B44: K506 | C44: Debrecen, Kenézy Kórház Ri.Kft | D44: 29092.097 | E44: 49233.55 | F44: 33838.977 | G44: =+IF(E44<>0,F44/E44-1,0) -> -0.31268461 | H44: =+IF(AND($G44<=H$1,$G44>I$1),H$2,0)*$D44 -> 0 | I44: =+IF(AND($G44<=I$1,$G44>J$1),I$2,0)*$D44 -> 0 | J44: =+IF(AND($G44<=J$1,$G44>K$1),J$2,0)*$D44 -> 0 | K44: =+IF(AND($G44<=K$1,$G44>L$1),K$2,0)*$D44 -> 0 | L44: =+IF(AND($G44<=L$1,$G44>M$1),L$2,0)*$D44 -> 1454.6049 | M44: =+SUM(H44:L44)/SUM($H$145:$L$145) -> 0.034614081 | N44: =+M44*N$2 -> 1454.6049 | O44: megyei | P44: =+IF(O44<>"",D44,"") -> 29092.097 | Q44: 1.0943234 | R44: =+IF($Q44>1.02,$P44,0) -> 29092.097 | S44: =+IF(O44<>"",R44/$R$145,"") -> 0.023847493 | T44: =+IF(O44<>"",S44*$T$2,0) -> 882.35725 | U44: 3195.8917 | V44: 933.03852 | W44: =+IF(U44<>0,V44/U44,0) -> 0.29194936 | X44: =$X$2*U44 -> 639.17834 | Y44: =IF((U44)<100,0,X44) -> 639.17834 | Z44: =+D44+N44+T44 -> 31429.059 | AA44: 0 | AB44: =+Y44 -> 639.17834 | AC44: =+SUM(Z44:AB44) -> 32068.238 | AD44: 1000 | AE44: =+AD44+D44 -> 30092.097 | AF44: =+AE44+AA44 -> 30092.097 | AG44: =IF((AC44-AF44)<0,AC44-AF44,0) -> 0 | AH44: =+AC44+(AG44*-1) -> 32068.238
A45: 09 | B45: 2899 | C45: Mátrai Gyógyintézet | D45: 3225.0633 | E45: 4794.27 | F45: 3674.379 | G45: =+IF(E45<>0,F45/E45-1,0) -> -0.23358948 | H45: =+IF(AND($G45<=H$1,$G45>I$1),H$2,0)*$D45 -> 0 | I45: =+IF(AND($G45<=I$1,$G45>J$1),I$2,0)*$D45 -> 0 | J45: =+IF(AND($G45<=J$1,$G45>K$1),J$2,0)*$D45 -> 0 | K45: =+IF(AND($G45<=K$1,$G45>L$1),K$2,0)*$D45 -> 129.00253 | L45: =+IF(AND($G45<=L$1,$G45>M$1),L$2,0)*$D45 -> 0 | M45: =+SUM(H45:L45)/SUM($H$145:$L$145) -> 0.0030697712 | N45: =+M45*N$2 -> 129.00253 | O45: országos | P45: =+IF(O45<>"",D45,"") -> 3225.0633 | Q45: 1.0031804 | R45: =+IF($Q45>1.02,$P45,0) -> 0 | S45: =+IF(O45<>"",R45/$R$145,"") -> 0 | T45: =+IF(O45<>"",S45*$T$2,0) -> 0 | U45: 0 | V45: 0 | W45: =+IF(U45<>0,V45/U45,0) -> 0 | X45: =$X$2*U45 -> 0 | Y45: =IF((U45)<100,0,X45) -> 0 | Z45: =+D45+N45+T45 -> 3354.0658 | AA45: 0 | AB45: =+Y45 -> 0 | AC45: =+SUM(Z45:AB45) -> 3354.0658 | AD45: 0 | AE45: =+AD45+D45 -> 3225.0633 | AF45: =+AE45+AA45 -> 3225.0633 | AG45: =IF((AC45-AF45)<0,AC45-AF45,0) -> 0 | AH45: =+AC45+(AG45*-1) -> 3354.0658
A46: 09 | B46: M243 | C46: Hatvani Városgazd. Np. Közh. Zrt. | D46: 6441.4824 | E46: 11809.39 | F46: 8246.9765 | G46: =+IF(E46<>0,F46/E46-1,0) -> -0.3016594 | H46: =+IF(AND($G46<=H$1,$G46>I$1),H$2,0)*$D46 -> 0 | I46: =+IF(AND($G46<=I$1,$G46>J$1),I$2,0)*$D46 -> 0 | J46: =+IF(AND($G46<=J$1,$G46>K$1),J$2,0)*$D46 -> 0 | K46: =+IF(AND($G46<=K$1,$G46>L$1),K$2,0)*$D46 -> 0 | L46: =+IF(AND($G46<=L$1,$G46>M$1),L$2,0)*$D46 -> 322.07412 | M46: =+SUM(H46:L46)/SUM($H$145:$L$145) -> 0.007664143 | N46: =+M46*N$2 -> 322.07412 | P46: =+IF(O46<>"",D46,"") | R46: =+IF($Q46>1.02,$P46,0) -> 0 | S46: =+IF(O46<>"",R46/$R$145,"") | T46: =+IF(O46<>"",S46*$T$2,0) -> 0 | U46: 434.24415 | V46: 208.40382 | W46: =+IF(U46<>0,V46/U46,0) -> 0.47992315 | X46: =$X$2*U46 -> 86.84883 | Y46: =IF((U46)<100,0,X46) -> 86.84883 | Z46: =+D46+N46+T46 -> 6763.5565 | AA46: 353.9052 | AB46: =+Y46 -> 86.84883 | AC46: =+SUM(Z46:AB46) -> 7204.3105 | AD46: 0 | AE46: =+AD46+D46 -> 6441.4824 | AF46: =+AE46+AA46 -> 6795.3876 | AG46: =IF((AC46-AF46)<0,AC46-AF46,0) -> 0 | AH46: =+AC46+(AG46*-1) -> 7204.3105
A47: 09 | B47: M244 | C47: Gyöngyös Bugát P. Kh Eü. Np. Kft. | D47: 6358.1279 | E47: 14253.11 | F47: 8246.3792 | G47: =+IF(E47<>0,F47/E47-1,0) -> -0.42143299 | H47: =+IF(AND($G47<=H$1,$G47>I$1),H$2,0)*$D47 -> 0 | I47: =+IF(AND($G47<=I$1,$G47>J$1),I$2,0)*$D47 -> 0 | J47: =+IF(AND($G47<=J$1,$G47>K$1),J$2,0)*$D47 -> 0 | K47: =+IF(AND($G47<=K$1,$G47>L$1),K$2,0)*$D47 -> 0 | L47: =+IF(AND($G47<=L$1,$G47>M$1),L$2,0)*$D47 -> 317.9064 | M47: =+SUM(H47:L47)/SUM($H$145:$L$145) -> 0.007564967 | N47: =+M47*N$2 -> 317.9064 | P47: =+IF(O47<>"",D47,"") | R47: =+IF($Q47>1.02,$P47,0) -> 0 | S47: =+IF(O47<>"",R47/$R$145,"") | T47: =+IF(O47<>"",S47*$T$2,0) -> 0 | U47: 790.37719 | V47: 286.79486 | W47: =+IF(U47<>0,V47/U47,0) -> 0.36285822 | X47: =$X$2*U47 -> 158.07544 | Y47: =IF((U47)<100,0,X47) -> 158.07544 | Z47: =+D47+N47+T47 -> 6676.0343 | AA47: 0 | AB47: =+Y47 -> 158.07544 | AC47: =+SUM(Z47:AB47) -> 6834.1098 | AD47: 1351.785 | AE47: =+AD47+D47 -> 7709.9129 | AF47: =+AE47+AA47 -> 7709.9129 | AG47: =IF((AC47-AF47)<0,AC47-AF47,0) -> -875.80316 | AH47: =+AC47+(AG47*-1) -> 7709.9129
A48: 09 | B48: M245 | C48: Markhot Ferenc Np.K.Kh.Kft. | D48: 23689.121 | E48: 33085.21 | F48: 27962.002 | G48: =+IF(E48<>0,F48/E48-1,0) -> -0.15484889 | H48: =+IF(AND($G48<=H$1,$G48>I$1),H$2,0)*$D48 -> 0 | I48: =+IF(AND($G48<=I$1,$G48>J$1),I$2,0)*$D48 -> 0 | J48: =+IF(AND($G48<=J$1,$G48>K$1),J$2,0)*$D48 -> 0 | K48: =+IF(AND($G48<=K$1,$G48>L$1),K$2,0)*$D48 -> 947.56486 | L48: =+IF(AND($G48<=L$1,$G48>M$1),L$2,0)*$D48 -> 0 | M48: =+SUM(H48:L48)/SUM($H$145:$L$145) -> 0.022548451 | N48: =+M48*N$2 -> 947.56486 | O48: megyei | P48: =+IF(O48<>"",D48,"") -> 23689.121 | Q48: 1.0926396 | R48: =+IF($Q48>1.02,$P48,0) -> 23689.121 | S48: =+IF(O48<>"",R48/$R$145,"") -> 0.019418544 | T48: =+IF(O48<>"",S48*$T$2,0) -> 718.48612 | U48: 1674.7263 | V48: 500.90937 | W48: =+IF(U48<>0,V48/U48,0) -> 0.29909924 | X48: =$X$2*U48 -> 334.94527 | Y48: =IF((U48)<100,0,X48) -> 334.94527 | Z48: =+D48+N48+T48 -> 25355.172 | AA48: 0 | AB48: =+Y48 -> 334.94527 | AC48: =+SUM(Z48:AB48) -> 25690.118 | AD48: 510 | AE48: =+AD48+D48 -> 24199.121 | AF48: =+AE48+AA48 -> 24199.121 | AG48: =IF((AC48-AF48)<0,AC48-AF48,0) -> 0 | AH48: =+AC48+(AG48*-1) -> 25690.118
A49: 10 | B49: 1865 | C49: Esztergom,Vaszary Kolos Kórház | D49: 12554.696 | E49: 16814.02 | F49: 15425.695 | G49: =+IF(E49<>0,F49/E49-1,0) -> -0.082569475 | H49: =+IF(AND($G49<=H$1,$G49>I$1),H$2,0)*$D49 -> 0 | I49: =+IF(AND($G49<=I$1,$G49>J$1),I$2,0)*$D49 -> 251.09392 | J49: =+IF(AND($G49<=J$1,$G49>K$1),J$2,0)*$D49 -> 0 | K49: =+IF(AND($G49<=K$1,$G49>L$1),K$2,0)*$D49 -> 0 | L49: =+IF(AND($G49<=L$1,$G49>M$1),L$2,0)*$D49 -> 0 | M49: =+SUM(H49:L49)/SUM($H$145:$L$145) -> 0.0059750833 | N49: =+M49*N$2 -> 251.09392 | P49: =+IF(O49<>"",D49,"") | R49: =+IF($Q49>1.02,$P49,0) -> 0 | S49: =+IF(O49<>"",R49/$R$145,"") | T49: =+IF(O49<>"",S49*$T$2,0) -> 0 | U49: 1266.5654 | V49: 116.63751 | W49: =+IF(U49<>0,V49/U49,0) -> 0.092089609 | X49: =$X$2*U49 -> 253.31307 | Y49: =IF((U49)<100,0,X49) -> 253.31307 | Z49: =+D49+N49+T49 -> 12805.79 | AA49: 0 | AB49: =+Y49 -> 253.31307 | AC49: =+SUM(Z49:AB49) -> 13059.103 | AD49: 0 | AE49: =+AD49+D49 -> 12554.696 | AF49: =+AE49+AA49 -> 12554.696 | AG49: =IF((AC49-AF49)<0,AC49-AF49,0) -> 0 | AH49: =+AC49+(AG49*-1) -> 13059.103
A50: 10 | B50: 1869 | C50: Kisbér, Batthyány Szakkórház | D50: 768.12855 | E50: 1104.43 | F50: 825.25071 | G50: =+IF(E50<>0,F50/E50-1,0) -> -0.25278134 | H50: =+IF(AND($G50<=H$1,$G50>I$1),H$2,0)*$D50 -> 0 | I50: =+IF(AND($G50<=I$1,$G50>J$1),I$2,0)*$D50 -> 0 | J50: =+IF(AND($G50<=J$1,$G50>K$1),J$2,0)*$D50 -> 0 | K50: =+IF(AND($G50<=K$1,$G50>L$1),K$2,0)*$D50 -> 30.725142 | L50: =+IF(AND($G50<=L$1,$G50>M$1),L$2,0)*$D50 -> 0 | M50: =+SUM(H50:L50)/SUM($H$145:$L$145) -> 0.0007311419 | N50: =+M50*N$2 -> 30.725142 | P50: =+IF(O50<>"",D50,"") | R50: =+IF($Q50>1.02,$P50,0) -> 0 | S50: =+IF(O50<>"",R50/$R$145,"") | T50: =+IF(O50<>"",S50*$T$2,0) -> 0 | U50: 1.91325 | V50: 0 | W50: =+IF(U50<>0,V50/U50,0) -> 0 | X50: =$X$2*U50 -> 0.38265 | Y50: =IF((U50)<100,0,X50) -> 0 | Z50: =+D50+N50+T50 -> 798.85369 | AA50: 0 | AB50: =+Y50 -> 0 | AC50: =+SUM(Z50:AB50) -> 798.85369 | AD50: 0 | AE50: =+AD50+D50 -> 768.12855 | AF50: =+AE50+AA50 -> 768.12855 | AG50: =IF((AC50-AF50)<0,AC50-AF50,0) -> 0 | AH50: =+AC50+(AG50*-1) -> 798.85369
A51: 10 | B51: 1871 | C51: Komárom, Selye János Kh. | D51: 2877.4253 | E51: 4663.99 | F51: 3543.5969 | G51: =+IF(E51<>0,F51/E51-1,0) -> -0.24022202 | H51: =+IF(AND($G51<=H$1,$G51>I$1),H$2,0)*$D51 -> 0 | I51: =+IF(AND($G51<=I$1,$G51>J$1),I$2,0)*$D51 -> 0 | J51: =+IF(AND($G51<=J$1,$G51>K$1),J$2,0)*$D51 -> 0 | K51: =+IF(AND($G51<=K$1,$G51>L$1),K$2,0)*$D51 -> 115.09701 | L51: =+IF(AND($G51<=L$1,$G51>M$1),L$2,0)*$D51 -> 0 | M51: =+SUM(H51:L51)/SUM($H$145:$L$145) -> 0.0027388725 | N51: =+M51*N$2 -> 115.09701 | P51: =+IF(O51<>"",D51,"") | R51: =+IF($Q51>1.02,$P51,0) -> 0 | S51: =+IF(O51<>"",R51/$R$145,"") | T51: =+IF(O51<>"",S51*$T$2,0) -> 0 | U51: 231.36017 | V51: 0 | W51: =+IF(U51<>0,V51/U51,0) -> 0 | X51: =$X$2*U51 -> 46.272034 | Y51: =IF((U51)<100,0,X51) -> 46.272034 | Z51: =+D51+N51+T51 -> 2992.5223 | AA51: 0 | AB51: =+Y51 -> 46.272034 | AC51: =+SUM(Z51:AB51) -> 3038.7943 | AD51: 0 | AE51: =+AD51+D51 -> 2877.4253 | AF51: =+AE51+AA51 -> 2877.4253 | AG51: =IF((AC51-AF51)<0,AC51-AF51,0) -> 0 | AH51: =+AC51+(AG51*-1) -> 3038.7943
A52: 10 | B52: 1876 | C52: Tatabánya, Szt. Borbála Kórház | D52: 24230.134 | E52: 28034.88 | F52: 26950.834 | G52: =+IF(E52<>0,F52/E52-1,0) -> -0.038667775 | H52: =+IF(AND($G52<=H$1,$G52>I$1),H$2,0)*$D52 -> 242.30134 | I52: =+IF(AND($G52<=I$1,$G52>J$1),I$2,0)*$D52 -> 0 | J52: =+IF(AND($G52<=J$1,$G52>K$1),J$2,0)*$D52 -> 0 | K52: =+IF(AND($G52<=K$1,$G52>L$1),K$2,0)*$D52 -> 0 | L52: =+IF(AND($G52<=L$1,$G52>M$1),L$2,0)*$D52 -> 0 | M52: =+SUM(H52:L52)/SUM($H$145:$L$145) -> 0.0057658533 | N52: =+M52*N$2 -> 242.30134 | O52: megyei | P52: =+IF(O52<>"",D52,"") -> 24230.134 | Q52: 1.1207052 | R52: =+IF($Q52>1.02,$P52,0) -> 24230.134 | S52: =+IF(O52<>"",R52/$R$145,"") -> 0.019862025 | T52: =+IF(O52<>"",S52*$T$2,0) -> 734.89491 | U52: 2228.3655 | V52: 1189.6024 | W52: =+IF(U52<>0,V52/U52,0) -> 0.53384529 | X52: =$X$2*U52 -> 445.6731 | Y52: =IF((U52)<100,0,X52) -> 445.6731 | Z52: =+D52+N52+T52 -> 25207.33 | AA52: 0 | AB52: =+Y52 -> 445.6731 | AC52: =+SUM(Z52:AB52) -> 25653.003 | AD52: 1775.3333 | AE52: =+AD52+D52 -> 26005.467 | AF52: =+AE52+AA52 -> 26005.467 | AG52: =IF((AC52-AF52)<0,AC52-AF52,0) -> -352.46399 | AH52: =+AC52+(AG52*-1) -> 26005.467
A53: 10 | B53: 1894 | C53: Tata,Árpád-házi Sz.E.Szakkh.Ri | D53: 827.99541 | E53: 1537.38 | F53: 1072.2449 | G53: =+IF(E53<>0,F53/E53-1,0) -> -0.30255051 | H53: =+IF(AND($G53<=H$1,$G53>I$1),H$2,0)*$D53 -> 0 | I53: =+IF(AND($G53<=I$1,$G53>J$1),I$2,0)*$D53 -> 0 | J53: =+IF(AND($G53<=J$1,$G53>K$1),J$2,0)*$D53 -> 0 | K53: =+IF(AND($G53<=K$1,$G53>L$1),K$2,0)*$D53 -> 0 | L53: =+IF(AND($G53<=L$1,$G53>M$1),L$2,0)*$D53 -> 41.39977 | M53: =+SUM(H53:L53)/SUM($H$145:$L$145) -> 0.00098515758 | N53: =+M53*N$2 -> 41.39977 | P53: =+IF(O53<>"",D53,"") | R53: =+IF($Q53>1.02,$P53,0) -> 0 | S53: =+IF(O53<>"",R53/$R$145,"") | T53: =+IF(O53<>"",S53*$T$2,0) -> 0 | U53: 0.7653 | V53: 0 | W53: =+IF(U53<>0,V53/U53,0) -> 0 | X53: =$X$2*U53 -> 0.15306 | Y53: =IF((U53)<100,0,X53) -> 0 | Z53: =+D53+N53+T53 -> 869.39518 | AA53: 0 | AB53: =+Y53 -> 0 | AC53: =+SUM(Z53:AB53) -> 869.39518 | AD53: 0 | AE53: =+AD53+D53 -> 827.99541 | AF53: =+AE53+AA53 -> 827.99541 | AG53: =IF((AC53-AF53)<0,AC53-AF53,0) -> 0 | AH53: =+AC53+(AG53*-1) -> 869.39518
A54: 10 | B54: K404 | C54: Kastélypark Klinika Eü.Sz.Kft. | D54: 0 | E54: 0 | F54: 0 | G54: =+IF(E54<>0,F54/E54-1,0) -> 0 | H54: =+IF(AND($G54<=H$1,$G54>I$1),H$2,0)*$D54 -> 0 | I54: =+IF(AND($G54<=I$1,$G54>J$1),I$2,0)*$D54 -> 0 | J54: =+IF(AND($G54<=J$1,$G54>K$1),J$2,0)*$D54 -> 0 | K54: =+IF(AND($G54<=K$1,$G54>L$1),K$2,0)*$D54 -> 0 | L54: =+IF(AND($G54<=L$1,$G54>M$1),L$2,0)*$D54 -> 0 | M54: =+SUM(H54:L54)/SUM($H$145:$L$145) -> 0 | N54: =+M54*N$2 -> 0 | P54: =+IF(O54<>"",D54,"") | R54: =+IF($Q54>1.02,$P54,0) -> 0 | S54: =+IF(O54<>"",R54/$R$145,"") | T54: =+IF(O54<>"",S54*$T$2,0) -> 0 | U54: 5.34375 | V54: 0 | W54: =+IF(U54<>0,V54/U54,0) -> 0 | X54: =$X$2*U54 -> 1.06875 | Y54: =IF((U54)<100,0,X54) -> 0 | Z54: =+D54+N54+T54 -> 0 | AA54: 381.17352 | AB54: =+Y54 -> 0 | AC54: =+SUM(Z54:AB54) -> 381.17352 | AD54: 0 | AE54: =+AD54+D54 -> 0 | AF54: =+AE54+AA54 -> 381.17352 | AG54: =IF((AC54-AF54)<0,AC54-AF54,0) -> 0 | AH54: =+AC54+(AG54*-1) -> 381.17352
A55: 11 | B55: 1903 | C55: Balassagyarmat,Dr.Kenessey Vkh | D55: 8050.9185 | E55: 12679.78 | F55: 9889.2053 | G55: =+IF(E55<>0,F55/E55-1,0) -> -0.22008069 | H55: =+IF(AND($G55<=H$1,$G55>I$1),H$2,0)*$D55 -> 0 | I55: =+IF(AND($G55<=I$1,$G55>J$1),I$2,0)*$D55 -> 0 | J55: =+IF(AND($G55<=J$1,$G55>K$1),J$2,0)*$D55 -> 0 | K55: =+IF(AND($G55<=K$1,$G55>L$1),K$2,0)*$D55 -> 322.03674 | L55: =+IF(AND($G55<=L$1,$G55>M$1),L$2,0)*$D55 -> 0 | M55: =+SUM(H55:L55)/SUM($H$145:$L$145) -> 0.0076632536 | N55: =+M55*N$2 -> 322.03674 | P55: =+IF(O55<>"",D55,"") | R55: =+IF($Q55>1.02,$P55,0) -> 0 | S55: =+IF(O55<>"",R55/$R$145,"") | T55: =+IF(O55<>"",S55*$T$2,0) -> 0 | U55: 117.68152 | V55: 0 | W55: =+IF(U55<>0,V55/U55,0) -> 0 | X55: =$X$2*U55 -> 23.536304 | Y55: =IF((U55)<100,0,X55) -> 23.536304 | Z55: =+D55+N55+T55 -> 8372.9553 | AA55: 481.49771 | AB55: =+Y55 -> 23.536304 | AC55: =+SUM(Z55:AB55) -> 8877.9893 | AD55: 0 | AE55: =+AD55+D55 -> 8050.9185 | AF55: =+AE55+AA55 -> 8532.4162 | AG55: =IF((AC55-AF55)<0,AC55-AF55,0) -> 0 | AH55: =+AC55+(AG55*-1) -> 8877.9893
A56: 11 | B56: 1928 | C56: Salgótarján,Szent Lázár M.Kh. | D56: 16717.517 | E56: 20743.7 | F56: 19294.298 | G56: =+IF(E56<>0,F56/E56-1,0) -> -0.069871916 | H56: =+IF(AND($G56<=H$1,$G56>I$1),H$2,0)*$D56 -> 0 | I56: =+IF(AND($G56<=I$1,$G56>J$1),I$2,0)*$D56 -> 334.35033 | J56: =+IF(AND($G56<=J$1,$G56>K$1),J$2,0)*$D56 -> 0 | K56: =+IF(AND($G56<=K$1,$G56>L$1),K$2,0)*$D56 -> 0 | L56: =+IF(AND($G56<=L$1,$G56>M$1),L$2,0)*$D56 -> 0 | M56: =+SUM(H56:L56)/SUM($H$145:$L$145) -> 0.0079562703 | N56: =+M56*N$2 -> 334.35033 | O56: megyei | P56: =+IF(O56<>"",D56,"") -> 16717.517 | Q56: 1.128611 | R56: =+IF($Q56>1.02,$P56,0) -> 16717.517 | S56: =+IF(O56<>"",R56/$R$145,"") -> 0.013703751 | T56: =+IF(O56<>"",S56*$T$2,0) -> 507.03879 | U56: 965.1758 | V56: 163.47806 | W56: =+IF(U56<>0,V56/U56,0) -> 0.16937646 | X56: =$X$2*U56 -> 193.03516 | Y56: =IF((U56)<100,0,X56) -> 193.03516 | Z56: =+D56+N56+T56 -> 17558.906 | AA56: 0 | AB56: =+Y56 -> 193.03516 | AC56: =+SUM(Z56:AB56) -> 17751.941 | AD56: 359 | AE56: =+AD56+D56 -> 17076.517 | AF56: =+AE56+AA56 -> 17076.517 | AG56: =IF((AC56-AF56)<0,AC56-AF56,0) -> 0 | AH56: =+AC56+(AG56*-1) -> 17751.941
A57: 11 | B57: 1945 | C57: Pásztó, Margit Kórház | D57: 574.64828 | E57: 4325.23 | F57: 1065.7805 | G57: =+IF(E57<>0,F57/E57-1,0) -> -0.75358987 | H57: =+IF(AND($G57<=H$1,$G57>I$1),H$2,0)*$D57 -> 0 | I57: =+IF(AND($G57<=I$1,$G57>J$1),I$2,0)*$D57 -> 0 | J57: =+IF(AND($G57<=J$1,$G57>K$1),J$2,0)*$D57 -> 0 | K57: =+IF(AND($G57<=K$1,$G57>L$1),K$2,0)*$D57 -> 0 | L57: =+IF(AND($G57<=L$1,$G57>M$1),L$2,0)*$D57 -> 28.732414 | M57: =+SUM(H57:L57)/SUM($H$145:$L$145) -> 0.00068372252 | N57: =+M57*N$2 -> 28.732414 | P57: =+IF(O57<>"",D57,"") | R57: =+IF($Q57>1.02,$P57,0) -> 0 | S57: =+IF(O57<>"",R57/$R$145,"") | T57: =+IF(O57<>"",S57*$T$2,0) -> 0 | U57: 0 | V57: 0 | W57: =+IF(U57<>0,V57/U57,0) -> 0 | X57: =$X$2*U57 -> 0 | Y57: =IF((U57)<100,0,X57) -> 0 | Z57: =+D57+N57+T57 -> 603.38069 | AA57: 378.33991 | AB57: =+Y57 -> 0 | AC57: =+SUM(Z57:AB57) -> 981.7206 | AD57: 0 | AE57: =+AD57+D57 -> 574.64828 | AF57: =+AE57+AA57 -> 952.98818 | AG57: =IF((AC57-AF57)<0,AC57-AF57,0) -> 0 | AH57: =+AC57+(AG57*-1) -> 981.7206
A58: 12 | B58: 1980 | C58: Dr. Halász G.Szakorv.RI. Dabas | D58: 0 | E58: 0 | F58: 0 | G58: =+IF(E58<>0,F58/E58-1,0) -> 0 | H58: =+IF(AND($G58<=H$1,$G58>I$1),H$2,0)*$D58 -> 0 | I58: =+IF(AND($G58<=I$1,$G58>J$1),I$2,0)*$D58 -> 0 | J58: =+IF(AND($G58<=J$1,$G58>K$1),J$2,0)*$D58 -> 0 | K58: =+IF(AND($G58<=K$1,$G58>L$1),K$2,0)*$D58 -> 0 | L58: =+IF(AND($G58<=L$1,$G58>M$1),L$2,0)*$D58 -> 0 | M58: =+SUM(H58:L58)/SUM($H$145:$L$145) -> 0 | N58: =+M58*N$2 -> 0 | P58: =+IF(O58<>"",D58,"") | R58: =+IF($Q58>1.02,$P58,0) -> 0 | S58: =+IF(O58<>"",R58/$R$145,"") | T58: =+IF(O58<>"",S58*$T$2,0) -> 0 | U58: 1.75015 | V58: 0 | W58: =+IF(U58<>0,V58/U58,0) -> 0 | X58: =$X$2*U58 -> 0.35003 | Y58: =IF((U58)<100,0,X58) -> 0 | Z58: =+D58+N58+T58 -> 0 | AA58: 342.97253 | AB58: =+Y58 -> 0 | AC58: =+SUM(Z58:AB58) -> 342.97253 | AD58: 0 | AE58: =+AD58+D58 -> 0 | AF58: =+AE58+AA58 -> 342.97253 | AG58: =IF((AC58-AF58)<0,AC58-AF58,0) -> 0 | AH58: =+AC58+(AG58*-1) -> 342.97253
A59: 12 | B59: 2010 | C59: Pest Megyei Flór Ferenc Kórház | D59: 23269.299 | E59: 23696.94 | F59: 28745.191 | G59: =+IF(E59<>0,F59/E59-1,0) -> 0.21303387 | H59: =+IF(AND($G59<=H$1,$G59>I$1),H$2,0)*$D59 -> 0 | I59: =+IF(AND($G59<=I$1,$G59>J$1),I$2,0)*$D59 -> 0 | J59: =+IF(AND($G59<=J$1,$G59>K$1),J$2,0)*$D59 -> 0 | K59: =+IF(AND($G59<=K$1,$G59>L$1),K$2,0)*$D59 -> 0 | L59: =+IF(AND($G59<=L$1,$G59>M$1),L$2,0)*$D59 -> 0 | M59: =+SUM(H59:L59)/SUM($H$145:$L$145) -> 0 | N59: =+M59*N$2 -> 0 | O59: megyei | P59: =+IF(O59<>"",D59,"") -> 23269.299 | Q59: 1.1085501 | R59: =+IF($Q59>1.02,$P59,0) -> 23269.299 | S59: =+IF(O59<>"",R59/$R$145,"") -> 0.019074405 | T59: =+IF(O59<>"",S59*$T$2,0) -> 705.75299 | U59: 1942.2557 | V59: 592.26579 | W59: =+IF(U59<>0,V59/U59,0) -> 0.30493708 | X59: =$X$2*U59 -> 388.45114 | Y59: =IF((U59)<100,0,X59) -> 388.45114 | Z59: =+D59+N59+T59 -> 23975.052 | AA59: 0 | AB59: =+Y59 -> 388.45114 | AC59: =+SUM(Z59:AB59) -> 24363.503 | AD59: 508 | AE59: =+AD59+D59 -> 23777.299 | AF59: =+AE59+AA59 -> 23777.299 | AG59: =IF((AC59-AF59)<0,AC59-AF59,0) -> 0 | AH59: =+AC59+(AG59*-1) -> 24363.503
A60: 12 | B60: 2049 | C60: Szent Rókus Kórház, Bp. | D60: 0 | E60: 0 | F60: 0 | G60: =+IF(E60<>0,F60/E60-1,0) -> 0 | H60: =+IF(AND($G60<=H$1,$G60>I$1),H$2,0)*$D60 -> 0 | I60: =+IF(AND($G60<=I$1,$G60>J$1),I$2,0)*$D60 -> 0 | J60: =+IF(AND($G60<=J$1,$G60>K$1),J$2,0)*$D60 -> 0 | K60: =+IF(AND($G60<=K$1,$G60>L$1),K$2,0)*$D60 -> 0 | L60: =+IF(AND($G60<=L$1,$G60>M$1),L$2,0)*$D60 -> 0 | M60: =+SUM(H60:L60)/SUM($H$145:$L$145) -> 0 | N60: =+M60*N$2 -> 0 | P60: =+IF(O60<>"",D60,"") | R60: =+IF($Q60>1.02,$P60,0) -> 0 | S60: =+IF(O60<>"",R60/$R$145,"") | T60: =+IF(O60<>"",S60*$T$2,0) -> 0 | U60: 2.90892 | V60: 0 | W60: =+IF(U60<>0,V60/U60,0) -> 0 | X60: =$X$2*U60 -> 0.581784 | Y60: =IF((U60)<100,0,X60) -> 0 | Z60: =+D60+N60+T60 -> 0 | AA60: 1696.0877 | AB60: =+Y60 -> 0 | AC60: =+SUM(Z60:AB60) -> 1696.0877 | AD60: 0 | AE60: =+AD60+D60 -> 0 | AF60: =+AE60+AA60 -> 1696.0877 | AG60: =IF((AC60-AF60)<0,AC60-AF60,0) -> 0 | AH60: =+AC60+(AG60*-1) -> 1696.0877
A61: 12 | B61: 2073 | C61: Tüdőgyógyintézet Törökbálint | D61: 7151.2499 | E61: 7332.84 | F61: 8661.5859 | G61: =+IF(E61<>0,F61/E61-1,0) -> 0.18120481 | H61: =+IF(AND($G61<=H$1,$G61>I$1),H$2,0)*$D61 -> 0 | I61: =+IF(AND($G61<=I$1,$G61>J$1),I$2,0)*$D61 -> 0 | J61: =+IF(AND($G61<=J$1,$G61>K$1),J$2,0)*$D61 -> 0 | K61: =+IF(AND($G61<=K$1,$G61>L$1),K$2,0)*$D61 -> 0 | L61: =+IF(AND($G61<=L$1,$G61>M$1),L$2,0)*$D61 -> 0 | M61: =+SUM(H61:L61)/SUM($H$145:$L$145) -> 0 | N61: =+M61*N$2 -> 0 | O61: szakkórház | P61: =+IF(O61<>"",D61,"") -> 7151.2499 | Q61: 1.1344178 | R61: =+IF($Q61>1.02,$P61,0) -> 7151.2499 | S61: =+IF(O61<>"",R61/$R$145,"") -> 0.0058620519 | T61: =+IF(O61<>"",S61*$T$2,0) -> 216.89592 | U61: 0 | V61: 0 | W61: =+IF(U61<>0,V61/U61,0) -> 0 | X61: =$X$2*U61 -> 0 | Y61: =IF((U61)<100,0,X61) -> 0 | Z61: =+D61+N61+T61 -> 7368.1458 | AA61: 0 | AB61: =+Y61 -> 0 | AC61: =+SUM(Z61:AB61) -> 7368.1458 | AD61: 600 | AE61: =+AD61+D61 -> 7751.2499 | AF61: =+AE61+AA61 -> 7751.2499 | AG61: =IF((AC61-AF61)<0,AC61-AF61,0) -> -383.10408 | AH61: =+AC61+(AG61*-1) -> 7751.2499
A62: 12 | B62: 2090 | C62: Vecsési Egészségügyi Szolgálat | D62: 0 | E62: 0 | F62: 0 | G62: =+IF(E62<>0,F62/E62-1,0) -> 0 | H62: =+IF(AND($G62<=H$1,$G62>I$1),H$2,0)*$D62 -> 0 | I62: =+IF(AND($G62<=I$1,$G62>J$1),I$2,0)*$D62 -> 0 | J62: =+IF(AND($G62<=J$1,$G62>K$1),J$2,0)*$D62 -> 0 | K62: =+IF(AND($G62<=K$1,$G62>L$1),K$2,0)*$D62 -> 0 | L62: =+IF(AND($G62<=L$1,$G62>M$1),L$2,0)*$D62 -> 0 | M62: =+SUM(H62:L62)/SUM($H$145:$L$145) -> 0 | N62: =+M62*N$2 -> 0 | P62: =+IF(O62<>"",D62,"") | R62: =+IF($Q62>1.02,$P62,0) -> 0 | S62: =+IF(O62<>"",R62/$R$145,"") | T62: =+IF(O62<>"",S62*$T$2,0) -> 0 | U62: 0 | V62: 0 | W62: =+IF(U62<>0,V62/U62,0) -> 0 | X62: =$X$2*U62 -> 0 | Y62: =IF((U62)<100,0,X62) -> 0 | Z62: =+D62+N62+T62 -> 0 | AA62: 346.69218 | AB62: =+Y62 -> 0 | AC62: =+SUM(Z62:AB62) -> 346.69218 | AD62: 0 | AE62: =+AD62+D62 -> 0 | AF62: =+AE62+AA62 -> 346.69218 | AG62: =IF((AC62-AF62)<0,AC62-AF62,0) -> 0 | AH62: =+AC62+(AG62*-1) -> 346.69218
A63: 12 | B63: 2095 | C63: Vác, Jávorszky Ödön Városi Kh. | D63: 15563.713 | E63: 18360.25 | F63: 18462.333 | G63: =+IF(E63<>0,F63/E63-1,0) -> 0.0055599867 | H63: =+IF(AND($G63<=H$1,$G63>I$1),H$2,0)*$D63 -> 0 | I63: =+IF(AND($G63<=I$1,$G63>J$1),I$2,0)*$D63 -> 0 | J63: =+IF(AND($G63<=J$1,$G63>K$1),J$2,0)*$D63 -> 0 | K63: =+IF(AND($G63<=K$1,$G63>L$1),K$2,0)*$D63 -> 0 | L63: =+IF(AND($G63<=L$1,$G63>M$1),L$2,0)*$D63 -> 0 | M63: =+SUM(H63:L63)/SUM($H$145:$L$145) -> 0 | N63: =+M63*N$2 -> 0 | P63: =+IF(O63<>"",D63,"") | R63: =+IF($Q63>1.02,$P63,0) -> 0 | S63: =+IF(O63<>"",R63/$R$145,"") | T63: =+IF(O63<>"",S63*$T$2,0) -> 0 | U63: 622.03998 | V63: 200.42631 | W63: =+IF(U63<>0,V63/U63,0) -> 0.32220808 | X63: =$X$2*U63 -> 124.408 | Y63: =IF((U63)<100,0,X63) -> 124.408 | Z63: =+D63+N63+T63 -> 15563.713 | AA63: 0 | AB63: =+Y63 -> 124.408 | AC63: =+SUM(Z63:AB63) -> 15688.121 | AD63: 331 | AE63: =+AD63+D63 -> 15894.713 | AF63: =+AE63+AA63 -> 15894.713 | AG63: =IF((AC63-AF63)<0,AC63-AF63,0) -> -206.592 | AH63: =+AC63+(AG63*-1) -> 15894.713
